{"text_format":"1","workbook":"xlsx","n_sheets":3,"sheets":["hot","temp","x"],"not_rendered":{"charts":0,"images":1,"macros":1,"external_links":0,"defined_names":4,"comments":0,"pivot_tables":0},"unopened":[],"bounds":{"document_bytes":16777216,"sheet_cells":100000,"rows_first":2000,"rows_last":500,"rows_between":2000,"halvings":0,"cell_chars":16384,"cell_head_chars":4096},"cells_cut":0,"cells_raw":0,"read":"whole","date_system":"1900"}

{"sheet":"hot","index":0,"n_rows":126,"n_cols":40,"rows_kept":126,"cut":false,"hidden":false,"merged":[]}
["الراقم","الاسم","الجنسية","مكان الولادة","يوم","شهر","سنة","التربية الإسلامية","اللغة العربية","اللغة الانجليزية","الرياضيات","التربية الاجتماعية والوطنية","العلوم","التربية الفنية","التربية الرياضية","موسيقى و أناشيد","الثقافة المالية","التربية المهنية","الحاسوب","اللغة الفرنسية","الدين المسيحي","ترتيب الطالب  حروف","المجموع","احرف","المعدل","احرف","التربية الإسلامية","اللغة العربية","اللغة الانجليزية","الرياضيات","التربية الاجتماعية والوطنية","العلوم","التربية الفنية","التربية الرياضية","موسيقى و أناشيد","الثقافة المالية","التربية المهنية","الحاسوب","اللغة الفرنسية","الدين المسيحي"]
[null,null,null,null,null,null,null,null,null,null,null,null,null,null,null,null,null,null,null,null,null,{"$f":"IF(COUNT(A2)=1,(ord(A2)&\" على الصف \"),\" \")","v":""},null,{"$f":"IF(COUNT(W2)=1,B_Only(W2,1,1,2,\"علامة\",\"علامتان\",\"علامات\"),\" \")","v":""},{"$f":"IF(COUNT(W2)=1,ROUND(W2/temp!$B$9,2),\" \")","v":""},{"$f":"IF(COUNT(Y2)=1, B_Only(INT(Y2),1,0,2,\"بالمئة\",\"بالمئة\",\"بالمئة\") &\" و  \" &B_Only((Y2-INT(Y2))*100,1,0,2,\"عشر\",\"عشران\",\"اعشار\"),\" \")","v":""},{"$f":"IF(COUNT(H2)=1,B_Only(H2,1,1,2,\"علامة\",\"علامتان\",\"علامات\"),\" \")","v":""},{"$f":"IF(COUNT(I2)=1,B_Only(I2,1,1,2,\"علامة\",\"علامتان\",\"علامات\"),\" \")","v":""},{"$f":"IF(COUNT(J2)=1,B_Only(J2,1,1,2,\"علامة\",\"علامتان\",\"علامات\"),\" \")","v":""},{"$f":"IF(COUNT(K2)=1,B_Only(K2,1,1,2,\"علامة\",\"علامتان\",\"علامات\"),\" \")","v":""},{"$f":"IF(COUNT(L2)=1,B_Only(L2,1,1,2,\"علامة\",\"علامتان\",\"علامات\"),\" \")","v":""},{"$f":"IF(COUNT(M2)=1,B_Only(M2,1,1,2,\"علامة\",\"علامتان\",\"علامات\"),\" \")","v":""},{"$f":"IF(COUNT(N2)=1,B_Only(N2,1,1,2,\"علامة\",\"علامتان\",\"علامات\"),\" \")","v":""},{"$f":"IF(COUNT(O2)=1,B_Only(O2,1,1,2,\"علامة\",\"علامتان\",\"علامات\"),\" \")","v":""},{"$f":"IF(COUNT(P2)=1,B_Only(P2,1,1,2,\"علامة\",\"علامتان\",\"علامات\"),\" \")","v":""},{"$f":"IF(COUNT(Q2)=1,B_Only(Q2,1,1,2,\"علامة\",\"علامتان\",\"علامات\"),\" \")","v":""},{"$f":"IF(COUNT(R2)=1,B_Only(R2,1,1,2,\"علامة\",\"علامتان\",\"علامات\"),\" \")","v":""},{"$f":"IF(COUNT(S2)=1,B_Only(S2,1,1,2,\"علامة\",\"علامتان\",\"علامات\"),\" \")","v":""},{"$f":"IF(COUNT(T2)=1,B_Only(T2,1,1,2,\"علامة\",\"علامتان\",\"علامات\"),\" \")","v":""},{"$f":"IF(COUNT(U2)=1,B_Only(U2,1,1,2,\"علامة\",\"علامتان\",\"علامات\"),\" \")","v":""}]
[null,null,null,null,null,null,null,null,null,null,null,null,null,null,null,null,null,null,null,null,null,{"$f":"IF(COUNT(A3)=1,(ord(A3)&\" على الصف \"),\" \")","v":""},null,{"$f":"IF(COUNT(W3)=1,B_Only(W3,1,1,2,\"علامة\",\"علامتان\",\"علامات\"),\" \")","v":""},{"$f":"IF(COUNT(W3)=1,ROUND(W3/temp!$B$9,2),\" \")","v":""},{"$f":"IF(COUNT(Y3)=1, B_Only(INT(Y3),1,0,2,\"بالمئة\",\"بالمئة\",\"بالمئة\") &\" و  \" &B_Only((Y3-INT(Y3))*100,1,0,2,\"عشر\",\"عشران\",\"اعشار\"),\" \")","v":""},{"$f":"IF(COUNT(H3)=1,B_Only(H3,1,1,2,\"علامة\",\"علامتان\",\"علامات\"),\" \")","v":""},{"$f":"IF(COUNT(I3)=1,B_Only(I3,1,1,2,\"علامة\",\"علامتان\",\"علامات\"),\" \")","v":""},{"$f":"IF(COUNT(J3)=1,B_Only(J3,1,1,2,\"علامة\",\"علامتان\",\"علامات\"),\" \")","v":""},{"$f":"IF(COUNT(K3)=1,B_Only(K3,1,1,2,\"علامة\",\"علامتان\",\"علامات\"),\" \")","v":""},{"$f":"IF(COUNT(L3)=1,B_Only(L3,1,1,2,\"علامة\",\"علامتان\",\"علامات\"),\" \")","v":""},{"$f":"IF(COUNT(M3)=1,B_Only(M3,1,1,2,\"علامة\",\"علامتان\",\"علامات\"),\" \")","v":""},{"$f":"IF(COUNT(N3)=1,B_Only(N3,1,1,2,\"علامة\",\"علامتان\",\"علامات\"),\" \")","v":""},{"$f":"IF(COUNT(O3)=1,B_Only(O3,1,1,2,\"علامة\",\"علامتان\",\"علامات\"),\" \")","v":""},{"$f":"IF(COUNT(P3)=1,B_Only(P3,1,1,2,\"علامة\",\"علامتان\",\"علامات\"),\" \")","v":""},{"$f":"IF(COUNT(Q3)=1,B_Only(Q3,1,1,2,\"علامة\",\"علامتان\",\"علامات\"),\" \")","v":""},{"$f":"IF(COUNT(R3)=1,B_Only(R3,1,1,2,\"علامة\",\"علامتان\",\"علامات\"),\" \")","v":""},{"$f":"IF(COUNT(S3)=1,B_Only(S3,1,1,2,\"علامة\",\"علامتان\",\"علامات\"),\" \")","v":""},{"$f":"IF(COUNT(T3)=1,B_Only(T3,1,1,2,\"علامة\",\"علامتان\",\"علامات\"),\" \")","v":""},{"$f":"IF(COUNT(U3)=1,B_Only(U3,1,1,2,\"علامة\",\"علامتان\",\"علامات\"),\" \")","v":""}]
[null,null,null,null,null,null,null,null,null,null,null,null,null,null,null,null,null,null,null,null,null,{"$f":"IF(COUNT(A4)=1,(ord(A4)&\" على الصف \"),\" \")","v":""},null,{"$f":"IF(COUNT(W4)=1,B_Only(W4,1,1,2,\"علامة\",\"علامتان\",\"علامات\"),\" \")","v":""},{"$f":"IF(COUNT(W4)=1,ROUND(W4/temp!$B$9,2),\" \")","v":""},{"$f":"IF(COUNT(Y4)=1, B_Only(INT(Y4),1,0,2,\"بالمئة\",\"بالمئة\",\"بالمئة\") &\" و  \" &B_Only((Y4-INT(Y4))*100,1,0,2,\"عشر\",\"عشران\",\"اعشار\"),\" \")","v":""},{"$f":"IF(COUNT(H4)=1,B_Only(H4,1,1,2,\"علامة\",\"علامتان\",\"علامات\"),\" \")","v":""},{"$f":"IF(COUNT(I4)=1,B_Only(I4,1,1,2,\"علامة\",\"علامتان\",\"علامات\"),\" \")","v":""},{"$f":"IF(COUNT(J4)=1,B_Only(J4,1,1,2,\"علامة\",\"علامتان\",\"علامات\"),\" \")","v":""},{"$f":"IF(COUNT(K4)=1,B_Only(K4,1,1,2,\"علامة\",\"علامتان\",\"علامات\"),\" \")","v":""},{"$f":"IF(COUNT(L4)=1,B_Only(L4,1,1,2,\"علامة\",\"علامتان\",\"علامات\"),\" \")","v":""},{"$f":"IF(COUNT(M4)=1,B_Only(M4,1,1,2,\"علامة\",\"علامتان\",\"علامات\"),\" \")","v":""},{"$f":"IF(COUNT(N4)=1,B_Only(N4,1,1,2,\"علامة\",\"علامتان\",\"علامات\"),\" \")","v":""},{"$f":"IF(COUNT(O4)=1,B_Only(O4,1,1,2,\"علامة\",\"علامتان\",\"علامات\"),\" \")","v":""},{"$f":"IF(COUNT(P4)=1,B_Only(P4,1,1,2,\"علامة\",\"علامتان\",\"علامات\"),\" \")","v":""},{"$f":"IF(COUNT(Q4)=1,B_Only(Q4,1,1,2,\"علامة\",\"علامتان\",\"علامات\"),\" \")","v":""},{"$f":"IF(COUNT(R4)=1,B_Only(R4,1,1,2,\"علامة\",\"علامتان\",\"علامات\"),\" \")","v":""},{"$f":"IF(COUNT(S4)=1,B_Only(S4,1,1,2,\"علامة\",\"علامتان\",\"علامات\"),\" \")","v":""},{"$f":"IF(COUNT(T4)=1,B_Only(T4,1,1,2,\"علامة\",\"علامتان\",\"علامات\"),\" \")","v":""},{"$f":"IF(COUNT(U4)=1,B_Only(U4,1,1,2,\"علامة\",\"علامتان\",\"علامات\"),\" \")","v":""}]
[null,null,null,null,null,null,null,null,null,null,null,null,null,null,null,null,null,null,null,null,null,{"$f":"IF(COUNT(A5)=1,(ord(A5)&\" على الصف \"),\" \")","v":""},null,{"$f":"IF(COUNT(W5)=1,B_Only(W5,1,1,2,\"علامة\",\"علامتان\",\"علامات\"),\" \")","v":""},{"$f":"IF(COUNT(W5)=1,ROUND(W5/temp!$B$9,2),\" \")","v":""},{"$f":"IF(COUNT(Y5)=1, B_Only(INT(Y5),1,0,2,\"بالمئة\",\"بالمئة\",\"بالمئة\") &\" و  \" &B_Only((Y5-INT(Y5))*100,1,0,2,\"عشر\",\"عشران\",\"اعشار\"),\" \")","v":""},{"$f":"IF(COUNT(H5)=1,B_Only(H5,1,1,2,\"علامة\",\"علامتان\",\"علامات\"),\" \")","v":""},{"$f":"IF(COUNT(I5)=1,B_Only(I5,1,1,2,\"علامة\",\"علامتان\",\"علامات\"),\" \")","v":""},{"$f":"IF(COUNT(J5)=1,B_Only(J5,1,1,2,\"علامة\",\"علامتان\",\"علامات\"),\" \")","v":""},{"$f":"IF(COUNT(K5)=1,B_Only(K5,1,1,2,\"علامة\",\"علامتان\",\"علامات\"),\" \")","v":""},{"$f":"IF(COUNT(L5)=1,B_Only(L5,1,1,2,\"علامة\",\"علامتان\",\"علامات\"),\" \")","v":""},{"$f":"IF(COUNT(M5)=1,B_Only(M5,1,1,2,\"علامة\",\"علامتان\",\"علامات\"),\" \")","v":""},{"$f":"IF(COUNT(N5)=1,B_Only(N5,1,1,2,\"علامة\",\"علامتان\",\"علامات\"),\" \")","v":""},{"$f":"IF(COUNT(O5)=1,B_Only(O5,1,1,2,\"علامة\",\"علامتان\",\"علامات\"),\" \")","v":""},{"$f":"IF(COUNT(P5)=1,B_Only(P5,1,1,2,\"علامة\",\"علامتان\",\"علامات\"),\" \")","v":""},{"$f":"IF(COUNT(Q5)=1,B_Only(Q5,1,1,2,\"علامة\",\"علامتان\",\"علامات\"),\" \")","v":""},{"$f":"IF(COUNT(R5)=1,B_Only(R5,1,1,2,\"علامة\",\"علامتان\",\"علامات\"),\" \")","v":""},{"$f":"IF(COUNT(S5)=1,B_Only(S5,1,1,2,\"علامة\",\"علامتان\",\"علامات\"),\" \")","v":""},{"$f":"IF(COUNT(T5)=1,B_Only(T5,1,1,2,\"علامة\",\"علامتان\",\"علامات\"),\" \")","v":""},{"$f":"IF(COUNT(U5)=1,B_Only(U5,1,1,2,\"علامة\",\"علامتان\",\"علامات\"),\" \")","v":""}]
[null,null,null,null,null,null,null,null,null,null,null,null,null,null,null,null,null,null,null,null,null,{"$f":"IF(COUNT(A6)=1,(ord(A6)&\" على الصف \"),\" \")","v":""},null,{"$f":"IF(COUNT(W6)=1,B_Only(W6,1,1,2,\"علامة\",\"علامتان\",\"علامات\"),\" \")","v":""},{"$f":"IF(COUNT(W6)=1,ROUND(W6/temp!$B$9,2),\" \")","v":""},{"$f":"IF(COUNT(Y6)=1, B_Only(INT(Y6),1,0,2,\"بالمئة\",\"بالمئة\",\"بالمئة\") &\" و  \" &B_Only((Y6-INT(Y6))*100,1,0,2,\"عشر\",\"عشران\",\"اعشار\"),\" \")","v":""},{"$f":"IF(COUNT(H6)=1,B_Only(H6,1,1,2,\"علامة\",\"علامتان\",\"علامات\"),\" \")","v":""},{"$f":"IF(COUNT(I6)=1,B_Only(I6,1,1,2,\"علامة\",\"علامتان\",\"علامات\"),\" \")","v":""},{"$f":"IF(COUNT(J6)=1,B_Only(J6,1,1,2,\"علامة\",\"علامتان\",\"علامات\"),\" \")","v":""},{"$f":"IF(COUNT(K6)=1,B_Only(K6,1,1,2,\"علامة\",\"علامتان\",\"علامات\"),\" \")","v":""},{"$f":"IF(COUNT(L6)=1,B_Only(L6,1,1,2,\"علامة\",\"علامتان\",\"علامات\"),\" \")","v":""},{"$f":"IF(COUNT(M6)=1,B_Only(M6,1,1,2,\"علامة\",\"علامتان\",\"علامات\"),\" \")","v":""},{"$f":"IF(COUNT(N6)=1,B_Only(N6,1,1,2,\"علامة\",\"علامتان\",\"علامات\"),\" \")","v":""},{"$f":"IF(COUNT(O6)=1,B_Only(O6,1,1,2,\"علامة\",\"علامتان\",\"علامات\"),\" \")","v":""},{"$f":"IF(COUNT(P6)=1,B_Only(P6,1,1,2,\"علامة\",\"علامتان\",\"علامات\"),\" \")","v":""},{"$f":"IF(COUNT(Q6)=1,B_Only(Q6,1,1,2,\"علامة\",\"علامتان\",\"علامات\"),\" \")","v":""},{"$f":"IF(COUNT(R6)=1,B_Only(R6,1,1,2,\"علامة\",\"علامتان\",\"علامات\"),\" \")","v":""},{"$f":"IF(COUNT(S6)=1,B_Only(S6,1,1,2,\"علامة\",\"علامتان\",\"علامات\"),\" \")","v":""},{"$f":"IF(COUNT(T6)=1,B_Only(T6,1,1,2,\"علامة\",\"علامتان\",\"علامات\"),\" \")","v":""},{"$f":"IF(COUNT(U6)=1,B_Only(U6,1,1,2,\"علامة\",\"علامتان\",\"علامات\"),\" \")","v":""}]
[null,null,null,null,null,null,null,null,null,null,null,null,null,null,null,null,null,null,null,null,null,{"$f":"IF(COUNT(A7)=1,(ord(A7)&\" على الصف \"),\" \")","v":""},null,{"$f":"IF(COUNT(W7)=1,B_Only(W7,1,1,2,\"علامة\",\"علامتان\",\"علامات\"),\" \")","v":""},{"$f":"IF(COUNT(W7)=1,ROUND(W7/temp!$B$9,2),\" \")","v":""},{"$f":"IF(COUNT(Y7)=1, B_Only(INT(Y7),1,0,2,\"بالمئة\",\"بالمئة\",\"بالمئة\") &\" و  \" &B_Only((Y7-INT(Y7))*100,1,0,2,\"عشر\",\"عشران\",\"اعشار\"),\" \")","v":""},{"$f":"IF(COUNT(H7)=1,B_Only(H7,1,1,2,\"علامة\",\"علامتان\",\"علامات\"),\" \")","v":""},{"$f":"IF(COUNT(I7)=1,B_Only(I7,1,1,2,\"علامة\",\"علامتان\",\"علامات\"),\" \")","v":""},{"$f":"IF(COUNT(J7)=1,B_Only(J7,1,1,2,\"علامة\",\"علامتان\",\"علامات\"),\" \")","v":""},{"$f":"IF(COUNT(K7)=1,B_Only(K7,1,1,2,\"علامة\",\"علامتان\",\"علامات\"),\" \")","v":""},{"$f":"IF(COUNT(L7)=1,B_Only(L7,1,1,2,\"علامة\",\"علامتان\",\"علامات\"),\" \")","v":""},{"$f":"IF(COUNT(M7)=1,B_Only(M7,1,1,2,\"علامة\",\"علامتان\",\"علامات\"),\" \")","v":""},{"$f":"IF(COUNT(N7)=1,B_Only(N7,1,1,2,\"علامة\",\"علامتان\",\"علامات\"),\" \")","v":""},{"$f":"IF(COUNT(O7)=1,B_Only(O7,1,1,2,\"علامة\",\"علامتان\",\"علامات\"),\" \")","v":""},{"$f":"IF(COUNT(P7)=1,B_Only(P7,1,1,2,\"علامة\",\"علامتان\",\"علامات\"),\" \")","v":""},{"$f":"IF(COUNT(Q7)=1,B_Only(Q7,1,1,2,\"علامة\",\"علامتان\",\"علامات\"),\" \")","v":""},{"$f":"IF(COUNT(R7)=1,B_Only(R7,1,1,2,\"علامة\",\"علامتان\",\"علامات\"),\" \")","v":""},{"$f":"IF(COUNT(S7)=1,B_Only(S7,1,1,2,\"علامة\",\"علامتان\",\"علامات\"),\" \")","v":""},{"$f":"IF(COUNT(T7)=1,B_Only(T7,1,1,2,\"علامة\",\"علامتان\",\"علامات\"),\" \")","v":""},{"$f":"IF(COUNT(U7)=1,B_Only(U7,1,1,2,\"علامة\",\"علامتان\",\"علامات\"),\" \")","v":""}]
[null,null,null,null,null,null,null,null,null,null,null,null,null,null,null,null,null,null,null,null,null,{"$f":"IF(COUNT(A8)=1,(ord(A8)&\" على الصف \"),\" \")","v":""},null,{"$f":"IF(COUNT(W8)=1,B_Only(W8,1,1,2,\"علامة\",\"علامتان\",\"علامات\"),\" \")","v":""},{"$f":"IF(COUNT(W8)=1,ROUND(W8/temp!$B$9,2),\" \")","v":""},{"$f":"IF(COUNT(Y8)=1, B_Only(INT(Y8),1,0,2,\"بالمئة\",\"بالمئة\",\"بالمئة\") &\" و  \" &B_Only((Y8-INT(Y8))*100,1,0,2,\"عشر\",\"عشران\",\"اعشار\"),\" \")","v":""},{"$f":"IF(COUNT(H8)=1,B_Only(H8,1,1,2,\"علامة\",\"علامتان\",\"علامات\"),\" \")","v":""},{"$f":"IF(COUNT(I8)=1,B_Only(I8,1,1,2,\"علامة\",\"علامتان\",\"علامات\"),\" \")","v":""},{"$f":"IF(COUNT(J8)=1,B_Only(J8,1,1,2,\"علامة\",\"علامتان\",\"علامات\"),\" \")","v":""},{"$f":"IF(COUNT(K8)=1,B_Only(K8,1,1,2,\"علامة\",\"علامتان\",\"علامات\"),\" \")","v":""},{"$f":"IF(COUNT(L8)=1,B_Only(L8,1,1,2,\"علامة\",\"علامتان\",\"علامات\"),\" \")","v":""},{"$f":"IF(COUNT(M8)=1,B_Only(M8,1,1,2,\"علامة\",\"علامتان\",\"علامات\"),\" \")","v":""},{"$f":"IF(COUNT(N8)=1,B_Only(N8,1,1,2,\"علامة\",\"علامتان\",\"علامات\"),\" \")","v":""},{"$f":"IF(COUNT(O8)=1,B_Only(O8,1,1,2,\"علامة\",\"علامتان\",\"علامات\"),\" \")","v":""},{"$f":"IF(COUNT(P8)=1,B_Only(P8,1,1,2,\"علامة\",\"علامتان\",\"علامات\"),\" \")","v":""},{"$f":"IF(COUNT(Q8)=1,B_Only(Q8,1,1,2,\"علامة\",\"علامتان\",\"علامات\"),\" \")","v":""},{"$f":"IF(COUNT(R8)=1,B_Only(R8,1,1,2,\"علامة\",\"علامتان\",\"علامات\"),\" \")","v":""},{"$f":"IF(COUNT(S8)=1,B_Only(S8,1,1,2,\"علامة\",\"علامتان\",\"علامات\"),\" \")","v":""},{"$f":"IF(COUNT(T8)=1,B_Only(T8,1,1,2,\"علامة\",\"علامتان\",\"علامات\"),\" \")","v":""},{"$f":"IF(COUNT(U8)=1,B_Only(U8,1,1,2,\"علامة\",\"علامتان\",\"علامات\"),\" \")","v":""}]
[null,null,null,null,null,null,null,null,null,null,null,null,null,null,null,null,null,null,null,null,null,{"$f":"IF(COUNT(A9)=1,(ord(A9)&\" على الصف \"),\" \")","v":""},null,{"$f":"IF(COUNT(W9)=1,B_Only(W9,1,1,2,\"علامة\",\"علامتان\",\"علامات\"),\" \")","v":""},{"$f":"IF(COUNT(W9)=1,ROUND(W9/temp!$B$9,2),\" \")","v":""},{"$f":"IF(COUNT(Y9)=1, B_Only(INT(Y9),1,0,2,\"بالمئة\",\"بالمئة\",\"بالمئة\") &\" و  \" &B_Only((Y9-INT(Y9))*100,1,0,2,\"عشر\",\"عشران\",\"اعشار\"),\" \")","v":""},{"$f":"IF(COUNT(H9)=1,B_Only(H9,1,1,2,\"علامة\",\"علامتان\",\"علامات\"),\" \")","v":""},{"$f":"IF(COUNT(I9)=1,B_Only(I9,1,1,2,\"علامة\",\"علامتان\",\"علامات\"),\" \")","v":""},{"$f":"IF(COUNT(J9)=1,B_Only(J9,1,1,2,\"علامة\",\"علامتان\",\"علامات\"),\" \")","v":""},{"$f":"IF(COUNT(K9)=1,B_Only(K9,1,1,2,\"علامة\",\"علامتان\",\"علامات\"),\" \")","v":""},{"$f":"IF(COUNT(L9)=1,B_Only(L9,1,1,2,\"علامة\",\"علامتان\",\"علامات\"),\" \")","v":""},{"$f":"IF(COUNT(M9)=1,B_Only(M9,1,1,2,\"علامة\",\"علامتان\",\"علامات\"),\" \")","v":""},{"$f":"IF(COUNT(N9)=1,B_Only(N9,1,1,2,\"علامة\",\"علامتان\",\"علامات\"),\" \")","v":""},{"$f":"IF(COUNT(O9)=1,B_Only(O9,1,1,2,\"علامة\",\"علامتان\",\"علامات\"),\" \")","v":""},{"$f":"IF(COUNT(P9)=1,B_Only(P9,1,1,2,\"علامة\",\"علامتان\",\"علامات\"),\" \")","v":""},{"$f":"IF(COUNT(Q9)=1,B_Only(Q9,1,1,2,\"علامة\",\"علامتان\",\"علامات\"),\" \")","v":""},{"$f":"IF(COUNT(R9)=1,B_Only(R9,1,1,2,\"علامة\",\"علامتان\",\"علامات\"),\" \")","v":""},{"$f":"IF(COUNT(S9)=1,B_Only(S9,1,1,2,\"علامة\",\"علامتان\",\"علامات\"),\" \")","v":""},{"$f":"IF(COUNT(T9)=1,B_Only(T9,1,1,2,\"علامة\",\"علامتان\",\"علامات\"),\" \")","v":""},{"$f":"IF(COUNT(U9)=1,B_Only(U9,1,1,2,\"علامة\",\"علامتان\",\"علامات\"),\" \")","v":""}]
[null,null,null,null,null,null,null,null,null,null,null,null,null,null,null,null,null,null,null,null,null,{"$f":"IF(COUNT(A10)=1,(ord(A10)&\" على الصف \"),\" \")","v":""},null,{"$f":"IF(COUNT(W10)=1,B_Only(W10,1,1,2,\"علامة\",\"علامتان\",\"علامات\"),\" \")","v":""},{"$f":"IF(COUNT(W10)=1,ROUND(W10/temp!$B$9,2),\" \")","v":""},{"$f":"IF(COUNT(Y10)=1, B_Only(INT(Y10),1,0,2,\"بالمئة\",\"بالمئة\",\"بالمئة\") &\" و  \" &B_Only((Y10-INT(Y10))*100,1,0,2,\"عشر\",\"عشران\",\"اعشار\"),\" \")","v":""},{"$f":"IF(COUNT(H10)=1,B_Only(H10,1,1,2,\"علامة\",\"علامتان\",\"علامات\"),\" \")","v":""},{"$f":"IF(COUNT(I10)=1,B_Only(I10,1,1,2,\"علامة\",\"علامتان\",\"علامات\"),\" \")","v":""},{"$f":"IF(COUNT(J10)=1,B_Only(J10,1,1,2,\"علامة\",\"علامتان\",\"علامات\"),\" \")","v":""},{"$f":"IF(COUNT(K10)=1,B_Only(K10,1,1,2,\"علامة\",\"علامتان\",\"علامات\"),\" \")","v":""},{"$f":"IF(COUNT(L10)=1,B_Only(L10,1,1,2,\"علامة\",\"علامتان\",\"علامات\"),\" \")","v":""},{"$f":"IF(COUNT(M10)=1,B_Only(M10,1,1,2,\"علامة\",\"علامتان\",\"علامات\"),\" \")","v":""},{"$f":"IF(COUNT(N10)=1,B_Only(N10,1,1,2,\"علامة\",\"علامتان\",\"علامات\"),\" \")","v":""},{"$f":"IF(COUNT(O10)=1,B_Only(O10,1,1,2,\"علامة\",\"علامتان\",\"علامات\"),\" \")","v":""},{"$f":"IF(COUNT(P10)=1,B_Only(P10,1,1,2,\"علامة\",\"علامتان\",\"علامات\"),\" \")","v":""},{"$f":"IF(COUNT(Q10)=1,B_Only(Q10,1,1,2,\"علامة\",\"علامتان\",\"علامات\"),\" \")","v":""},{"$f":"IF(COUNT(R10)=1,B_Only(R10,1,1,2,\"علامة\",\"علامتان\",\"علامات\"),\" \")","v":""},{"$f":"IF(COUNT(S10)=1,B_Only(S10,1,1,2,\"علامة\",\"علامتان\",\"علامات\"),\" \")","v":""},{"$f":"IF(COUNT(T10)=1,B_Only(T10,1,1,2,\"علامة\",\"علامتان\",\"علامات\"),\" \")","v":""},{"$f":"IF(COUNT(U10)=1,B_Only(U10,1,1,2,\"علامة\",\"علامتان\",\"علامات\"),\" \")","v":""}]
[null,null,null,null,null,null,null,null,null,null,null,null,null,null,null,null,null,null,null,null,null,{"$f":"IF(COUNT(A11)=1,(ord(A11)&\" على الصف \"),\" \")","v":""},null,{"$f":"IF(COUNT(W11)=1,B_Only(W11,1,1,2,\"علامة\",\"علامتان\",\"علامات\"),\" \")","v":""},{"$f":"IF(COUNT(W11)=1,ROUND(W11/temp!$B$9,2),\" \")","v":""},{"$f":"IF(COUNT(Y11)=1, B_Only(INT(Y11),1,0,2,\"بالمئة\",\"بالمئة\",\"بالمئة\") &\" و  \" &B_Only((Y11-INT(Y11))*100,1,0,2,\"عشر\",\"عشران\",\"اعشار\"),\" \")","v":""},{"$f":"IF(COUNT(H11)=1,B_Only(H11,1,1,2,\"علامة\",\"علامتان\",\"علامات\"),\" \")","v":""},{"$f":"IF(COUNT(I11)=1,B_Only(I11,1,1,2,\"علامة\",\"علامتان\",\"علامات\"),\" \")","v":""},{"$f":"IF(COUNT(J11)=1,B_Only(J11,1,1,2,\"علامة\",\"علامتان\",\"علامات\"),\" \")","v":""},{"$f":"IF(COUNT(K11)=1,B_Only(K11,1,1,2,\"علامة\",\"علامتان\",\"علامات\"),\" \")","v":""},{"$f":"IF(COUNT(L11)=1,B_Only(L11,1,1,2,\"علامة\",\"علامتان\",\"علامات\"),\" \")","v":""},{"$f":"IF(COUNT(M11)=1,B_Only(M11,1,1,2,\"علامة\",\"علامتان\",\"علامات\"),\" \")","v":""},{"$f":"IF(COUNT(N11)=1,B_Only(N11,1,1,2,\"علامة\",\"علامتان\",\"علامات\"),\" \")","v":""},{"$f":"IF(COUNT(O11)=1,B_Only(O11,1,1,2,\"علامة\",\"علامتان\",\"علامات\"),\" \")","v":""},{"$f":"IF(COUNT(P11)=1,B_Only(P11,1,1,2,\"علامة\",\"علامتان\",\"علامات\"),\" \")","v":""},{"$f":"IF(COUNT(Q11)=1,B_Only(Q11,1,1,2,\"علامة\",\"علامتان\",\"علامات\"),\" \")","v":""},{"$f":"IF(COUNT(R11)=1,B_Only(R11,1,1,2,\"علامة\",\"علامتان\",\"علامات\"),\" \")","v":""},{"$f":"IF(COUNT(S11)=1,B_Only(S11,1,1,2,\"علامة\",\"علامتان\",\"علامات\"),\" \")","v":""},{"$f":"IF(COUNT(T11)=1,B_Only(T11,1,1,2,\"علامة\",\"علامتان\",\"علامات\"),\" \")","v":""},{"$f":"IF(COUNT(U11)=1,B_Only(U11,1,1,2,\"علامة\",\"علامتان\",\"علامات\"),\" \")","v":""}]
[null,null,null,null,null,null,null,null,null,null,null,null,null,null,null,null,null,null,null,null,null,{"$f":"IF(COUNT(A12)=1,(ord(A12)&\" على الصف \"),\" \")","v":""},null,{"$f":"IF(COUNT(W12)=1,B_Only(W12,1,1,2,\"علامة\",\"علامتان\",\"علامات\"),\" \")","v":""},{"$f":"IF(COUNT(W12)=1,ROUND(W12/temp!$B$9,2),\" \")","v":""},{"$f":"IF(COUNT(Y12)=1, B_Only(INT(Y12),1,0,2,\"بالمئة\",\"بالمئة\",\"بالمئة\") &\" و  \" &B_Only((Y12-INT(Y12))*100,1,0,2,\"عشر\",\"عشران\",\"اعشار\"),\" \")","v":""},{"$f":"IF(COUNT(H12)=1,B_Only(H12,1,1,2,\"علامة\",\"علامتان\",\"علامات\"),\" \")","v":""},{"$f":"IF(COUNT(I12)=1,B_Only(I12,1,1,2,\"علامة\",\"علامتان\",\"علامات\"),\" \")","v":""},{"$f":"IF(COUNT(J12)=1,B_Only(J12,1,1,2,\"علامة\",\"علامتان\",\"علامات\"),\" \")","v":""},{"$f":"IF(COUNT(K12)=1,B_Only(K12,1,1,2,\"علامة\",\"علامتان\",\"علامات\"),\" \")","v":""},{"$f":"IF(COUNT(L12)=1,B_Only(L12,1,1,2,\"علامة\",\"علامتان\",\"علامات\"),\" \")","v":""},{"$f":"IF(COUNT(M12)=1,B_Only(M12,1,1,2,\"علامة\",\"علامتان\",\"علامات\"),\" \")","v":""},{"$f":"IF(COUNT(N12)=1,B_Only(N12,1,1,2,\"علامة\",\"علامتان\",\"علامات\"),\" \")","v":""},{"$f":"IF(COUNT(O12)=1,B_Only(O12,1,1,2,\"علامة\",\"علامتان\",\"علامات\"),\" \")","v":""},{"$f":"IF(COUNT(P12)=1,B_Only(P12,1,1,2,\"علامة\",\"علامتان\",\"علامات\"),\" \")","v":""},{"$f":"IF(COUNT(Q12)=1,B_Only(Q12,1,1,2,\"علامة\",\"علامتان\",\"علامات\"),\" \")","v":""},{"$f":"IF(COUNT(R12)=1,B_Only(R12,1,1,2,\"علامة\",\"علامتان\",\"علامات\"),\" \")","v":""},{"$f":"IF(COUNT(S12)=1,B_Only(S12,1,1,2,\"علامة\",\"علامتان\",\"علامات\"),\" \")","v":""},{"$f":"IF(COUNT(T12)=1,B_Only(T12,1,1,2,\"علامة\",\"علامتان\",\"علامات\"),\" \")","v":""},{"$f":"IF(COUNT(U12)=1,B_Only(U12,1,1,2,\"علامة\",\"علامتان\",\"علامات\"),\" \")","v":""}]
[null,null,null,null,null,null,null,null,null,null,null,null,null,null,null,null,null,null,null,null,null,{"$f":"IF(COUNT(A13)=1,(ord(A13)&\" على الصف \"),\" \")","v":""},null,{"$f":"IF(COUNT(W13)=1,B_Only(W13,1,1,2,\"علامة\",\"علامتان\",\"علامات\"),\" \")","v":""},{"$f":"IF(COUNT(W13)=1,ROUND(W13/temp!$B$9,2),\" \")","v":""},{"$f":"IF(COUNT(Y13)=1, B_Only(INT(Y13),1,0,2,\"بالمئة\",\"بالمئة\",\"بالمئة\") &\" و  \" &B_Only((Y13-INT(Y13))*100,1,0,2,\"عشر\",\"عشران\",\"اعشار\"),\" \")","v":""},{"$f":"IF(COUNT(H13)=1,B_Only(H13,1,1,2,\"علامة\",\"علامتان\",\"علامات\"),\" \")","v":""},{"$f":"IF(COUNT(I13)=1,B_Only(I13,1,1,2,\"علامة\",\"علامتان\",\"علامات\"),\" \")","v":""},{"$f":"IF(COUNT(J13)=1,B_Only(J13,1,1,2,\"علامة\",\"علامتان\",\"علامات\"),\" \")","v":""},{"$f":"IF(COUNT(K13)=1,B_Only(K13,1,1,2,\"علامة\",\"علامتان\",\"علامات\"),\" \")","v":""},{"$f":"IF(COUNT(L13)=1,B_Only(L13,1,1,2,\"علامة\",\"علامتان\",\"علامات\"),\" \")","v":""},{"$f":"IF(COUNT(M13)=1,B_Only(M13,1,1,2,\"علامة\",\"علامتان\",\"علامات\"),\" \")","v":""},{"$f":"IF(COUNT(N13)=1,B_Only(N13,1,1,2,\"علامة\",\"علامتان\",\"علامات\"),\" \")","v":""},{"$f":"IF(COUNT(O13)=1,B_Only(O13,1,1,2,\"علامة\",\"علامتان\",\"علامات\"),\" \")","v":""},{"$f":"IF(COUNT(P13)=1,B_Only(P13,1,1,2,\"علامة\",\"علامتان\",\"علامات\"),\" \")","v":""},{"$f":"IF(COUNT(Q13)=1,B_Only(Q13,1,1,2,\"علامة\",\"علامتان\",\"علامات\"),\" \")","v":""},{"$f":"IF(COUNT(R13)=1,B_Only(R13,1,1,2,\"علامة\",\"علامتان\",\"علامات\"),\" \")","v":""},{"$f":"IF(COUNT(S13)=1,B_Only(S13,1,1,2,\"علامة\",\"علامتان\",\"علامات\"),\" \")","v":""},{"$f":"IF(COUNT(T13)=1,B_Only(T13,1,1,2,\"علامة\",\"علامتان\",\"علامات\"),\" \")","v":""},{"$f":"IF(COUNT(U13)=1,B_Only(U13,1,1,2,\"علامة\",\"علامتان\",\"علامات\"),\" \")","v":""}]
[null,null,null,null,null,null,null,null,null,null,null,null,null,null,null,null,null,null,null,null,null,{"$f":"IF(COUNT(A14)=1,(ord(A14)&\" على الصف \"),\" \")","v":""},null,{"$f":"IF(COUNT(W14)=1,B_Only(W14,1,1,2,\"علامة\",\"علامتان\",\"علامات\"),\" \")","v":""},{"$f":"IF(COUNT(W14)=1,ROUND(W14/temp!$B$9,2),\" \")","v":""},{"$f":"IF(COUNT(Y14)=1, B_Only(INT(Y14),1,0,2,\"بالمئة\",\"بالمئة\",\"بالمئة\") &\" و  \" &B_Only((Y14-INT(Y14))*100,1,0,2,\"عشر\",\"عشران\",\"اعشار\"),\" \")","v":""},{"$f":"IF(COUNT(H14)=1,B_Only(H14,1,1,2,\"علامة\",\"علامتان\",\"علامات\"),\" \")","v":""},{"$f":"IF(COUNT(I14)=1,B_Only(I14,1,1,2,\"علامة\",\"علامتان\",\"علامات\"),\" \")","v":""},{"$f":"IF(COUNT(J14)=1,B_Only(J14,1,1,2,\"علامة\",\"علامتان\",\"علامات\"),\" \")","v":""},{"$f":"IF(COUNT(K14)=1,B_Only(K14,1,1,2,\"علامة\",\"علامتان\",\"علامات\"),\" \")","v":""},{"$f":"IF(COUNT(L14)=1,B_Only(L14,1,1,2,\"علامة\",\"علامتان\",\"علامات\"),\" \")","v":""},{"$f":"IF(COUNT(M14)=1,B_Only(M14,1,1,2,\"علامة\",\"علامتان\",\"علامات\"),\" \")","v":""},{"$f":"IF(COUNT(N14)=1,B_Only(N14,1,1,2,\"علامة\",\"علامتان\",\"علامات\"),\" \")","v":""},{"$f":"IF(COUNT(O14)=1,B_Only(O14,1,1,2,\"علامة\",\"علامتان\",\"علامات\"),\" \")","v":""},{"$f":"IF(COUNT(P14)=1,B_Only(P14,1,1,2,\"علامة\",\"علامتان\",\"علامات\"),\" \")","v":""},{"$f":"IF(COUNT(Q14)=1,B_Only(Q14,1,1,2,\"علامة\",\"علامتان\",\"علامات\"),\" \")","v":""},{"$f":"IF(COUNT(R14)=1,B_Only(R14,1,1,2,\"علامة\",\"علامتان\",\"علامات\"),\" \")","v":""},{"$f":"IF(COUNT(S14)=1,B_Only(S14,1,1,2,\"علامة\",\"علامتان\",\"علامات\"),\" \")","v":""},{"$f":"IF(COUNT(T14)=1,B_Only(T14,1,1,2,\"علامة\",\"علامتان\",\"علامات\"),\" \")","v":""},{"$f":"IF(COUNT(U14)=1,B_Only(U14,1,1,2,\"علامة\",\"علامتان\",\"علامات\"),\" \")","v":""}]
[null,null,null,null,null,null,null,null,null,null,null,null,null,null,null,null,null,null,null,null,null,{"$f":"IF(COUNT(A15)=1,(ord(A15)&\" على الصف \"),\" \")","v":""},null,{"$f":"IF(COUNT(W15)=1,B_Only(W15,1,1,2,\"علامة\",\"علامتان\",\"علامات\"),\" \")","v":""},{"$f":"IF(COUNT(W15)=1,ROUND(W15/temp!$B$9,2),\" \")","v":""},{"$f":"IF(COUNT(Y15)=1, B_Only(INT(Y15),1,0,2,\"بالمئة\",\"بالمئة\",\"بالمئة\") &\" و  \" &B_Only((Y15-INT(Y15))*100,1,0,2,\"عشر\",\"عشران\",\"اعشار\"),\" \")","v":""},{"$f":"IF(COUNT(H15)=1,B_Only(H15,1,1,2,\"علامة\",\"علامتان\",\"علامات\"),\" \")","v":""},{"$f":"IF(COUNT(I15)=1,B_Only(I15,1,1,2,\"علامة\",\"علامتان\",\"علامات\"),\" \")","v":""},{"$f":"IF(COUNT(J15)=1,B_Only(J15,1,1,2,\"علامة\",\"علامتان\",\"علامات\"),\" \")","v":""},{"$f":"IF(COUNT(K15)=1,B_Only(K15,1,1,2,\"علامة\",\"علامتان\",\"علامات\"),\" \")","v":""},{"$f":"IF(COUNT(L15)=1,B_Only(L15,1,1,2,\"علامة\",\"علامتان\",\"علامات\"),\" \")","v":""},{"$f":"IF(COUNT(M15)=1,B_Only(M15,1,1,2,\"علامة\",\"علامتان\",\"علامات\"),\" \")","v":""},{"$f":"IF(COUNT(N15)=1,B_Only(N15,1,1,2,\"علامة\",\"علامتان\",\"علامات\"),\" \")","v":""},{"$f":"IF(COUNT(O15)=1,B_Only(O15,1,1,2,\"علامة\",\"علامتان\",\"علامات\"),\" \")","v":""},{"$f":"IF(COUNT(P15)=1,B_Only(P15,1,1,2,\"علامة\",\"علامتان\",\"علامات\"),\" \")","v":""},{"$f":"IF(COUNT(Q15)=1,B_Only(Q15,1,1,2,\"علامة\",\"علامتان\",\"علامات\"),\" \")","v":""},{"$f":"IF(COUNT(R15)=1,B_Only(R15,1,1,2,\"علامة\",\"علامتان\",\"علامات\"),\" \")","v":""},{"$f":"IF(COUNT(S15)=1,B_Only(S15,1,1,2,\"علامة\",\"علامتان\",\"علامات\"),\" \")","v":""},{"$f":"IF(COUNT(T15)=1,B_Only(T15,1,1,2,\"علامة\",\"علامتان\",\"علامات\"),\" \")","v":""},{"$f":"IF(COUNT(U15)=1,B_Only(U15,1,1,2,\"علامة\",\"علامتان\",\"علامات\"),\" \")","v":""}]
[null,null,null,null,null,null,null,null,null,null,null,null,null,null,null,null,null,null,null,null,null,{"$f":"IF(COUNT(A16)=1,(ord(A16)&\" على الصف \"),\" \")","v":""},null,{"$f":"IF(COUNT(W16)=1,B_Only(W16,1,1,2,\"علامة\",\"علامتان\",\"علامات\"),\" \")","v":""},{"$f":"IF(COUNT(W16)=1,ROUND(W16/temp!$B$9,2),\" \")","v":""},{"$f":"IF(COUNT(Y16)=1, B_Only(INT(Y16),1,0,2,\"بالمئة\",\"بالمئة\",\"بالمئة\") &\" و  \" &B_Only((Y16-INT(Y16))*100,1,0,2,\"عشر\",\"عشران\",\"اعشار\"),\" \")","v":""},{"$f":"IF(COUNT(H16)=1,B_Only(H16,1,1,2,\"علامة\",\"علامتان\",\"علامات\"),\" \")","v":""},{"$f":"IF(COUNT(I16)=1,B_Only(I16,1,1,2,\"علامة\",\"علامتان\",\"علامات\"),\" \")","v":""},{"$f":"IF(COUNT(J16)=1,B_Only(J16,1,1,2,\"علامة\",\"علامتان\",\"علامات\"),\" \")","v":""},{"$f":"IF(COUNT(K16)=1,B_Only(K16,1,1,2,\"علامة\",\"علامتان\",\"علامات\"),\" \")","v":""},{"$f":"IF(COUNT(L16)=1,B_Only(L16,1,1,2,\"علامة\",\"علامتان\",\"علامات\"),\" \")","v":""},{"$f":"IF(COUNT(M16)=1,B_Only(M16,1,1,2,\"علامة\",\"علامتان\",\"علامات\"),\" \")","v":""},{"$f":"IF(COUNT(N16)=1,B_Only(N16,1,1,2,\"علامة\",\"علامتان\",\"علامات\"),\" \")","v":""},{"$f":"IF(COUNT(O16)=1,B_Only(O16,1,1,2,\"علامة\",\"علامتان\",\"علامات\"),\" \")","v":""},{"$f":"IF(COUNT(P16)=1,B_Only(P16,1,1,2,\"علامة\",\"علامتان\",\"علامات\"),\" \")","v":""},{"$f":"IF(COUNT(Q16)=1,B_Only(Q16,1,1,2,\"علامة\",\"علامتان\",\"علامات\"),\" \")","v":""},{"$f":"IF(COUNT(R16)=1,B_Only(R16,1,1,2,\"علامة\",\"علامتان\",\"علامات\"),\" \")","v":""},{"$f":"IF(COUNT(S16)=1,B_Only(S16,1,1,2,\"علامة\",\"علامتان\",\"علامات\"),\" \")","v":""},{"$f":"IF(COUNT(T16)=1,B_Only(T16,1,1,2,\"علامة\",\"علامتان\",\"علامات\"),\" \")","v":""},{"$f":"IF(COUNT(U16)=1,B_Only(U16,1,1,2,\"علامة\",\"علامتان\",\"علامات\"),\" \")","v":""}]
[null,null,null,null,null,null,null,null,null,null,null,null,null,null,null,null,null,null,null,null,null,{"$f":"IF(COUNT(A17)=1,(ord(A17)&\" على الصف \"),\" \")","v":""},null,{"$f":"IF(COUNT(W17)=1,B_Only(W17,1,1,2,\"علامة\",\"علامتان\",\"علامات\"),\" \")","v":""},{"$f":"IF(COUNT(W17)=1,ROUND(W17/temp!$B$9,2),\" \")","v":""},{"$f":"IF(COUNT(Y17)=1, B_Only(INT(Y17),1,0,2,\"بالمئة\",\"بالمئة\",\"بالمئة\") &\" و  \" &B_Only((Y17-INT(Y17))*100,1,0,2,\"عشر\",\"عشران\",\"اعشار\"),\" \")","v":""},{"$f":"IF(COUNT(H17)=1,B_Only(H17,1,1,2,\"علامة\",\"علامتان\",\"علامات\"),\" \")","v":""},{"$f":"IF(COUNT(I17)=1,B_Only(I17,1,1,2,\"علامة\",\"علامتان\",\"علامات\"),\" \")","v":""},{"$f":"IF(COUNT(J17)=1,B_Only(J17,1,1,2,\"علامة\",\"علامتان\",\"علامات\"),\" \")","v":""},{"$f":"IF(COUNT(K17)=1,B_Only(K17,1,1,2,\"علامة\",\"علامتان\",\"علامات\"),\" \")","v":""},{"$f":"IF(COUNT(L17)=1,B_Only(L17,1,1,2,\"علامة\",\"علامتان\",\"علامات\"),\" \")","v":""},{"$f":"IF(COUNT(M17)=1,B_Only(M17,1,1,2,\"علامة\",\"علامتان\",\"علامات\"),\" \")","v":""},{"$f":"IF(COUNT(N17)=1,B_Only(N17,1,1,2,\"علامة\",\"علامتان\",\"علامات\"),\" \")","v":""},{"$f":"IF(COUNT(O17)=1,B_Only(O17,1,1,2,\"علامة\",\"علامتان\",\"علامات\"),\" \")","v":""},{"$f":"IF(COUNT(P17)=1,B_Only(P17,1,1,2,\"علامة\",\"علامتان\",\"علامات\"),\" \")","v":""},{"$f":"IF(COUNT(Q17)=1,B_Only(Q17,1,1,2,\"علامة\",\"علامتان\",\"علامات\"),\" \")","v":""},{"$f":"IF(COUNT(R17)=1,B_Only(R17,1,1,2,\"علامة\",\"علامتان\",\"علامات\"),\" \")","v":""},{"$f":"IF(COUNT(S17)=1,B_Only(S17,1,1,2,\"علامة\",\"علامتان\",\"علامات\"),\" \")","v":""},{"$f":"IF(COUNT(T17)=1,B_Only(T17,1,1,2,\"علامة\",\"علامتان\",\"علامات\"),\" \")","v":""},{"$f":"IF(COUNT(U17)=1,B_Only(U17,1,1,2,\"علامة\",\"علامتان\",\"علامات\"),\" \")","v":""}]
[null,null,null,null,null,null,null,null,null,null,null,null,null,null,null,null,null,null,null,null,null,{"$f":"IF(COUNT(A18)=1,(ord(A18)&\" على الصف \"),\" \")","v":""},null,{"$f":"IF(COUNT(W18)=1,B_Only(W18,1,1,2,\"علامة\",\"علامتان\",\"علامات\"),\" \")","v":""},{"$f":"IF(COUNT(W18)=1,ROUND(W18/temp!$B$9,2),\" \")","v":""},{"$f":"IF(COUNT(Y18)=1, B_Only(INT(Y18),1,0,2,\"بالمئة\",\"بالمئة\",\"بالمئة\") &\" و  \" &B_Only((Y18-INT(Y18))*100,1,0,2,\"عشر\",\"عشران\",\"اعشار\"),\" \")","v":""},{"$f":"IF(COUNT(H18)=1,B_Only(H18,1,1,2,\"علامة\",\"علامتان\",\"علامات\"),\" \")","v":""},{"$f":"IF(COUNT(I18)=1,B_Only(I18,1,1,2,\"علامة\",\"علامتان\",\"علامات\"),\" \")","v":""},{"$f":"IF(COUNT(J18)=1,B_Only(J18,1,1,2,\"علامة\",\"علامتان\",\"علامات\"),\" \")","v":""},{"$f":"IF(COUNT(K18)=1,B_Only(K18,1,1,2,\"علامة\",\"علامتان\",\"علامات\"),\" \")","v":""},{"$f":"IF(COUNT(L18)=1,B_Only(L18,1,1,2,\"علامة\",\"علامتان\",\"علامات\"),\" \")","v":""},{"$f":"IF(COUNT(M18)=1,B_Only(M18,1,1,2,\"علامة\",\"علامتان\",\"علامات\"),\" \")","v":""},{"$f":"IF(COUNT(N18)=1,B_Only(N18,1,1,2,\"علامة\",\"علامتان\",\"علامات\"),\" \")","v":""},{"$f":"IF(COUNT(O18)=1,B_Only(O18,1,1,2,\"علامة\",\"علامتان\",\"علامات\"),\" \")","v":""},{"$f":"IF(COUNT(P18)=1,B_Only(P18,1,1,2,\"علامة\",\"علامتان\",\"علامات\"),\" \")","v":""},{"$f":"IF(COUNT(Q18)=1,B_Only(Q18,1,1,2,\"علامة\",\"علامتان\",\"علامات\"),\" \")","v":""},{"$f":"IF(COUNT(R18)=1,B_Only(R18,1,1,2,\"علامة\",\"علامتان\",\"علامات\"),\" \")","v":""},{"$f":"IF(COUNT(S18)=1,B_Only(S18,1,1,2,\"علامة\",\"علامتان\",\"علامات\"),\" \")","v":""},{"$f":"IF(COUNT(T18)=1,B_Only(T18,1,1,2,\"علامة\",\"علامتان\",\"علامات\"),\" \")","v":""},{"$f":"IF(COUNT(U18)=1,B_Only(U18,1,1,2,\"علامة\",\"علامتان\",\"علامات\"),\" \")","v":""}]
[null,null,null,null,null,null,null,null,null,null,null,null,null,null,null,null,null,null,null,null,null,{"$f":"IF(COUNT(A19)=1,(ord(A19)&\" على الصف \"),\" \")","v":""},null,{"$f":"IF(COUNT(W19)=1,B_Only(W19,1,1,2,\"علامة\",\"علامتان\",\"علامات\"),\" \")","v":""},{"$f":"IF(COUNT(W19)=1,ROUND(W19/temp!$B$9,2),\" \")","v":""},{"$f":"IF(COUNT(Y19)=1, B_Only(INT(Y19),1,0,2,\"بالمئة\",\"بالمئة\",\"بالمئة\") &\" و  \" &B_Only((Y19-INT(Y19))*100,1,0,2,\"عشر\",\"عشران\",\"اعشار\"),\" \")","v":""},{"$f":"IF(COUNT(H19)=1,B_Only(H19,1,1,2,\"علامة\",\"علامتان\",\"علامات\"),\" \")","v":""},{"$f":"IF(COUNT(I19)=1,B_Only(I19,1,1,2,\"علامة\",\"علامتان\",\"علامات\"),\" \")","v":""},{"$f":"IF(COUNT(J19)=1,B_Only(J19,1,1,2,\"علامة\",\"علامتان\",\"علامات\"),\" \")","v":""},{"$f":"IF(COUNT(K19)=1,B_Only(K19,1,1,2,\"علامة\",\"علامتان\",\"علامات\"),\" \")","v":""},{"$f":"IF(COUNT(L19)=1,B_Only(L19,1,1,2,\"علامة\",\"علامتان\",\"علامات\"),\" \")","v":""},{"$f":"IF(COUNT(M19)=1,B_Only(M19,1,1,2,\"علامة\",\"علامتان\",\"علامات\"),\" \")","v":""},{"$f":"IF(COUNT(N19)=1,B_Only(N19,1,1,2,\"علامة\",\"علامتان\",\"علامات\"),\" \")","v":""},{"$f":"IF(COUNT(O19)=1,B_Only(O19,1,1,2,\"علامة\",\"علامتان\",\"علامات\"),\" \")","v":""},{"$f":"IF(COUNT(P19)=1,B_Only(P19,1,1,2,\"علامة\",\"علامتان\",\"علامات\"),\" \")","v":""},{"$f":"IF(COUNT(Q19)=1,B_Only(Q19,1,1,2,\"علامة\",\"علامتان\",\"علامات\"),\" \")","v":""},{"$f":"IF(COUNT(R19)=1,B_Only(R19,1,1,2,\"علامة\",\"علامتان\",\"علامات\"),\" \")","v":""},{"$f":"IF(COUNT(S19)=1,B_Only(S19,1,1,2,\"علامة\",\"علامتان\",\"علامات\"),\" \")","v":""},{"$f":"IF(COUNT(T19)=1,B_Only(T19,1,1,2,\"علامة\",\"علامتان\",\"علامات\"),\" \")","v":""},{"$f":"IF(COUNT(U19)=1,B_Only(U19,1,1,2,\"علامة\",\"علامتان\",\"علامات\"),\" \")","v":""}]
[null,null,null,null,null,null,null,null,null,null,null,null,null,null,null,null,null,null,null,null,null,{"$f":"IF(COUNT(A20)=1,(ord(A20)&\" على الصف \"),\" \")","v":""},null,{"$f":"IF(COUNT(W20)=1,B_Only(W20,1,1,2,\"علامة\",\"علامتان\",\"علامات\"),\" \")","v":""},{"$f":"IF(COUNT(W20)=1,ROUND(W20/temp!$B$9,2),\" \")","v":""},{"$f":"IF(COUNT(Y20)=1, B_Only(INT(Y20),1,0,2,\"بالمئة\",\"بالمئة\",\"بالمئة\") &\" و  \" &B_Only((Y20-INT(Y20))*100,1,0,2,\"عشر\",\"عشران\",\"اعشار\"),\" \")","v":""},{"$f":"IF(COUNT(H20)=1,B_Only(H20,1,1,2,\"علامة\",\"علامتان\",\"علامات\"),\" \")","v":""},{"$f":"IF(COUNT(I20)=1,B_Only(I20,1,1,2,\"علامة\",\"علامتان\",\"علامات\"),\" \")","v":""},{"$f":"IF(COUNT(J20)=1,B_Only(J20,1,1,2,\"علامة\",\"علامتان\",\"علامات\"),\" \")","v":""},{"$f":"IF(COUNT(K20)=1,B_Only(K20,1,1,2,\"علامة\",\"علامتان\",\"علامات\"),\" \")","v":""},{"$f":"IF(COUNT(L20)=1,B_Only(L20,1,1,2,\"علامة\",\"علامتان\",\"علامات\"),\" \")","v":""},{"$f":"IF(COUNT(M20)=1,B_Only(M20,1,1,2,\"علامة\",\"علامتان\",\"علامات\"),\" \")","v":""},{"$f":"IF(COUNT(N20)=1,B_Only(N20,1,1,2,\"علامة\",\"علامتان\",\"علامات\"),\" \")","v":""},{"$f":"IF(COUNT(O20)=1,B_Only(O20,1,1,2,\"علامة\",\"علامتان\",\"علامات\"),\" \")","v":""},{"$f":"IF(COUNT(P20)=1,B_Only(P20,1,1,2,\"علامة\",\"علامتان\",\"علامات\"),\" \")","v":""},{"$f":"IF(COUNT(Q20)=1,B_Only(Q20,1,1,2,\"علامة\",\"علامتان\",\"علامات\"),\" \")","v":""},{"$f":"IF(COUNT(R20)=1,B_Only(R20,1,1,2,\"علامة\",\"علامتان\",\"علامات\"),\" \")","v":""},{"$f":"IF(COUNT(S20)=1,B_Only(S20,1,1,2,\"علامة\",\"علامتان\",\"علامات\"),\" \")","v":""},{"$f":"IF(COUNT(T20)=1,B_Only(T20,1,1,2,\"علامة\",\"علامتان\",\"علامات\"),\" \")","v":""},{"$f":"IF(COUNT(U20)=1,B_Only(U20,1,1,2,\"علامة\",\"علامتان\",\"علامات\"),\" \")","v":""}]
[null,null,null,null,null,null,null,null,null,null,null,null,null,null,null,null,null,null,null,null,null,{"$f":"IF(COUNT(A21)=1,(ord(A21)&\" على الصف \"),\" \")","v":""},null,{"$f":"IF(COUNT(W21)=1,B_Only(W21,1,1,2,\"علامة\",\"علامتان\",\"علامات\"),\" \")","v":""},{"$f":"IF(COUNT(W21)=1,ROUND(W21/temp!$B$9,2),\" \")","v":""},{"$f":"IF(COUNT(Y21)=1, B_Only(INT(Y21),1,0,2,\"بالمئة\",\"بالمئة\",\"بالمئة\") &\" و  \" &B_Only((Y21-INT(Y21))*100,1,0,2,\"عشر\",\"عشران\",\"اعشار\"),\" \")","v":""},{"$f":"IF(COUNT(H21)=1,B_Only(H21,1,1,2,\"علامة\",\"علامتان\",\"علامات\"),\" \")","v":""},{"$f":"IF(COUNT(I21)=1,B_Only(I21,1,1,2,\"علامة\",\"علامتان\",\"علامات\"),\" \")","v":""},{"$f":"IF(COUNT(J21)=1,B_Only(J21,1,1,2,\"علامة\",\"علامتان\",\"علامات\"),\" \")","v":""},{"$f":"IF(COUNT(K21)=1,B_Only(K21,1,1,2,\"علامة\",\"علامتان\",\"علامات\"),\" \")","v":""},{"$f":"IF(COUNT(L21)=1,B_Only(L21,1,1,2,\"علامة\",\"علامتان\",\"علامات\"),\" \")","v":""},{"$f":"IF(COUNT(M21)=1,B_Only(M21,1,1,2,\"علامة\",\"علامتان\",\"علامات\"),\" \")","v":""},{"$f":"IF(COUNT(N21)=1,B_Only(N21,1,1,2,\"علامة\",\"علامتان\",\"علامات\"),\" \")","v":""},{"$f":"IF(COUNT(O21)=1,B_Only(O21,1,1,2,\"علامة\",\"علامتان\",\"علامات\"),\" \")","v":""},{"$f":"IF(COUNT(P21)=1,B_Only(P21,1,1,2,\"علامة\",\"علامتان\",\"علامات\"),\" \")","v":""},{"$f":"IF(COUNT(Q21)=1,B_Only(Q21,1,1,2,\"علامة\",\"علامتان\",\"علامات\"),\" \")","v":""},{"$f":"IF(COUNT(R21)=1,B_Only(R21,1,1,2,\"علامة\",\"علامتان\",\"علامات\"),\" \")","v":""},{"$f":"IF(COUNT(S21)=1,B_Only(S21,1,1,2,\"علامة\",\"علامتان\",\"علامات\"),\" \")","v":""},{"$f":"IF(COUNT(T21)=1,B_Only(T21,1,1,2,\"علامة\",\"علامتان\",\"علامات\"),\" \")","v":""},{"$f":"IF(COUNT(U21)=1,B_Only(U21,1,1,2,\"علامة\",\"علامتان\",\"علامات\"),\" \")","v":""}]
[null,null,null,null,null,null,null,null,null,null,null,null,null,null,null,null,null,null,null,null,null,{"$f":"IF(COUNT(A22)=1,(ord(A22)&\" على الصف \"),\" \")","v":""},null,{"$f":"IF(COUNT(W22)=1,B_Only(W22,1,1,2,\"علامة\",\"علامتان\",\"علامات\"),\" \")","v":""},{"$f":"IF(COUNT(W22)=1,ROUND(W22/temp!$B$9,2),\" \")","v":""},{"$f":"IF(COUNT(Y22)=1, B_Only(INT(Y22),1,0,2,\"بالمئة\",\"بالمئة\",\"بالمئة\") &\" و  \" &B_Only((Y22-INT(Y22))*100,1,0,2,\"عشر\",\"عشران\",\"اعشار\"),\" \")","v":""},{"$f":"IF(COUNT(H22)=1,B_Only(H22,1,1,2,\"علامة\",\"علامتان\",\"علامات\"),\" \")","v":""},{"$f":"IF(COUNT(I22)=1,B_Only(I22,1,1,2,\"علامة\",\"علامتان\",\"علامات\"),\" \")","v":""},{"$f":"IF(COUNT(J22)=1,B_Only(J22,1,1,2,\"علامة\",\"علامتان\",\"علامات\"),\" \")","v":""},{"$f":"IF(COUNT(K22)=1,B_Only(K22,1,1,2,\"علامة\",\"علامتان\",\"علامات\"),\" \")","v":""},{"$f":"IF(COUNT(L22)=1,B_Only(L22,1,1,2,\"علامة\",\"علامتان\",\"علامات\"),\" \")","v":""},{"$f":"IF(COUNT(M22)=1,B_Only(M22,1,1,2,\"علامة\",\"علامتان\",\"علامات\"),\" \")","v":""},{"$f":"IF(COUNT(N22)=1,B_Only(N22,1,1,2,\"علامة\",\"علامتان\",\"علامات\"),\" \")","v":""},{"$f":"IF(COUNT(O22)=1,B_Only(O22,1,1,2,\"علامة\",\"علامتان\",\"علامات\"),\" \")","v":""},{"$f":"IF(COUNT(P22)=1,B_Only(P22,1,1,2,\"علامة\",\"علامتان\",\"علامات\"),\" \")","v":""},{"$f":"IF(COUNT(Q22)=1,B_Only(Q22,1,1,2,\"علامة\",\"علامتان\",\"علامات\"),\" \")","v":""},{"$f":"IF(COUNT(R22)=1,B_Only(R22,1,1,2,\"علامة\",\"علامتان\",\"علامات\"),\" \")","v":""},{"$f":"IF(COUNT(S22)=1,B_Only(S22,1,1,2,\"علامة\",\"علامتان\",\"علامات\"),\" \")","v":""},{"$f":"IF(COUNT(T22)=1,B_Only(T22,1,1,2,\"علامة\",\"علامتان\",\"علامات\"),\" \")","v":""},{"$f":"IF(COUNT(U22)=1,B_Only(U22,1,1,2,\"علامة\",\"علامتان\",\"علامات\"),\" \")","v":""}]
[null,null,null,null,null,null,null,null,null,null,null,null,null,null,null,null,null,null,null,null,null,{"$f":"IF(COUNT(A23)=1,(ord(A23)&\" على الصف \"),\" \")","v":""},null,{"$f":"IF(COUNT(W23)=1,B_Only(W23,1,1,2,\"علامة\",\"علامتان\",\"علامات\"),\" \")","v":""},{"$f":"IF(COUNT(W23)=1,ROUND(W23/temp!$B$9,2),\" \")","v":""},{"$f":"IF(COUNT(Y23)=1, B_Only(INT(Y23),1,0,2,\"بالمئة\",\"بالمئة\",\"بالمئة\") &\" و  \" &B_Only((Y23-INT(Y23))*100,1,0,2,\"عشر\",\"عشران\",\"اعشار\"),\" \")","v":""},{"$f":"IF(COUNT(H23)=1,B_Only(H23,1,1,2,\"علامة\",\"علامتان\",\"علامات\"),\" \")","v":""},{"$f":"IF(COUNT(I23)=1,B_Only(I23,1,1,2,\"علامة\",\"علامتان\",\"علامات\"),\" \")","v":""},{"$f":"IF(COUNT(J23)=1,B_Only(J23,1,1,2,\"علامة\",\"علامتان\",\"علامات\"),\" \")","v":""},{"$f":"IF(COUNT(K23)=1,B_Only(K23,1,1,2,\"علامة\",\"علامتان\",\"علامات\"),\" \")","v":""},{"$f":"IF(COUNT(L23)=1,B_Only(L23,1,1,2,\"علامة\",\"علامتان\",\"علامات\"),\" \")","v":""},{"$f":"IF(COUNT(M23)=1,B_Only(M23,1,1,2,\"علامة\",\"علامتان\",\"علامات\"),\" \")","v":""},{"$f":"IF(COUNT(N23)=1,B_Only(N23,1,1,2,\"علامة\",\"علامتان\",\"علامات\"),\" \")","v":""},{"$f":"IF(COUNT(O23)=1,B_Only(O23,1,1,2,\"علامة\",\"علامتان\",\"علامات\"),\" \")","v":""},{"$f":"IF(COUNT(P23)=1,B_Only(P23,1,1,2,\"علامة\",\"علامتان\",\"علامات\"),\" \")","v":""},{"$f":"IF(COUNT(Q23)=1,B_Only(Q23,1,1,2,\"علامة\",\"علامتان\",\"علامات\"),\" \")","v":""},{"$f":"IF(COUNT(R23)=1,B_Only(R23,1,1,2,\"علامة\",\"علامتان\",\"علامات\"),\" \")","v":""},{"$f":"IF(COUNT(S23)=1,B_Only(S23,1,1,2,\"علامة\",\"علامتان\",\"علامات\"),\" \")","v":""},{"$f":"IF(COUNT(T23)=1,B_Only(T23,1,1,2,\"علامة\",\"علامتان\",\"علامات\"),\" \")","v":""},{"$f":"IF(COUNT(U23)=1,B_Only(U23,1,1,2,\"علامة\",\"علامتان\",\"علامات\"),\" \")","v":""}]
[null,null,null,null,null,null,null,null,null,null,null,null,null,null,null,null,null,null,null,null,null,{"$f":"IF(COUNT(A24)=1,(ord(A24)&\" على الصف \"),\" \")","v":""},null,{"$f":"IF(COUNT(W24)=1,B_Only(W24,1,1,2,\"علامة\",\"علامتان\",\"علامات\"),\" \")","v":""},{"$f":"IF(COUNT(W24)=1,ROUND(W24/temp!$B$9,2),\" \")","v":""},{"$f":"IF(COUNT(Y24)=1, B_Only(INT(Y24),1,0,2,\"بالمئة\",\"بالمئة\",\"بالمئة\") &\" و  \" &B_Only((Y24-INT(Y24))*100,1,0,2,\"عشر\",\"عشران\",\"اعشار\"),\" \")","v":""},{"$f":"IF(COUNT(H24)=1,B_Only(H24,1,1,2,\"علامة\",\"علامتان\",\"علامات\"),\" \")","v":""},{"$f":"IF(COUNT(I24)=1,B_Only(I24,1,1,2,\"علامة\",\"علامتان\",\"علامات\"),\" \")","v":""},{"$f":"IF(COUNT(J24)=1,B_Only(J24,1,1,2,\"علامة\",\"علامتان\",\"علامات\"),\" \")","v":""},{"$f":"IF(COUNT(K24)=1,B_Only(K24,1,1,2,\"علامة\",\"علامتان\",\"علامات\"),\" \")","v":""},{"$f":"IF(COUNT(L24)=1,B_Only(L24,1,1,2,\"علامة\",\"علامتان\",\"علامات\"),\" \")","v":""},{"$f":"IF(COUNT(M24)=1,B_Only(M24,1,1,2,\"علامة\",\"علامتان\",\"علامات\"),\" \")","v":""},{"$f":"IF(COUNT(N24)=1,B_Only(N24,1,1,2,\"علامة\",\"علامتان\",\"علامات\"),\" \")","v":""},{"$f":"IF(COUNT(O24)=1,B_Only(O24,1,1,2,\"علامة\",\"علامتان\",\"علامات\"),\" \")","v":""},{"$f":"IF(COUNT(P24)=1,B_Only(P24,1,1,2,\"علامة\",\"علامتان\",\"علامات\"),\" \")","v":""},{"$f":"IF(COUNT(Q24)=1,B_Only(Q24,1,1,2,\"علامة\",\"علامتان\",\"علامات\"),\" \")","v":""},{"$f":"IF(COUNT(R24)=1,B_Only(R24,1,1,2,\"علامة\",\"علامتان\",\"علامات\"),\" \")","v":""},{"$f":"IF(COUNT(S24)=1,B_Only(S24,1,1,2,\"علامة\",\"علامتان\",\"علامات\"),\" \")","v":""},{"$f":"IF(COUNT(T24)=1,B_Only(T24,1,1,2,\"علامة\",\"علامتان\",\"علامات\"),\" \")","v":""},{"$f":"IF(COUNT(U24)=1,B_Only(U24,1,1,2,\"علامة\",\"علامتان\",\"علامات\"),\" \")","v":""}]
[null,null,null,null,null,null,null,null,null,null,null,null,null,null,null,null,null,null,null,null,null,{"$f":"IF(COUNT(A25)=1,(ord(A25)&\" على الصف \"),\" \")","v":""},null,{"$f":"IF(COUNT(W25)=1,B_Only(W25,1,1,2,\"علامة\",\"علامتان\",\"علامات\"),\" \")","v":""},{"$f":"IF(COUNT(W25)=1,ROUND(W25/temp!$B$9,2),\" \")","v":""},{"$f":"IF(COUNT(Y25)=1, B_Only(INT(Y25),1,0,2,\"بالمئة\",\"بالمئة\",\"بالمئة\") &\" و  \" &B_Only((Y25-INT(Y25))*100,1,0,2,\"عشر\",\"عشران\",\"اعشار\"),\" \")","v":""},{"$f":"IF(COUNT(H25)=1,B_Only(H25,1,1,2,\"علامة\",\"علامتان\",\"علامات\"),\" \")","v":""},{"$f":"IF(COUNT(I25)=1,B_Only(I25,1,1,2,\"علامة\",\"علامتان\",\"علامات\"),\" \")","v":""},{"$f":"IF(COUNT(J25)=1,B_Only(J25,1,1,2,\"علامة\",\"علامتان\",\"علامات\"),\" \")","v":""},{"$f":"IF(COUNT(K25)=1,B_Only(K25,1,1,2,\"علامة\",\"علامتان\",\"علامات\"),\" \")","v":""},{"$f":"IF(COUNT(L25)=1,B_Only(L25,1,1,2,\"علامة\",\"علامتان\",\"علامات\"),\" \")","v":""},{"$f":"IF(COUNT(M25)=1,B_Only(M25,1,1,2,\"علامة\",\"علامتان\",\"علامات\"),\" \")","v":""},{"$f":"IF(COUNT(N25)=1,B_Only(N25,1,1,2,\"علامة\",\"علامتان\",\"علامات\"),\" \")","v":""},{"$f":"IF(COUNT(O25)=1,B_Only(O25,1,1,2,\"علامة\",\"علامتان\",\"علامات\"),\" \")","v":""},{"$f":"IF(COUNT(P25)=1,B_Only(P25,1,1,2,\"علامة\",\"علامتان\",\"علامات\"),\" \")","v":""},{"$f":"IF(COUNT(Q25)=1,B_Only(Q25,1,1,2,\"علامة\",\"علامتان\",\"علامات\"),\" \")","v":""},{"$f":"IF(COUNT(R25)=1,B_Only(R25,1,1,2,\"علامة\",\"علامتان\",\"علامات\"),\" \")","v":""},{"$f":"IF(COUNT(S25)=1,B_Only(S25,1,1,2,\"علامة\",\"علامتان\",\"علامات\"),\" \")","v":""},{"$f":"IF(COUNT(T25)=1,B_Only(T25,1,1,2,\"علامة\",\"علامتان\",\"علامات\"),\" \")","v":""},{"$f":"IF(COUNT(U25)=1,B_Only(U25,1,1,2,\"علامة\",\"علامتان\",\"علامات\"),\" \")","v":""}]
[null,null,null,null,null,null,null,null,null,null,null,null,null,null,null,null,null,null,null,null,null,{"$f":"IF(COUNT(A26)=1,(ord(A26)&\" على الصف \"),\" \")","v":""},null,{"$f":"IF(COUNT(W26)=1,B_Only(W26,1,1,2,\"علامة\",\"علامتان\",\"علامات\"),\" \")","v":""},{"$f":"IF(COUNT(W26)=1,ROUND(W26/temp!$B$9,2),\" \")","v":""},{"$f":"IF(COUNT(Y26)=1, B_Only(INT(Y26),1,0,2,\"بالمئة\",\"بالمئة\",\"بالمئة\") &\" و  \" &B_Only((Y26-INT(Y26))*100,1,0,2,\"عشر\",\"عشران\",\"اعشار\"),\" \")","v":""},{"$f":"IF(COUNT(H26)=1,B_Only(H26,1,1,2,\"علامة\",\"علامتان\",\"علامات\"),\" \")","v":""},{"$f":"IF(COUNT(I26)=1,B_Only(I26,1,1,2,\"علامة\",\"علامتان\",\"علامات\"),\" \")","v":""},{"$f":"IF(COUNT(J26)=1,B_Only(J26,1,1,2,\"علامة\",\"علامتان\",\"علامات\"),\" \")","v":""},{"$f":"IF(COUNT(K26)=1,B_Only(K26,1,1,2,\"علامة\",\"علامتان\",\"علامات\"),\" \")","v":""},{"$f":"IF(COUNT(L26)=1,B_Only(L26,1,1,2,\"علامة\",\"علامتان\",\"علامات\"),\" \")","v":""},{"$f":"IF(COUNT(M26)=1,B_Only(M26,1,1,2,\"علامة\",\"علامتان\",\"علامات\"),\" \")","v":""},{"$f":"IF(COUNT(N26)=1,B_Only(N26,1,1,2,\"علامة\",\"علامتان\",\"علامات\"),\" \")","v":""},{"$f":"IF(COUNT(O26)=1,B_Only(O26,1,1,2,\"علامة\",\"علامتان\",\"علامات\"),\" \")","v":""},{"$f":"IF(COUNT(P26)=1,B_Only(P26,1,1,2,\"علامة\",\"علامتان\",\"علامات\"),\" \")","v":""},{"$f":"IF(COUNT(Q26)=1,B_Only(Q26,1,1,2,\"علامة\",\"علامتان\",\"علامات\"),\" \")","v":""},{"$f":"IF(COUNT(R26)=1,B_Only(R26,1,1,2,\"علامة\",\"علامتان\",\"علامات\"),\" \")","v":""},{"$f":"IF(COUNT(S26)=1,B_Only(S26,1,1,2,\"علامة\",\"علامتان\",\"علامات\"),\" \")","v":""},{"$f":"IF(COUNT(T26)=1,B_Only(T26,1,1,2,\"علامة\",\"علامتان\",\"علامات\"),\" \")","v":""},{"$f":"IF(COUNT(U26)=1,B_Only(U26,1,1,2,\"علامة\",\"علامتان\",\"علامات\"),\" \")","v":""}]
[null,null,null,null,null,null,null,null,null,null,null,null,null,null,null,null,null,null,null,null,null,{"$f":"IF(COUNT(A27)=1,(ord(A27)&\" على الصف \"),\" \")","v":""},null,{"$f":"IF(COUNT(W27)=1,B_Only(W27,1,1,2,\"علامة\",\"علامتان\",\"علامات\"),\" \")","v":""},{"$f":"IF(COUNT(W27)=1,ROUND(W27/temp!$B$9,2),\" \")","v":""},{"$f":"IF(COUNT(Y27)=1, B_Only(INT(Y27),1,0,2,\"بالمئة\",\"بالمئة\",\"بالمئة\") &\" و  \" &B_Only((Y27-INT(Y27))*100,1,0,2,\"عشر\",\"عشران\",\"اعشار\"),\" \")","v":""},{"$f":"IF(COUNT(H27)=1,B_Only(H27,1,1,2,\"علامة\",\"علامتان\",\"علامات\"),\" \")","v":""},{"$f":"IF(COUNT(I27)=1,B_Only(I27,1,1,2,\"علامة\",\"علامتان\",\"علامات\"),\" \")","v":""},{"$f":"IF(COUNT(J27)=1,B_Only(J27,1,1,2,\"علامة\",\"علامتان\",\"علامات\"),\" \")","v":""},{"$f":"IF(COUNT(K27)=1,B_Only(K27,1,1,2,\"علامة\",\"علامتان\",\"علامات\"),\" \")","v":""},{"$f":"IF(COUNT(L27)=1,B_Only(L27,1,1,2,\"علامة\",\"علامتان\",\"علامات\"),\" \")","v":""},{"$f":"IF(COUNT(M27)=1,B_Only(M27,1,1,2,\"علامة\",\"علامتان\",\"علامات\"),\" \")","v":""},{"$f":"IF(COUNT(N27)=1,B_Only(N27,1,1,2,\"علامة\",\"علامتان\",\"علامات\"),\" \")","v":""},{"$f":"IF(COUNT(O27)=1,B_Only(O27,1,1,2,\"علامة\",\"علامتان\",\"علامات\"),\" \")","v":""},{"$f":"IF(COUNT(P27)=1,B_Only(P27,1,1,2,\"علامة\",\"علامتان\",\"علامات\"),\" \")","v":""},{"$f":"IF(COUNT(Q27)=1,B_Only(Q27,1,1,2,\"علامة\",\"علامتان\",\"علامات\"),\" \")","v":""},{"$f":"IF(COUNT(R27)=1,B_Only(R27,1,1,2,\"علامة\",\"علامتان\",\"علامات\"),\" \")","v":""},{"$f":"IF(COUNT(S27)=1,B_Only(S27,1,1,2,\"علامة\",\"علامتان\",\"علامات\"),\" \")","v":""},{"$f":"IF(COUNT(T27)=1,B_Only(T27,1,1,2,\"علامة\",\"علامتان\",\"علامات\"),\" \")","v":""},{"$f":"IF(COUNT(U27)=1,B_Only(U27,1,1,2,\"علامة\",\"علامتان\",\"علامات\"),\" \")","v":""}]
[null,null,null,null,null,null,null,null,null,null,null,null,null,null,null,null,null,null,null,null,null,{"$f":"IF(COUNT(A28)=1,(ord(A28)&\" على الصف \"),\" \")","v":""},null,{"$f":"IF(COUNT(W28)=1,B_Only(W28,1,1,2,\"علامة\",\"علامتان\",\"علامات\"),\" \")","v":""},{"$f":"IF(COUNT(W28)=1,ROUND(W28/temp!$B$9,2),\" \")","v":""},{"$f":"IF(COUNT(Y28)=1, B_Only(INT(Y28),1,0,2,\"بالمئة\",\"بالمئة\",\"بالمئة\") &\" و  \" &B_Only((Y28-INT(Y28))*100,1,0,2,\"عشر\",\"عشران\",\"اعشار\"),\" \")","v":""},{"$f":"IF(COUNT(H28)=1,B_Only(H28,1,1,2,\"علامة\",\"علامتان\",\"علامات\"),\" \")","v":""},{"$f":"IF(COUNT(I28)=1,B_Only(I28,1,1,2,\"علامة\",\"علامتان\",\"علامات\"),\" \")","v":""},{"$f":"IF(COUNT(J28)=1,B_Only(J28,1,1,2,\"علامة\",\"علامتان\",\"علامات\"),\" \")","v":""},{"$f":"IF(COUNT(K28)=1,B_Only(K28,1,1,2,\"علامة\",\"علامتان\",\"علامات\"),\" \")","v":""},{"$f":"IF(COUNT(L28)=1,B_Only(L28,1,1,2,\"علامة\",\"علامتان\",\"علامات\"),\" \")","v":""},{"$f":"IF(COUNT(M28)=1,B_Only(M28,1,1,2,\"علامة\",\"علامتان\",\"علامات\"),\" \")","v":""},{"$f":"IF(COUNT(N28)=1,B_Only(N28,1,1,2,\"علامة\",\"علامتان\",\"علامات\"),\" \")","v":""},{"$f":"IF(COUNT(O28)=1,B_Only(O28,1,1,2,\"علامة\",\"علامتان\",\"علامات\"),\" \")","v":""},{"$f":"IF(COUNT(P28)=1,B_Only(P28,1,1,2,\"علامة\",\"علامتان\",\"علامات\"),\" \")","v":""},{"$f":"IF(COUNT(Q28)=1,B_Only(Q28,1,1,2,\"علامة\",\"علامتان\",\"علامات\"),\" \")","v":""},{"$f":"IF(COUNT(R28)=1,B_Only(R28,1,1,2,\"علامة\",\"علامتان\",\"علامات\"),\" \")","v":""},{"$f":"IF(COUNT(S28)=1,B_Only(S28,1,1,2,\"علامة\",\"علامتان\",\"علامات\"),\" \")","v":""},{"$f":"IF(COUNT(T28)=1,B_Only(T28,1,1,2,\"علامة\",\"علامتان\",\"علامات\"),\" \")","v":""},{"$f":"IF(COUNT(U28)=1,B_Only(U28,1,1,2,\"علامة\",\"علامتان\",\"علامات\"),\" \")","v":""}]
[null,null,null,null,null,null,null,null,null,null,null,null,null,null,null,null,null,null,null,null,null,{"$f":"IF(COUNT(A29)=1,(ord(A29)&\" على الصف \"),\" \")","v":""},null,{"$f":"IF(COUNT(W29)=1,B_Only(W29,1,1,2,\"علامة\",\"علامتان\",\"علامات\"),\" \")","v":""},{"$f":"IF(COUNT(W29)=1,ROUND(W29/temp!$B$9,2),\" \")","v":""},{"$f":"IF(COUNT(Y29)=1, B_Only(INT(Y29),1,0,2,\"بالمئة\",\"بالمئة\",\"بالمئة\") &\" و  \" &B_Only((Y29-INT(Y29))*100,1,0,2,\"عشر\",\"عشران\",\"اعشار\"),\" \")","v":""},{"$f":"IF(COUNT(H29)=1,B_Only(H29,1,1,2,\"علامة\",\"علامتان\",\"علامات\"),\" \")","v":""},{"$f":"IF(COUNT(I29)=1,B_Only(I29,1,1,2,\"علامة\",\"علامتان\",\"علامات\"),\" \")","v":""},{"$f":"IF(COUNT(J29)=1,B_Only(J29,1,1,2,\"علامة\",\"علامتان\",\"علامات\"),\" \")","v":""},{"$f":"IF(COUNT(K29)=1,B_Only(K29,1,1,2,\"علامة\",\"علامتان\",\"علامات\"),\" \")","v":""},{"$f":"IF(COUNT(L29)=1,B_Only(L29,1,1,2,\"علامة\",\"علامتان\",\"علامات\"),\" \")","v":""},{"$f":"IF(COUNT(M29)=1,B_Only(M29,1,1,2,\"علامة\",\"علامتان\",\"علامات\"),\" \")","v":""},{"$f":"IF(COUNT(N29)=1,B_Only(N29,1,1,2,\"علامة\",\"علامتان\",\"علامات\"),\" \")","v":""},{"$f":"IF(COUNT(O29)=1,B_Only(O29,1,1,2,\"علامة\",\"علامتان\",\"علامات\"),\" \")","v":""},{"$f":"IF(COUNT(P29)=1,B_Only(P29,1,1,2,\"علامة\",\"علامتان\",\"علامات\"),\" \")","v":""},{"$f":"IF(COUNT(Q29)=1,B_Only(Q29,1,1,2,\"علامة\",\"علامتان\",\"علامات\"),\" \")","v":""},{"$f":"IF(COUNT(R29)=1,B_Only(R29,1,1,2,\"علامة\",\"علامتان\",\"علامات\"),\" \")","v":""},{"$f":"IF(COUNT(S29)=1,B_Only(S29,1,1,2,\"علامة\",\"علامتان\",\"علامات\"),\" \")","v":""},{"$f":"IF(COUNT(T29)=1,B_Only(T29,1,1,2,\"علامة\",\"علامتان\",\"علامات\"),\" \")","v":""},{"$f":"IF(COUNT(U29)=1,B_Only(U29,1,1,2,\"علامة\",\"علامتان\",\"علامات\"),\" \")","v":""}]
[null,null,null,null,null,null,null,null,null,null,null,null,null,null,null,null,null,null,null,null,null,{"$f":"IF(COUNT(A30)=1,(ord(A30)&\" على الصف \"),\" \")","v":""},null,{"$f":"IF(COUNT(W30)=1,B_Only(W30,1,1,2,\"علامة\",\"علامتان\",\"علامات\"),\" \")","v":""},{"$f":"IF(COUNT(W30)=1,ROUND(W30/temp!$B$9,2),\" \")","v":""},{"$f":"IF(COUNT(Y30)=1, B_Only(INT(Y30),1,0,2,\"بالمئة\",\"بالمئة\",\"بالمئة\") &\" و  \" &B_Only((Y30-INT(Y30))*100,1,0,2,\"عشر\",\"عشران\",\"اعشار\"),\" \")","v":""},{"$f":"IF(COUNT(H30)=1,B_Only(H30,1,1,2,\"علامة\",\"علامتان\",\"علامات\"),\" \")","v":""},{"$f":"IF(COUNT(I30)=1,B_Only(I30,1,1,2,\"علامة\",\"علامتان\",\"علامات\"),\" \")","v":""},{"$f":"IF(COUNT(J30)=1,B_Only(J30,1,1,2,\"علامة\",\"علامتان\",\"علامات\"),\" \")","v":""},{"$f":"IF(COUNT(K30)=1,B_Only(K30,1,1,2,\"علامة\",\"علامتان\",\"علامات\"),\" \")","v":""},{"$f":"IF(COUNT(L30)=1,B_Only(L30,1,1,2,\"علامة\",\"علامتان\",\"علامات\"),\" \")","v":""},{"$f":"IF(COUNT(M30)=1,B_Only(M30,1,1,2,\"علامة\",\"علامتان\",\"علامات\"),\" \")","v":""},{"$f":"IF(COUNT(N30)=1,B_Only(N30,1,1,2,\"علامة\",\"علامتان\",\"علامات\"),\" \")","v":""},{"$f":"IF(COUNT(O30)=1,B_Only(O30,1,1,2,\"علامة\",\"علامتان\",\"علامات\"),\" \")","v":""},{"$f":"IF(COUNT(P30)=1,B_Only(P30,1,1,2,\"علامة\",\"علامتان\",\"علامات\"),\" \")","v":""},{"$f":"IF(COUNT(Q30)=1,B_Only(Q30,1,1,2,\"علامة\",\"علامتان\",\"علامات\"),\" \")","v":""},{"$f":"IF(COUNT(R30)=1,B_Only(R30,1,1,2,\"علامة\",\"علامتان\",\"علامات\"),\" \")","v":""},{"$f":"IF(COUNT(S30)=1,B_Only(S30,1,1,2,\"علامة\",\"علامتان\",\"علامات\"),\" \")","v":""},{"$f":"IF(COUNT(T30)=1,B_Only(T30,1,1,2,\"علامة\",\"علامتان\",\"علامات\"),\" \")","v":""},{"$f":"IF(COUNT(U30)=1,B_Only(U30,1,1,2,\"علامة\",\"علامتان\",\"علامات\"),\" \")","v":""}]
[null,null,null,null,null,null,null,null,null,null,null,null,null,null,null,null,null,null,null,null,null,{"$f":"IF(COUNT(A31)=1,(ord(A31)&\" على الصف \"),\" \")","v":""},null,{"$f":"IF(COUNT(W31)=1,B_Only(W31,1,1,2,\"علامة\",\"علامتان\",\"علامات\"),\" \")","v":""},{"$f":"IF(COUNT(W31)=1,ROUND(W31/temp!$B$9,2),\" \")","v":""},{"$f":"IF(COUNT(Y31)=1, B_Only(INT(Y31),1,0,2,\"بالمئة\",\"بالمئة\",\"بالمئة\") &\" و  \" &B_Only((Y31-INT(Y31))*100,1,0,2,\"عشر\",\"عشران\",\"اعشار\"),\" \")","v":""},{"$f":"IF(COUNT(H31)=1,B_Only(H31,1,1,2,\"علامة\",\"علامتان\",\"علامات\"),\" \")","v":""},{"$f":"IF(COUNT(I31)=1,B_Only(I31,1,1,2,\"علامة\",\"علامتان\",\"علامات\"),\" \")","v":""},{"$f":"IF(COUNT(J31)=1,B_Only(J31,1,1,2,\"علامة\",\"علامتان\",\"علامات\"),\" \")","v":""},{"$f":"IF(COUNT(K31)=1,B_Only(K31,1,1,2,\"علامة\",\"علامتان\",\"علامات\"),\" \")","v":""},{"$f":"IF(COUNT(L31)=1,B_Only(L31,1,1,2,\"علامة\",\"علامتان\",\"علامات\"),\" \")","v":""},{"$f":"IF(COUNT(M31)=1,B_Only(M31,1,1,2,\"علامة\",\"علامتان\",\"علامات\"),\" \")","v":""},{"$f":"IF(COUNT(N31)=1,B_Only(N31,1,1,2,\"علامة\",\"علامتان\",\"علامات\"),\" \")","v":""},{"$f":"IF(COUNT(O31)=1,B_Only(O31,1,1,2,\"علامة\",\"علامتان\",\"علامات\"),\" \")","v":""},{"$f":"IF(COUNT(P31)=1,B_Only(P31,1,1,2,\"علامة\",\"علامتان\",\"علامات\"),\" \")","v":""},{"$f":"IF(COUNT(Q31)=1,B_Only(Q31,1,1,2,\"علامة\",\"علامتان\",\"علامات\"),\" \")","v":""},{"$f":"IF(COUNT(R31)=1,B_Only(R31,1,1,2,\"علامة\",\"علامتان\",\"علامات\"),\" \")","v":""},{"$f":"IF(COUNT(S31)=1,B_Only(S31,1,1,2,\"علامة\",\"علامتان\",\"علامات\"),\" \")","v":""},{"$f":"IF(COUNT(T31)=1,B_Only(T31,1,1,2,\"علامة\",\"علامتان\",\"علامات\"),\" \")","v":""},{"$f":"IF(COUNT(U31)=1,B_Only(U31,1,1,2,\"علامة\",\"علامتان\",\"علامات\"),\" \")","v":""}]
[null,null,null,null,null,null,null,null,null,null,null,null,null,null,null,null,null,null,null,null,null,{"$f":"IF(COUNT(A32)=1,(ord(A32)&\" على الصف \"),\" \")","v":""},null,{"$f":"IF(COUNT(W32)=1,B_Only(W32,1,1,2,\"علامة\",\"علامتان\",\"علامات\"),\" \")","v":""},{"$f":"IF(COUNT(W32)=1,ROUND(W32/temp!$B$9,2),\" \")","v":""},{"$f":"IF(COUNT(Y32)=1, B_Only(INT(Y32),1,0,2,\"بالمئة\",\"بالمئة\",\"بالمئة\") &\" و  \" &B_Only((Y32-INT(Y32))*100,1,0,2,\"عشر\",\"عشران\",\"اعشار\"),\" \")","v":""},{"$f":"IF(COUNT(H32)=1,B_Only(H32,1,1,2,\"علامة\",\"علامتان\",\"علامات\"),\" \")","v":""},{"$f":"IF(COUNT(I32)=1,B_Only(I32,1,1,2,\"علامة\",\"علامتان\",\"علامات\"),\" \")","v":""},{"$f":"IF(COUNT(J32)=1,B_Only(J32,1,1,2,\"علامة\",\"علامتان\",\"علامات\"),\" \")","v":""},{"$f":"IF(COUNT(K32)=1,B_Only(K32,1,1,2,\"علامة\",\"علامتان\",\"علامات\"),\" \")","v":""},{"$f":"IF(COUNT(L32)=1,B_Only(L32,1,1,2,\"علامة\",\"علامتان\",\"علامات\"),\" \")","v":""},{"$f":"IF(COUNT(M32)=1,B_Only(M32,1,1,2,\"علامة\",\"علامتان\",\"علامات\"),\" \")","v":""},{"$f":"IF(COUNT(N32)=1,B_Only(N32,1,1,2,\"علامة\",\"علامتان\",\"علامات\"),\" \")","v":""},{"$f":"IF(COUNT(O32)=1,B_Only(O32,1,1,2,\"علامة\",\"علامتان\",\"علامات\"),\" \")","v":""},{"$f":"IF(COUNT(P32)=1,B_Only(P32,1,1,2,\"علامة\",\"علامتان\",\"علامات\"),\" \")","v":""},{"$f":"IF(COUNT(Q32)=1,B_Only(Q32,1,1,2,\"علامة\",\"علامتان\",\"علامات\"),\" \")","v":""},{"$f":"IF(COUNT(R32)=1,B_Only(R32,1,1,2,\"علامة\",\"علامتان\",\"علامات\"),\" \")","v":""},{"$f":"IF(COUNT(S32)=1,B_Only(S32,1,1,2,\"علامة\",\"علامتان\",\"علامات\"),\" \")","v":""},{"$f":"IF(COUNT(T32)=1,B_Only(T32,1,1,2,\"علامة\",\"علامتان\",\"علامات\"),\" \")","v":""},{"$f":"IF(COUNT(U32)=1,B_Only(U32,1,1,2,\"علامة\",\"علامتان\",\"علامات\"),\" \")","v":""}]
[null,null,null,null,null,null,null,null,null,null,null,null,null,null,null,null,null,null,null,null,null,{"$f":"IF(COUNT(A33)=1,(ord(A33)&\" على الصف \"),\" \")","v":""},null,{"$f":"IF(COUNT(W33)=1,B_Only(W33,1,1,2,\"علامة\",\"علامتان\",\"علامات\"),\" \")","v":""},{"$f":"IF(COUNT(W33)=1,ROUND(W33/temp!$B$9,2),\" \")","v":""},{"$f":"IF(COUNT(Y33)=1, B_Only(INT(Y33),1,0,2,\"بالمئة\",\"بالمئة\",\"بالمئة\") &\" و  \" &B_Only((Y33-INT(Y33))*100,1,0,2,\"عشر\",\"عشران\",\"اعشار\"),\" \")","v":""},{"$f":"IF(COUNT(H33)=1,B_Only(H33,1,1,2,\"علامة\",\"علامتان\",\"علامات\"),\" \")","v":""},{"$f":"IF(COUNT(I33)=1,B_Only(I33,1,1,2,\"علامة\",\"علامتان\",\"علامات\"),\" \")","v":""},{"$f":"IF(COUNT(J33)=1,B_Only(J33,1,1,2,\"علامة\",\"علامتان\",\"علامات\"),\" \")","v":""},{"$f":"IF(COUNT(K33)=1,B_Only(K33,1,1,2,\"علامة\",\"علامتان\",\"علامات\"),\" \")","v":""},{"$f":"IF(COUNT(L33)=1,B_Only(L33,1,1,2,\"علامة\",\"علامتان\",\"علامات\"),\" \")","v":""},{"$f":"IF(COUNT(M33)=1,B_Only(M33,1,1,2,\"علامة\",\"علامتان\",\"علامات\"),\" \")","v":""},{"$f":"IF(COUNT(N33)=1,B_Only(N33,1,1,2,\"علامة\",\"علامتان\",\"علامات\"),\" \")","v":""},{"$f":"IF(COUNT(O33)=1,B_Only(O33,1,1,2,\"علامة\",\"علامتان\",\"علامات\"),\" \")","v":""},{"$f":"IF(COUNT(P33)=1,B_Only(P33,1,1,2,\"علامة\",\"علامتان\",\"علامات\"),\" \")","v":""},{"$f":"IF(COUNT(Q33)=1,B_Only(Q33,1,1,2,\"علامة\",\"علامتان\",\"علامات\"),\" \")","v":""},{"$f":"IF(COUNT(R33)=1,B_Only(R33,1,1,2,\"علامة\",\"علامتان\",\"علامات\"),\" \")","v":""},{"$f":"IF(COUNT(S33)=1,B_Only(S33,1,1,2,\"علامة\",\"علامتان\",\"علامات\"),\" \")","v":""},{"$f":"IF(COUNT(T33)=1,B_Only(T33,1,1,2,\"علامة\",\"علامتان\",\"علامات\"),\" \")","v":""},{"$f":"IF(COUNT(U33)=1,B_Only(U33,1,1,2,\"علامة\",\"علامتان\",\"علامات\"),\" \")","v":""}]
[null,null,null,null,null,null,null,null,null,null,null,null,null,null,null,null,null,null,null,null,null,{"$f":"IF(COUNT(A34)=1,(ord(A34)&\" على الصف \"),\" \")","v":""},null,{"$f":"IF(COUNT(W34)=1,B_Only(W34,1,1,2,\"علامة\",\"علامتان\",\"علامات\"),\" \")","v":""},{"$f":"IF(COUNT(W34)=1,ROUND(W34/temp!$B$9,2),\" \")","v":""},{"$f":"IF(COUNT(Y34)=1, B_Only(INT(Y34),1,0,2,\"بالمئة\",\"بالمئة\",\"بالمئة\") &\" و  \" &B_Only((Y34-INT(Y34))*100,1,0,2,\"عشر\",\"عشران\",\"اعشار\"),\" \")","v":""},{"$f":"IF(COUNT(H34)=1,B_Only(H34,1,1,2,\"علامة\",\"علامتان\",\"علامات\"),\" \")","v":""},{"$f":"IF(COUNT(I34)=1,B_Only(I34,1,1,2,\"علامة\",\"علامتان\",\"علامات\"),\" \")","v":""},{"$f":"IF(COUNT(J34)=1,B_Only(J34,1,1,2,\"علامة\",\"علامتان\",\"علامات\"),\" \")","v":""},{"$f":"IF(COUNT(K34)=1,B_Only(K34,1,1,2,\"علامة\",\"علامتان\",\"علامات\"),\" \")","v":""},{"$f":"IF(COUNT(L34)=1,B_Only(L34,1,1,2,\"علامة\",\"علامتان\",\"علامات\"),\" \")","v":""},{"$f":"IF(COUNT(M34)=1,B_Only(M34,1,1,2,\"علامة\",\"علامتان\",\"علامات\"),\" \")","v":""},{"$f":"IF(COUNT(N34)=1,B_Only(N34,1,1,2,\"علامة\",\"علامتان\",\"علامات\"),\" \")","v":""},{"$f":"IF(COUNT(O34)=1,B_Only(O34,1,1,2,\"علامة\",\"علامتان\",\"علامات\"),\" \")","v":""},{"$f":"IF(COUNT(P34)=1,B_Only(P34,1,1,2,\"علامة\",\"علامتان\",\"علامات\"),\" \")","v":""},{"$f":"IF(COUNT(Q34)=1,B_Only(Q34,1,1,2,\"علامة\",\"علامتان\",\"علامات\"),\" \")","v":""},{"$f":"IF(COUNT(R34)=1,B_Only(R34,1,1,2,\"علامة\",\"علامتان\",\"علامات\"),\" \")","v":""},{"$f":"IF(COUNT(S34)=1,B_Only(S34,1,1,2,\"علامة\",\"علامتان\",\"علامات\"),\" \")","v":""},{"$f":"IF(COUNT(T34)=1,B_Only(T34,1,1,2,\"علامة\",\"علامتان\",\"علامات\"),\" \")","v":""},{"$f":"IF(COUNT(U34)=1,B_Only(U34,1,1,2,\"علامة\",\"علامتان\",\"علامات\"),\" \")","v":""}]
[null,null,null,null,null,null,null,null,null,null,null,null,null,null,null,null,null,null,null,null,null,{"$f":"IF(COUNT(A35)=1,(ord(A35)&\" على الصف \"),\" \")","v":""},null,{"$f":"IF(COUNT(W35)=1,B_Only(W35,1,1,2,\"علامة\",\"علامتان\",\"علامات\"),\" \")","v":""},{"$f":"IF(COUNT(W35)=1,ROUND(W35/temp!$B$9,2),\" \")","v":""},{"$f":"IF(COUNT(Y35)=1, B_Only(INT(Y35),1,0,2,\"بالمئة\",\"بالمئة\",\"بالمئة\") &\" و  \" &B_Only((Y35-INT(Y35))*100,1,0,2,\"عشر\",\"عشران\",\"اعشار\"),\" \")","v":""},{"$f":"IF(COUNT(H35)=1,B_Only(H35,1,1,2,\"علامة\",\"علامتان\",\"علامات\"),\" \")","v":""},{"$f":"IF(COUNT(I35)=1,B_Only(I35,1,1,2,\"علامة\",\"علامتان\",\"علامات\"),\" \")","v":""},{"$f":"IF(COUNT(J35)=1,B_Only(J35,1,1,2,\"علامة\",\"علامتان\",\"علامات\"),\" \")","v":""},{"$f":"IF(COUNT(K35)=1,B_Only(K35,1,1,2,\"علامة\",\"علامتان\",\"علامات\"),\" \")","v":""},{"$f":"IF(COUNT(L35)=1,B_Only(L35,1,1,2,\"علامة\",\"علامتان\",\"علامات\"),\" \")","v":""},{"$f":"IF(COUNT(M35)=1,B_Only(M35,1,1,2,\"علامة\",\"علامتان\",\"علامات\"),\" \")","v":""},{"$f":"IF(COUNT(N35)=1,B_Only(N35,1,1,2,\"علامة\",\"علامتان\",\"علامات\"),\" \")","v":""},{"$f":"IF(COUNT(O35)=1,B_Only(O35,1,1,2,\"علامة\",\"علامتان\",\"علامات\"),\" \")","v":""},{"$f":"IF(COUNT(P35)=1,B_Only(P35,1,1,2,\"علامة\",\"علامتان\",\"علامات\"),\" \")","v":""},{"$f":"IF(COUNT(Q35)=1,B_Only(Q35,1,1,2,\"علامة\",\"علامتان\",\"علامات\"),\" \")","v":""},{"$f":"IF(COUNT(R35)=1,B_Only(R35,1,1,2,\"علامة\",\"علامتان\",\"علامات\"),\" \")","v":""},{"$f":"IF(COUNT(S35)=1,B_Only(S35,1,1,2,\"علامة\",\"علامتان\",\"علامات\"),\" \")","v":""},{"$f":"IF(COUNT(T35)=1,B_Only(T35,1,1,2,\"علامة\",\"علامتان\",\"علامات\"),\" \")","v":""},{"$f":"IF(COUNT(U35)=1,B_Only(U35,1,1,2,\"علامة\",\"علامتان\",\"علامات\"),\" \")","v":""}]
[null,null,null,null,null,null,null,null,null,null,null,null,null,null,null,null,null,null,null,null,null,{"$f":"IF(COUNT(A36)=1,(ord(A36)&\" على الصف \"),\" \")","v":""},null,{"$f":"IF(COUNT(W36)=1,B_Only(W36,1,1,2,\"علامة\",\"علامتان\",\"علامات\"),\" \")","v":""},{"$f":"IF(COUNT(W36)=1,ROUND(W36/temp!$B$9,2),\" \")","v":""},{"$f":"IF(COUNT(Y36)=1, B_Only(INT(Y36),1,0,2,\"بالمئة\",\"بالمئة\",\"بالمئة\") &\" و  \" &B_Only((Y36-INT(Y36))*100,1,0,2,\"عشر\",\"عشران\",\"اعشار\"),\" \")","v":""},{"$f":"IF(COUNT(H36)=1,B_Only(H36,1,1,2,\"علامة\",\"علامتان\",\"علامات\"),\" \")","v":""},{"$f":"IF(COUNT(I36)=1,B_Only(I36,1,1,2,\"علامة\",\"علامتان\",\"علامات\"),\" \")","v":""},{"$f":"IF(COUNT(J36)=1,B_Only(J36,1,1,2,\"علامة\",\"علامتان\",\"علامات\"),\" \")","v":""},{"$f":"IF(COUNT(K36)=1,B_Only(K36,1,1,2,\"علامة\",\"علامتان\",\"علامات\"),\" \")","v":""},{"$f":"IF(COUNT(L36)=1,B_Only(L36,1,1,2,\"علامة\",\"علامتان\",\"علامات\"),\" \")","v":""},{"$f":"IF(COUNT(M36)=1,B_Only(M36,1,1,2,\"علامة\",\"علامتان\",\"علامات\"),\" \")","v":""},{"$f":"IF(COUNT(N36)=1,B_Only(N36,1,1,2,\"علامة\",\"علامتان\",\"علامات\"),\" \")","v":""},{"$f":"IF(COUNT(O36)=1,B_Only(O36,1,1,2,\"علامة\",\"علامتان\",\"علامات\"),\" \")","v":""},{"$f":"IF(COUNT(P36)=1,B_Only(P36,1,1,2,\"علامة\",\"علامتان\",\"علامات\"),\" \")","v":""},{"$f":"IF(COUNT(Q36)=1,B_Only(Q36,1,1,2,\"علامة\",\"علامتان\",\"علامات\"),\" \")","v":""},{"$f":"IF(COUNT(R36)=1,B_Only(R36,1,1,2,\"علامة\",\"علامتان\",\"علامات\"),\" \")","v":""},{"$f":"IF(COUNT(S36)=1,B_Only(S36,1,1,2,\"علامة\",\"علامتان\",\"علامات\"),\" \")","v":""},{"$f":"IF(COUNT(T36)=1,B_Only(T36,1,1,2,\"علامة\",\"علامتان\",\"علامات\"),\" \")","v":""},{"$f":"IF(COUNT(U36)=1,B_Only(U36,1,1,2,\"علامة\",\"علامتان\",\"علامات\"),\" \")","v":""}]
[null,null,null,null,null,null,null,null,null,null,null,null,null,null,null,null,null,null,null,null,null,{"$f":"IF(COUNT(A37)=1,(ord(A37)&\" على الصف \"),\" \")","v":""},null,{"$f":"IF(COUNT(W37)=1,B_Only(W37,1,1,2,\"علامة\",\"علامتان\",\"علامات\"),\" \")","v":""},{"$f":"IF(COUNT(W37)=1,ROUND(W37/temp!$B$9,2),\" \")","v":""},{"$f":"IF(COUNT(Y37)=1, B_Only(INT(Y37),1,0,2,\"بالمئة\",\"بالمئة\",\"بالمئة\") &\" و  \" &B_Only((Y37-INT(Y37))*100,1,0,2,\"عشر\",\"عشران\",\"اعشار\"),\" \")","v":""},{"$f":"IF(COUNT(H37)=1,B_Only(H37,1,1,2,\"علامة\",\"علامتان\",\"علامات\"),\" \")","v":""},{"$f":"IF(COUNT(I37)=1,B_Only(I37,1,1,2,\"علامة\",\"علامتان\",\"علامات\"),\" \")","v":""},{"$f":"IF(COUNT(J37)=1,B_Only(J37,1,1,2,\"علامة\",\"علامتان\",\"علامات\"),\" \")","v":""},{"$f":"IF(COUNT(K37)=1,B_Only(K37,1,1,2,\"علامة\",\"علامتان\",\"علامات\"),\" \")","v":""},{"$f":"IF(COUNT(L37)=1,B_Only(L37,1,1,2,\"علامة\",\"علامتان\",\"علامات\"),\" \")","v":""},{"$f":"IF(COUNT(M37)=1,B_Only(M37,1,1,2,\"علامة\",\"علامتان\",\"علامات\"),\" \")","v":""},{"$f":"IF(COUNT(N37)=1,B_Only(N37,1,1,2,\"علامة\",\"علامتان\",\"علامات\"),\" \")","v":""},{"$f":"IF(COUNT(O37)=1,B_Only(O37,1,1,2,\"علامة\",\"علامتان\",\"علامات\"),\" \")","v":""},{"$f":"IF(COUNT(P37)=1,B_Only(P37,1,1,2,\"علامة\",\"علامتان\",\"علامات\"),\" \")","v":""},{"$f":"IF(COUNT(Q37)=1,B_Only(Q37,1,1,2,\"علامة\",\"علامتان\",\"علامات\"),\" \")","v":""},{"$f":"IF(COUNT(R37)=1,B_Only(R37,1,1,2,\"علامة\",\"علامتان\",\"علامات\"),\" \")","v":""},{"$f":"IF(COUNT(S37)=1,B_Only(S37,1,1,2,\"علامة\",\"علامتان\",\"علامات\"),\" \")","v":""},{"$f":"IF(COUNT(T37)=1,B_Only(T37,1,1,2,\"علامة\",\"علامتان\",\"علامات\"),\" \")","v":""},{"$f":"IF(COUNT(U37)=1,B_Only(U37,1,1,2,\"علامة\",\"علامتان\",\"علامات\"),\" \")","v":""}]
[null,null,null,null,null,null,null,null,null,null,null,null,null,null,null,null,null,null,null,null,null,{"$f":"IF(COUNT(A38)=1,(ord(A38)&\" على الصف \"),\" \")","v":""},null,{"$f":"IF(COUNT(W38)=1,B_Only(W38,1,1,2,\"علامة\",\"علامتان\",\"علامات\"),\" \")","v":""},{"$f":"IF(COUNT(W38)=1,ROUND(W38/temp!$B$9,2),\" \")","v":""},{"$f":"IF(COUNT(Y38)=1, B_Only(INT(Y38),1,0,2,\"بالمئة\",\"بالمئة\",\"بالمئة\") &\" و  \" &B_Only((Y38-INT(Y38))*100,1,0,2,\"عشر\",\"عشران\",\"اعشار\"),\" \")","v":""},{"$f":"IF(COUNT(H38)=1,B_Only(H38,1,1,2,\"علامة\",\"علامتان\",\"علامات\"),\" \")","v":""},{"$f":"IF(COUNT(I38)=1,B_Only(I38,1,1,2,\"علامة\",\"علامتان\",\"علامات\"),\" \")","v":""},{"$f":"IF(COUNT(J38)=1,B_Only(J38,1,1,2,\"علامة\",\"علامتان\",\"علامات\"),\" \")","v":""},{"$f":"IF(COUNT(K38)=1,B_Only(K38,1,1,2,\"علامة\",\"علامتان\",\"علامات\"),\" \")","v":""},{"$f":"IF(COUNT(L38)=1,B_Only(L38,1,1,2,\"علامة\",\"علامتان\",\"علامات\"),\" \")","v":""},{"$f":"IF(COUNT(M38)=1,B_Only(M38,1,1,2,\"علامة\",\"علامتان\",\"علامات\"),\" \")","v":""},{"$f":"IF(COUNT(N38)=1,B_Only(N38,1,1,2,\"علامة\",\"علامتان\",\"علامات\"),\" \")","v":""},{"$f":"IF(COUNT(O38)=1,B_Only(O38,1,1,2,\"علامة\",\"علامتان\",\"علامات\"),\" \")","v":""},{"$f":"IF(COUNT(P38)=1,B_Only(P38,1,1,2,\"علامة\",\"علامتان\",\"علامات\"),\" \")","v":""},{"$f":"IF(COUNT(Q38)=1,B_Only(Q38,1,1,2,\"علامة\",\"علامتان\",\"علامات\"),\" \")","v":""},{"$f":"IF(COUNT(R38)=1,B_Only(R38,1,1,2,\"علامة\",\"علامتان\",\"علامات\"),\" \")","v":""},{"$f":"IF(COUNT(S38)=1,B_Only(S38,1,1,2,\"علامة\",\"علامتان\",\"علامات\"),\" \")","v":""},{"$f":"IF(COUNT(T38)=1,B_Only(T38,1,1,2,\"علامة\",\"علامتان\",\"علامات\"),\" \")","v":""},{"$f":"IF(COUNT(U38)=1,B_Only(U38,1,1,2,\"علامة\",\"علامتان\",\"علامات\"),\" \")","v":""}]
[null,null,null,null,null,null,null,null,null,null,null,null,null,null,null,null,null,null,null,null,null,{"$f":"IF(COUNT(A39)=1,(ord(A39)&\" على الصف \"),\" \")","v":""},null,{"$f":"IF(COUNT(W39)=1,B_Only(W39,1,1,2,\"علامة\",\"علامتان\",\"علامات\"),\" \")","v":""},{"$f":"IF(COUNT(W39)=1,ROUND(W39/temp!$B$9,2),\" \")","v":""},{"$f":"IF(COUNT(Y39)=1, B_Only(INT(Y39),1,0,2,\"بالمئة\",\"بالمئة\",\"بالمئة\") &\" و  \" &B_Only((Y39-INT(Y39))*100,1,0,2,\"عشر\",\"عشران\",\"اعشار\"),\" \")","v":""},{"$f":"IF(COUNT(H39)=1,B_Only(H39,1,1,2,\"علامة\",\"علامتان\",\"علامات\"),\" \")","v":""},{"$f":"IF(COUNT(I39)=1,B_Only(I39,1,1,2,\"علامة\",\"علامتان\",\"علامات\"),\" \")","v":""},{"$f":"IF(COUNT(J39)=1,B_Only(J39,1,1,2,\"علامة\",\"علامتان\",\"علامات\"),\" \")","v":""},{"$f":"IF(COUNT(K39)=1,B_Only(K39,1,1,2,\"علامة\",\"علامتان\",\"علامات\"),\" \")","v":""},{"$f":"IF(COUNT(L39)=1,B_Only(L39,1,1,2,\"علامة\",\"علامتان\",\"علامات\"),\" \")","v":""},{"$f":"IF(COUNT(M39)=1,B_Only(M39,1,1,2,\"علامة\",\"علامتان\",\"علامات\"),\" \")","v":""},{"$f":"IF(COUNT(N39)=1,B_Only(N39,1,1,2,\"علامة\",\"علامتان\",\"علامات\"),\" \")","v":""},{"$f":"IF(COUNT(O39)=1,B_Only(O39,1,1,2,\"علامة\",\"علامتان\",\"علامات\"),\" \")","v":""},{"$f":"IF(COUNT(P39)=1,B_Only(P39,1,1,2,\"علامة\",\"علامتان\",\"علامات\"),\" \")","v":""},{"$f":"IF(COUNT(Q39)=1,B_Only(Q39,1,1,2,\"علامة\",\"علامتان\",\"علامات\"),\" \")","v":""},{"$f":"IF(COUNT(R39)=1,B_Only(R39,1,1,2,\"علامة\",\"علامتان\",\"علامات\"),\" \")","v":""},{"$f":"IF(COUNT(S39)=1,B_Only(S39,1,1,2,\"علامة\",\"علامتان\",\"علامات\"),\" \")","v":""},{"$f":"IF(COUNT(T39)=1,B_Only(T39,1,1,2,\"علامة\",\"علامتان\",\"علامات\"),\" \")","v":""},{"$f":"IF(COUNT(U39)=1,B_Only(U39,1,1,2,\"علامة\",\"علامتان\",\"علامات\"),\" \")","v":""}]
[null,null,null,null,null,null,null,null,null,null,null,null,null,null,null,null,null,null,null,null,null,{"$f":"IF(COUNT(A40)=1,(ord(A40)&\" على الصف \"),\" \")","v":""},null,{"$f":"IF(COUNT(W40)=1,B_Only(W40,1,1,2,\"علامة\",\"علامتان\",\"علامات\"),\" \")","v":""},{"$f":"IF(COUNT(W40)=1,ROUND(W40/temp!$B$9,2),\" \")","v":""},{"$f":"IF(COUNT(Y40)=1, B_Only(INT(Y40),1,0,2,\"بالمئة\",\"بالمئة\",\"بالمئة\") &\" و  \" &B_Only((Y40-INT(Y40))*100,1,0,2,\"عشر\",\"عشران\",\"اعشار\"),\" \")","v":""},{"$f":"IF(COUNT(H40)=1,B_Only(H40,1,1,2,\"علامة\",\"علامتان\",\"علامات\"),\" \")","v":""},{"$f":"IF(COUNT(I40)=1,B_Only(I40,1,1,2,\"علامة\",\"علامتان\",\"علامات\"),\" \")","v":""},{"$f":"IF(COUNT(J40)=1,B_Only(J40,1,1,2,\"علامة\",\"علامتان\",\"علامات\"),\" \")","v":""},{"$f":"IF(COUNT(K40)=1,B_Only(K40,1,1,2,\"علامة\",\"علامتان\",\"علامات\"),\" \")","v":""},{"$f":"IF(COUNT(L40)=1,B_Only(L40,1,1,2,\"علامة\",\"علامتان\",\"علامات\"),\" \")","v":""},{"$f":"IF(COUNT(M40)=1,B_Only(M40,1,1,2,\"علامة\",\"علامتان\",\"علامات\"),\" \")","v":""},{"$f":"IF(COUNT(N40)=1,B_Only(N40,1,1,2,\"علامة\",\"علامتان\",\"علامات\"),\" \")","v":""},{"$f":"IF(COUNT(O40)=1,B_Only(O40,1,1,2,\"علامة\",\"علامتان\",\"علامات\"),\" \")","v":""},{"$f":"IF(COUNT(P40)=1,B_Only(P40,1,1,2,\"علامة\",\"علامتان\",\"علامات\"),\" \")","v":""},{"$f":"IF(COUNT(Q40)=1,B_Only(Q40,1,1,2,\"علامة\",\"علامتان\",\"علامات\"),\" \")","v":""},{"$f":"IF(COUNT(R40)=1,B_Only(R40,1,1,2,\"علامة\",\"علامتان\",\"علامات\"),\" \")","v":""},{"$f":"IF(COUNT(S40)=1,B_Only(S40,1,1,2,\"علامة\",\"علامتان\",\"علامات\"),\" \")","v":""},{"$f":"IF(COUNT(T40)=1,B_Only(T40,1,1,2,\"علامة\",\"علامتان\",\"علامات\"),\" \")","v":""},{"$f":"IF(COUNT(U40)=1,B_Only(U40,1,1,2,\"علامة\",\"علامتان\",\"علامات\"),\" \")","v":""}]
[null,null,null,null,null,null,null,null,null,null,null,null,null,null,null,null,null,null,null,null,null,{"$f":"IF(COUNT(A41)=1,(ord(A41)&\" على الصف \"),\" \")","v":""},null,{"$f":"IF(COUNT(W41)=1,B_Only(W41,1,1,2,\"علامة\",\"علامتان\",\"علامات\"),\" \")","v":""},{"$f":"IF(COUNT(W41)=1,ROUND(W41/temp!$B$9,2),\" \")","v":""},{"$f":"IF(COUNT(Y41)=1, B_Only(INT(Y41),1,0,2,\"بالمئة\",\"بالمئة\",\"بالمئة\") &\" و  \" &B_Only((Y41-INT(Y41))*100,1,0,2,\"عشر\",\"عشران\",\"اعشار\"),\" \")","v":""},{"$f":"IF(COUNT(H41)=1,B_Only(H41,1,1,2,\"علامة\",\"علامتان\",\"علامات\"),\" \")","v":""},{"$f":"IF(COUNT(I41)=1,B_Only(I41,1,1,2,\"علامة\",\"علامتان\",\"علامات\"),\" \")","v":""},{"$f":"IF(COUNT(J41)=1,B_Only(J41,1,1,2,\"علامة\",\"علامتان\",\"علامات\"),\" \")","v":""},{"$f":"IF(COUNT(K41)=1,B_Only(K41,1,1,2,\"علامة\",\"علامتان\",\"علامات\"),\" \")","v":""},{"$f":"IF(COUNT(L41)=1,B_Only(L41,1,1,2,\"علامة\",\"علامتان\",\"علامات\"),\" \")","v":""},{"$f":"IF(COUNT(M41)=1,B_Only(M41,1,1,2,\"علامة\",\"علامتان\",\"علامات\"),\" \")","v":""},{"$f":"IF(COUNT(N41)=1,B_Only(N41,1,1,2,\"علامة\",\"علامتان\",\"علامات\"),\" \")","v":""},{"$f":"IF(COUNT(O41)=1,B_Only(O41,1,1,2,\"علامة\",\"علامتان\",\"علامات\"),\" \")","v":""},{"$f":"IF(COUNT(P41)=1,B_Only(P41,1,1,2,\"علامة\",\"علامتان\",\"علامات\"),\" \")","v":""},{"$f":"IF(COUNT(Q41)=1,B_Only(Q41,1,1,2,\"علامة\",\"علامتان\",\"علامات\"),\" \")","v":""},{"$f":"IF(COUNT(R41)=1,B_Only(R41,1,1,2,\"علامة\",\"علامتان\",\"علامات\"),\" \")","v":""},{"$f":"IF(COUNT(S41)=1,B_Only(S41,1,1,2,\"علامة\",\"علامتان\",\"علامات\"),\" \")","v":""},{"$f":"IF(COUNT(T41)=1,B_Only(T41,1,1,2,\"علامة\",\"علامتان\",\"علامات\"),\" \")","v":""},{"$f":"IF(COUNT(U41)=1,B_Only(U41,1,1,2,\"علامة\",\"علامتان\",\"علامات\"),\" \")","v":""}]
[null,null,null,null,null,null,null,null,null,null,null,null,null,null,null,null,null,null,null,null,null,{"$f":"IF(COUNT(A42)=1,(ord(A42)&\" على الصف \"),\" \")","v":""},null,{"$f":"IF(COUNT(W42)=1,B_Only(W42,1,1,2,\"علامة\",\"علامتان\",\"علامات\"),\" \")","v":""},{"$f":"IF(COUNT(W42)=1,ROUND(W42/temp!$B$9,2),\" \")","v":""},{"$f":"IF(COUNT(Y42)=1, B_Only(INT(Y42),1,0,2,\"بالمئة\",\"بالمئة\",\"بالمئة\") &\" و  \" &B_Only((Y42-INT(Y42))*100,1,0,2,\"عشر\",\"عشران\",\"اعشار\"),\" \")","v":""},{"$f":"IF(COUNT(H42)=1,B_Only(H42,1,1,2,\"علامة\",\"علامتان\",\"علامات\"),\" \")","v":""},{"$f":"IF(COUNT(I42)=1,B_Only(I42,1,1,2,\"علامة\",\"علامتان\",\"علامات\"),\" \")","v":""},{"$f":"IF(COUNT(J42)=1,B_Only(J42,1,1,2,\"علامة\",\"علامتان\",\"علامات\"),\" \")","v":""},{"$f":"IF(COUNT(K42)=1,B_Only(K42,1,1,2,\"علامة\",\"علامتان\",\"علامات\"),\" \")","v":""},{"$f":"IF(COUNT(L42)=1,B_Only(L42,1,1,2,\"علامة\",\"علامتان\",\"علامات\"),\" \")","v":""},{"$f":"IF(COUNT(M42)=1,B_Only(M42,1,1,2,\"علامة\",\"علامتان\",\"علامات\"),\" \")","v":""},{"$f":"IF(COUNT(N42)=1,B_Only(N42,1,1,2,\"علامة\",\"علامتان\",\"علامات\"),\" \")","v":""},{"$f":"IF(COUNT(O42)=1,B_Only(O42,1,1,2,\"علامة\",\"علامتان\",\"علامات\"),\" \")","v":""},{"$f":"IF(COUNT(P42)=1,B_Only(P42,1,1,2,\"علامة\",\"علامتان\",\"علامات\"),\" \")","v":""},{"$f":"IF(COUNT(Q42)=1,B_Only(Q42,1,1,2,\"علامة\",\"علامتان\",\"علامات\"),\" \")","v":""},{"$f":"IF(COUNT(R42)=1,B_Only(R42,1,1,2,\"علامة\",\"علامتان\",\"علامات\"),\" \")","v":""},{"$f":"IF(COUNT(S42)=1,B_Only(S42,1,1,2,\"علامة\",\"علامتان\",\"علامات\"),\" \")","v":""},{"$f":"IF(COUNT(T42)=1,B_Only(T42,1,1,2,\"علامة\",\"علامتان\",\"علامات\"),\" \")","v":""},{"$f":"IF(COUNT(U42)=1,B_Only(U42,1,1,2,\"علامة\",\"علامتان\",\"علامات\"),\" \")","v":""}]
[null,null,null,null,null,null,null,null,null,null,null,null,null,null,null,null,null,null,null,null,null,{"$f":"IF(COUNT(A43)=1,(ord(A43)&\" على الصف \"),\" \")","v":""},null,{"$f":"IF(COUNT(W43)=1,B_Only(W43,1,1,2,\"علامة\",\"علامتان\",\"علامات\"),\" \")","v":""},{"$f":"IF(COUNT(W43)=1,ROUND(W43/temp!$B$9,2),\" \")","v":""},{"$f":"IF(COUNT(Y43)=1, B_Only(INT(Y43),1,0,2,\"بالمئة\",\"بالمئة\",\"بالمئة\") &\" و  \" &B_Only((Y43-INT(Y43))*100,1,0,2,\"عشر\",\"عشران\",\"اعشار\"),\" \")","v":""},{"$f":"IF(COUNT(H43)=1,B_Only(H43,1,1,2,\"علامة\",\"علامتان\",\"علامات\"),\" \")","v":""},{"$f":"IF(COUNT(I43)=1,B_Only(I43,1,1,2,\"علامة\",\"علامتان\",\"علامات\"),\" \")","v":""},{"$f":"IF(COUNT(J43)=1,B_Only(J43,1,1,2,\"علامة\",\"علامتان\",\"علامات\"),\" \")","v":""},{"$f":"IF(COUNT(K43)=1,B_Only(K43,1,1,2,\"علامة\",\"علامتان\",\"علامات\"),\" \")","v":""},{"$f":"IF(COUNT(L43)=1,B_Only(L43,1,1,2,\"علامة\",\"علامتان\",\"علامات\"),\" \")","v":""},{"$f":"IF(COUNT(M43)=1,B_Only(M43,1,1,2,\"علامة\",\"علامتان\",\"علامات\"),\" \")","v":""},{"$f":"IF(COUNT(N43)=1,B_Only(N43,1,1,2,\"علامة\",\"علامتان\",\"علامات\"),\" \")","v":""},{"$f":"IF(COUNT(O43)=1,B_Only(O43,1,1,2,\"علامة\",\"علامتان\",\"علامات\"),\" \")","v":""},{"$f":"IF(COUNT(P43)=1,B_Only(P43,1,1,2,\"علامة\",\"علامتان\",\"علامات\"),\" \")","v":""},{"$f":"IF(COUNT(Q43)=1,B_Only(Q43,1,1,2,\"علامة\",\"علامتان\",\"علامات\"),\" \")","v":""},{"$f":"IF(COUNT(R43)=1,B_Only(R43,1,1,2,\"علامة\",\"علامتان\",\"علامات\"),\" \")","v":""},{"$f":"IF(COUNT(S43)=1,B_Only(S43,1,1,2,\"علامة\",\"علامتان\",\"علامات\"),\" \")","v":""},{"$f":"IF(COUNT(T43)=1,B_Only(T43,1,1,2,\"علامة\",\"علامتان\",\"علامات\"),\" \")","v":""},{"$f":"IF(COUNT(U43)=1,B_Only(U43,1,1,2,\"علامة\",\"علامتان\",\"علامات\"),\" \")","v":""}]
[null,null,null,null,null,null,null,null,null,null,null,null,null,null,null,null,null,null,null,null,null,{"$f":"IF(COUNT(A44)=1,(ord(A44)&\" على الصف \"),\" \")","v":""},null,{"$f":"IF(COUNT(W44)=1,B_Only(W44,1,1,2,\"علامة\",\"علامتان\",\"علامات\"),\" \")","v":""},{"$f":"IF(COUNT(W44)=1,ROUND(W44/temp!$B$9,2),\" \")","v":""},{"$f":"IF(COUNT(Y44)=1, B_Only(INT(Y44),1,0,2,\"بالمئة\",\"بالمئة\",\"بالمئة\") &\" و  \" &B_Only((Y44-INT(Y44))*100,1,0,2,\"عشر\",\"عشران\",\"اعشار\"),\" \")","v":""},{"$f":"IF(COUNT(H44)=1,B_Only(H44,1,1,2,\"علامة\",\"علامتان\",\"علامات\"),\" \")","v":""},{"$f":"IF(COUNT(I44)=1,B_Only(I44,1,1,2,\"علامة\",\"علامتان\",\"علامات\"),\" \")","v":""},{"$f":"IF(COUNT(J44)=1,B_Only(J44,1,1,2,\"علامة\",\"علامتان\",\"علامات\"),\" \")","v":""},{"$f":"IF(COUNT(K44)=1,B_Only(K44,1,1,2,\"علامة\",\"علامتان\",\"علامات\"),\" \")","v":""},{"$f":"IF(COUNT(L44)=1,B_Only(L44,1,1,2,\"علامة\",\"علامتان\",\"علامات\"),\" \")","v":""},{"$f":"IF(COUNT(M44)=1,B_Only(M44,1,1,2,\"علامة\",\"علامتان\",\"علامات\"),\" \")","v":""},{"$f":"IF(COUNT(N44)=1,B_Only(N44,1,1,2,\"علامة\",\"علامتان\",\"علامات\"),\" \")","v":""},{"$f":"IF(COUNT(O44)=1,B_Only(O44,1,1,2,\"علامة\",\"علامتان\",\"علامات\"),\" \")","v":""},{"$f":"IF(COUNT(P44)=1,B_Only(P44,1,1,2,\"علامة\",\"علامتان\",\"علامات\"),\" \")","v":""},{"$f":"IF(COUNT(Q44)=1,B_Only(Q44,1,1,2,\"علامة\",\"علامتان\",\"علامات\"),\" \")","v":""},{"$f":"IF(COUNT(R44)=1,B_Only(R44,1,1,2,\"علامة\",\"علامتان\",\"علامات\"),\" \")","v":""},{"$f":"IF(COUNT(S44)=1,B_Only(S44,1,1,2,\"علامة\",\"علامتان\",\"علامات\"),\" \")","v":""},{"$f":"IF(COUNT(T44)=1,B_Only(T44,1,1,2,\"علامة\",\"علامتان\",\"علامات\"),\" \")","v":""},{"$f":"IF(COUNT(U44)=1,B_Only(U44,1,1,2,\"علامة\",\"علامتان\",\"علامات\"),\" \")","v":""}]
[null,null,null,null,null,null,null,null,null,null,null,null,null,null,null,null,null,null,null,null,null,{"$f":"IF(COUNT(A45)=1,(ord(A45)&\" على الصف \"),\" \")","v":""},null,{"$f":"IF(COUNT(W45)=1,B_Only(W45,1,1,2,\"علامة\",\"علامتان\",\"علامات\"),\" \")","v":""},{"$f":"IF(COUNT(W45)=1,ROUND(W45/temp!$B$9,2),\" \")","v":""},{"$f":"IF(COUNT(Y45)=1, B_Only(INT(Y45),1,0,2,\"بالمئة\",\"بالمئة\",\"بالمئة\") &\" و  \" &B_Only((Y45-INT(Y45))*100,1,0,2,\"عشر\",\"عشران\",\"اعشار\"),\" \")","v":""},{"$f":"IF(COUNT(H45)=1,B_Only(H45,1,1,2,\"علامة\",\"علامتان\",\"علامات\"),\" \")","v":""},{"$f":"IF(COUNT(I45)=1,B_Only(I45,1,1,2,\"علامة\",\"علامتان\",\"علامات\"),\" \")","v":""},{"$f":"IF(COUNT(J45)=1,B_Only(J45,1,1,2,\"علامة\",\"علامتان\",\"علامات\"),\" \")","v":""},{"$f":"IF(COUNT(K45)=1,B_Only(K45,1,1,2,\"علامة\",\"علامتان\",\"علامات\"),\" \")","v":""},{"$f":"IF(COUNT(L45)=1,B_Only(L45,1,1,2,\"علامة\",\"علامتان\",\"علامات\"),\" \")","v":""},{"$f":"IF(COUNT(M45)=1,B_Only(M45,1,1,2,\"علامة\",\"علامتان\",\"علامات\"),\" \")","v":""},{"$f":"IF(COUNT(N45)=1,B_Only(N45,1,1,2,\"علامة\",\"علامتان\",\"علامات\"),\" \")","v":""},{"$f":"IF(COUNT(O45)=1,B_Only(O45,1,1,2,\"علامة\",\"علامتان\",\"علامات\"),\" \")","v":""},{"$f":"IF(COUNT(P45)=1,B_Only(P45,1,1,2,\"علامة\",\"علامتان\",\"علامات\"),\" \")","v":""},{"$f":"IF(COUNT(Q45)=1,B_Only(Q45,1,1,2,\"علامة\",\"علامتان\",\"علامات\"),\" \")","v":""},{"$f":"IF(COUNT(R45)=1,B_Only(R45,1,1,2,\"علامة\",\"علامتان\",\"علامات\"),\" \")","v":""},{"$f":"IF(COUNT(S45)=1,B_Only(S45,1,1,2,\"علامة\",\"علامتان\",\"علامات\"),\" \")","v":""},{"$f":"IF(COUNT(T45)=1,B_Only(T45,1,1,2,\"علامة\",\"علامتان\",\"علامات\"),\" \")","v":""},{"$f":"IF(COUNT(U45)=1,B_Only(U45,1,1,2,\"علامة\",\"علامتان\",\"علامات\"),\" \")","v":""}]
[null,null,null,null,null,null,null,null,null,null,null,null,null,null,null,null,null,null,null,null,null,{"$f":"IF(COUNT(A46)=1,(ord(A46)&\" على الصف \"),\" \")","v":""},null,{"$f":"IF(COUNT(W46)=1,B_Only(W46,1,1,2,\"علامة\",\"علامتان\",\"علامات\"),\" \")","v":""},{"$f":"IF(COUNT(W46)=1,ROUND(W46/temp!$B$9,2),\" \")","v":""},{"$f":"IF(COUNT(Y46)=1, B_Only(INT(Y46),1,0,2,\"بالمئة\",\"بالمئة\",\"بالمئة\") &\" و  \" &B_Only((Y46-INT(Y46))*100,1,0,2,\"عشر\",\"عشران\",\"اعشار\"),\" \")","v":""},{"$f":"IF(COUNT(H46)=1,B_Only(H46,1,1,2,\"علامة\",\"علامتان\",\"علامات\"),\" \")","v":""},{"$f":"IF(COUNT(I46)=1,B_Only(I46,1,1,2,\"علامة\",\"علامتان\",\"علامات\"),\" \")","v":""},{"$f":"IF(COUNT(J46)=1,B_Only(J46,1,1,2,\"علامة\",\"علامتان\",\"علامات\"),\" \")","v":""},{"$f":"IF(COUNT(K46)=1,B_Only(K46,1,1,2,\"علامة\",\"علامتان\",\"علامات\"),\" \")","v":""},{"$f":"IF(COUNT(L46)=1,B_Only(L46,1,1,2,\"علامة\",\"علامتان\",\"علامات\"),\" \")","v":""},{"$f":"IF(COUNT(M46)=1,B_Only(M46,1,1,2,\"علامة\",\"علامتان\",\"علامات\"),\" \")","v":""},{"$f":"IF(COUNT(N46)=1,B_Only(N46,1,1,2,\"علامة\",\"علامتان\",\"علامات\"),\" \")","v":""},{"$f":"IF(COUNT(O46)=1,B_Only(O46,1,1,2,\"علامة\",\"علامتان\",\"علامات\"),\" \")","v":""},{"$f":"IF(COUNT(P46)=1,B_Only(P46,1,1,2,\"علامة\",\"علامتان\",\"علامات\"),\" \")","v":""},{"$f":"IF(COUNT(Q46)=1,B_Only(Q46,1,1,2,\"علامة\",\"علامتان\",\"علامات\"),\" \")","v":""},{"$f":"IF(COUNT(R46)=1,B_Only(R46,1,1,2,\"علامة\",\"علامتان\",\"علامات\"),\" \")","v":""},{"$f":"IF(COUNT(S46)=1,B_Only(S46,1,1,2,\"علامة\",\"علامتان\",\"علامات\"),\" \")","v":""},{"$f":"IF(COUNT(T46)=1,B_Only(T46,1,1,2,\"علامة\",\"علامتان\",\"علامات\"),\" \")","v":""},{"$f":"IF(COUNT(U46)=1,B_Only(U46,1,1,2,\"علامة\",\"علامتان\",\"علامات\"),\" \")","v":""}]
[null,null,null,null,null,null,null,null,null,null,null,null,null,null,null,null,null,null,null,null,null,{"$f":"IF(COUNT(A47)=1,(ord(A47)&\" على الصف \"),\" \")","v":""},null,{"$f":"IF(COUNT(W47)=1,B_Only(W47,1,1,2,\"علامة\",\"علامتان\",\"علامات\"),\" \")","v":""},{"$f":"IF(COUNT(W47)=1,ROUND(W47/temp!$B$9,2),\" \")","v":""},{"$f":"IF(COUNT(Y47)=1, B_Only(INT(Y47),1,0,2,\"بالمئة\",\"بالمئة\",\"بالمئة\") &\" و  \" &B_Only((Y47-INT(Y47))*100,1,0,2,\"عشر\",\"عشران\",\"اعشار\"),\" \")","v":""},{"$f":"IF(COUNT(H47)=1,B_Only(H47,1,1,2,\"علامة\",\"علامتان\",\"علامات\"),\" \")","v":""},{"$f":"IF(COUNT(I47)=1,B_Only(I47,1,1,2,\"علامة\",\"علامتان\",\"علامات\"),\" \")","v":""},{"$f":"IF(COUNT(J47)=1,B_Only(J47,1,1,2,\"علامة\",\"علامتان\",\"علامات\"),\" \")","v":""},{"$f":"IF(COUNT(K47)=1,B_Only(K47,1,1,2,\"علامة\",\"علامتان\",\"علامات\"),\" \")","v":""},{"$f":"IF(COUNT(L47)=1,B_Only(L47,1,1,2,\"علامة\",\"علامتان\",\"علامات\"),\" \")","v":""},{"$f":"IF(COUNT(M47)=1,B_Only(M47,1,1,2,\"علامة\",\"علامتان\",\"علامات\"),\" \")","v":""},{"$f":"IF(COUNT(N47)=1,B_Only(N47,1,1,2,\"علامة\",\"علامتان\",\"علامات\"),\" \")","v":""},{"$f":"IF(COUNT(O47)=1,B_Only(O47,1,1,2,\"علامة\",\"علامتان\",\"علامات\"),\" \")","v":""},{"$f":"IF(COUNT(P47)=1,B_Only(P47,1,1,2,\"علامة\",\"علامتان\",\"علامات\"),\" \")","v":""},{"$f":"IF(COUNT(Q47)=1,B_Only(Q47,1,1,2,\"علامة\",\"علامتان\",\"علامات\"),\" \")","v":""},{"$f":"IF(COUNT(R47)=1,B_Only(R47,1,1,2,\"علامة\",\"علامتان\",\"علامات\"),\" \")","v":""},{"$f":"IF(COUNT(S47)=1,B_Only(S47,1,1,2,\"علامة\",\"علامتان\",\"علامات\"),\" \")","v":""},{"$f":"IF(COUNT(T47)=1,B_Only(T47,1,1,2,\"علامة\",\"علامتان\",\"علامات\"),\" \")","v":""},{"$f":"IF(COUNT(U47)=1,B_Only(U47,1,1,2,\"علامة\",\"علامتان\",\"علامات\"),\" \")","v":""}]
[null,null,null,null,null,null,null,null,null,null,null,null,null,null,null,null,null,null,null,null,null,{"$f":"IF(COUNT(A48)=1,(ord(A48)&\" على الصف \"),\" \")","v":""},null,{"$f":"IF(COUNT(W48)=1,B_Only(W48,1,1,2,\"علامة\",\"علامتان\",\"علامات\"),\" \")","v":""},{"$f":"IF(COUNT(W48)=1,ROUND(W48/temp!$B$9,2),\" \")","v":""},{"$f":"IF(COUNT(Y48)=1, B_Only(INT(Y48),1,0,2,\"بالمئة\",\"بالمئة\",\"بالمئة\") &\" و  \" &B_Only((Y48-INT(Y48))*100,1,0,2,\"عشر\",\"عشران\",\"اعشار\"),\" \")","v":""},{"$f":"IF(COUNT(H48)=1,B_Only(H48,1,1,2,\"علامة\",\"علامتان\",\"علامات\"),\" \")","v":""},{"$f":"IF(COUNT(I48)=1,B_Only(I48,1,1,2,\"علامة\",\"علامتان\",\"علامات\"),\" \")","v":""},{"$f":"IF(COUNT(J48)=1,B_Only(J48,1,1,2,\"علامة\",\"علامتان\",\"علامات\"),\" \")","v":""},{"$f":"IF(COUNT(K48)=1,B_Only(K48,1,1,2,\"علامة\",\"علامتان\",\"علامات\"),\" \")","v":""},{"$f":"IF(COUNT(L48)=1,B_Only(L48,1,1,2,\"علامة\",\"علامتان\",\"علامات\"),\" \")","v":""},{"$f":"IF(COUNT(M48)=1,B_Only(M48,1,1,2,\"علامة\",\"علامتان\",\"علامات\"),\" \")","v":""},{"$f":"IF(COUNT(N48)=1,B_Only(N48,1,1,2,\"علامة\",\"علامتان\",\"علامات\"),\" \")","v":""},{"$f":"IF(COUNT(O48)=1,B_Only(O48,1,1,2,\"علامة\",\"علامتان\",\"علامات\"),\" \")","v":""},{"$f":"IF(COUNT(P48)=1,B_Only(P48,1,1,2,\"علامة\",\"علامتان\",\"علامات\"),\" \")","v":""},{"$f":"IF(COUNT(Q48)=1,B_Only(Q48,1,1,2,\"علامة\",\"علامتان\",\"علامات\"),\" \")","v":""},{"$f":"IF(COUNT(R48)=1,B_Only(R48,1,1,2,\"علامة\",\"علامتان\",\"علامات\"),\" \")","v":""},{"$f":"IF(COUNT(S48)=1,B_Only(S48,1,1,2,\"علامة\",\"علامتان\",\"علامات\"),\" \")","v":""},{"$f":"IF(COUNT(T48)=1,B_Only(T48,1,1,2,\"علامة\",\"علامتان\",\"علامات\"),\" \")","v":""},{"$f":"IF(COUNT(U48)=1,B_Only(U48,1,1,2,\"علامة\",\"علامتان\",\"علامات\"),\" \")","v":""}]
[null,null,null,null,null,null,null,null,null,null,null,null,null,null,null,null,null,null,null,null,null,{"$f":"IF(COUNT(A49)=1,(ord(A49)&\" على الصف \"),\" \")","v":""},null,{"$f":"IF(COUNT(W49)=1,B_Only(W49,1,1,2,\"علامة\",\"علامتان\",\"علامات\"),\" \")","v":""},{"$f":"IF(COUNT(W49)=1,ROUND(W49/temp!$B$9,2),\" \")","v":""},{"$f":"IF(COUNT(Y49)=1, B_Only(INT(Y49),1,0,2,\"بالمئة\",\"بالمئة\",\"بالمئة\") &\" و  \" &B_Only((Y49-INT(Y49))*100,1,0,2,\"عشر\",\"عشران\",\"اعشار\"),\" \")","v":""},{"$f":"IF(COUNT(H49)=1,B_Only(H49,1,1,2,\"علامة\",\"علامتان\",\"علامات\"),\" \")","v":""},{"$f":"IF(COUNT(I49)=1,B_Only(I49,1,1,2,\"علامة\",\"علامتان\",\"علامات\"),\" \")","v":""},{"$f":"IF(COUNT(J49)=1,B_Only(J49,1,1,2,\"علامة\",\"علامتان\",\"علامات\"),\" \")","v":""},{"$f":"IF(COUNT(K49)=1,B_Only(K49,1,1,2,\"علامة\",\"علامتان\",\"علامات\"),\" \")","v":""},{"$f":"IF(COUNT(L49)=1,B_Only(L49,1,1,2,\"علامة\",\"علامتان\",\"علامات\"),\" \")","v":""},{"$f":"IF(COUNT(M49)=1,B_Only(M49,1,1,2,\"علامة\",\"علامتان\",\"علامات\"),\" \")","v":""},{"$f":"IF(COUNT(N49)=1,B_Only(N49,1,1,2,\"علامة\",\"علامتان\",\"علامات\"),\" \")","v":""},{"$f":"IF(COUNT(O49)=1,B_Only(O49,1,1,2,\"علامة\",\"علامتان\",\"علامات\"),\" \")","v":""},{"$f":"IF(COUNT(P49)=1,B_Only(P49,1,1,2,\"علامة\",\"علامتان\",\"علامات\"),\" \")","v":""},{"$f":"IF(COUNT(Q49)=1,B_Only(Q49,1,1,2,\"علامة\",\"علامتان\",\"علامات\"),\" \")","v":""},{"$f":"IF(COUNT(R49)=1,B_Only(R49,1,1,2,\"علامة\",\"علامتان\",\"علامات\"),\" \")","v":""},{"$f":"IF(COUNT(S49)=1,B_Only(S49,1,1,2,\"علامة\",\"علامتان\",\"علامات\"),\" \")","v":""},{"$f":"IF(COUNT(T49)=1,B_Only(T49,1,1,2,\"علامة\",\"علامتان\",\"علامات\"),\" \")","v":""},{"$f":"IF(COUNT(U49)=1,B_Only(U49,1,1,2,\"علامة\",\"علامتان\",\"علامات\"),\" \")","v":""}]
[null,null,null,null,null,null,null,null,null,null,null,null,null,null,null,null,null,null,null,null,null,{"$f":"IF(COUNT(A50)=1,(ord(A50)&\" على الصف \"),\" \")","v":""},null,{"$f":"IF(COUNT(W50)=1,B_Only(W50,1,1,2,\"علامة\",\"علامتان\",\"علامات\"),\" \")","v":""},{"$f":"IF(COUNT(W50)=1,ROUND(W50/temp!$B$9,2),\" \")","v":""},{"$f":"IF(COUNT(Y50)=1, B_Only(INT(Y50),1,0,2,\"بالمئة\",\"بالمئة\",\"بالمئة\") &\" و  \" &B_Only((Y50-INT(Y50))*100,1,0,2,\"عشر\",\"عشران\",\"اعشار\"),\" \")","v":""},{"$f":"IF(COUNT(H50)=1,B_Only(H50,1,1,2,\"علامة\",\"علامتان\",\"علامات\"),\" \")","v":""},{"$f":"IF(COUNT(I50)=1,B_Only(I50,1,1,2,\"علامة\",\"علامتان\",\"علامات\"),\" \")","v":""},{"$f":"IF(COUNT(J50)=1,B_Only(J50,1,1,2,\"علامة\",\"علامتان\",\"علامات\"),\" \")","v":""},{"$f":"IF(COUNT(K50)=1,B_Only(K50,1,1,2,\"علامة\",\"علامتان\",\"علامات\"),\" \")","v":""},{"$f":"IF(COUNT(L50)=1,B_Only(L50,1,1,2,\"علامة\",\"علامتان\",\"علامات\"),\" \")","v":""},{"$f":"IF(COUNT(M50)=1,B_Only(M50,1,1,2,\"علامة\",\"علامتان\",\"علامات\"),\" \")","v":""},{"$f":"IF(COUNT(N50)=1,B_Only(N50,1,1,2,\"علامة\",\"علامتان\",\"علامات\"),\" \")","v":""},{"$f":"IF(COUNT(O50)=1,B_Only(O50,1,1,2,\"علامة\",\"علامتان\",\"علامات\"),\" \")","v":""},{"$f":"IF(COUNT(P50)=1,B_Only(P50,1,1,2,\"علامة\",\"علامتان\",\"علامات\"),\" \")","v":""},{"$f":"IF(COUNT(Q50)=1,B_Only(Q50,1,1,2,\"علامة\",\"علامتان\",\"علامات\"),\" \")","v":""},{"$f":"IF(COUNT(R50)=1,B_Only(R50,1,1,2,\"علامة\",\"علامتان\",\"علامات\"),\" \")","v":""},{"$f":"IF(COUNT(S50)=1,B_Only(S50,1,1,2,\"علامة\",\"علامتان\",\"علامات\"),\" \")","v":""},{"$f":"IF(COUNT(T50)=1,B_Only(T50,1,1,2,\"علامة\",\"علامتان\",\"علامات\"),\" \")","v":""},{"$f":"IF(COUNT(U50)=1,B_Only(U50,1,1,2,\"علامة\",\"علامتان\",\"علامات\"),\" \")","v":""}]
[null,null,null,null,null,null,null,null,null,null,null,null,null,null,null,null,null,null,null,null,null,{"$f":"IF(COUNT(A51)=1,(ord(A51)&\" على الصف \"),\" \")","v":""},null,{"$f":"IF(COUNT(W51)=1,B_Only(W51,1,1,2,\"علامة\",\"علامتان\",\"علامات\"),\" \")","v":""},{"$f":"IF(COUNT(W51)=1,ROUND(W51/temp!$B$9,2),\" \")","v":""},{"$f":"IF(COUNT(Y51)=1, B_Only(INT(Y51),1,0,2,\"بالمئة\",\"بالمئة\",\"بالمئة\") &\" و  \" &B_Only((Y51-INT(Y51))*100,1,0,2,\"عشر\",\"عشران\",\"اعشار\"),\" \")","v":""},{"$f":"IF(COUNT(H51)=1,B_Only(H51,1,1,2,\"علامة\",\"علامتان\",\"علامات\"),\" \")","v":""},{"$f":"IF(COUNT(I51)=1,B_Only(I51,1,1,2,\"علامة\",\"علامتان\",\"علامات\"),\" \")","v":""},{"$f":"IF(COUNT(J51)=1,B_Only(J51,1,1,2,\"علامة\",\"علامتان\",\"علامات\"),\" \")","v":""},{"$f":"IF(COUNT(K51)=1,B_Only(K51,1,1,2,\"علامة\",\"علامتان\",\"علامات\"),\" \")","v":""},{"$f":"IF(COUNT(L51)=1,B_Only(L51,1,1,2,\"علامة\",\"علامتان\",\"علامات\"),\" \")","v":""},{"$f":"IF(COUNT(M51)=1,B_Only(M51,1,1,2,\"علامة\",\"علامتان\",\"علامات\"),\" \")","v":""},{"$f":"IF(COUNT(N51)=1,B_Only(N51,1,1,2,\"علامة\",\"علامتان\",\"علامات\"),\" \")","v":""},{"$f":"IF(COUNT(O51)=1,B_Only(O51,1,1,2,\"علامة\",\"علامتان\",\"علامات\"),\" \")","v":""},{"$f":"IF(COUNT(P51)=1,B_Only(P51,1,1,2,\"علامة\",\"علامتان\",\"علامات\"),\" \")","v":""},{"$f":"IF(COUNT(Q51)=1,B_Only(Q51,1,1,2,\"علامة\",\"علامتان\",\"علامات\"),\" \")","v":""},{"$f":"IF(COUNT(R51)=1,B_Only(R51,1,1,2,\"علامة\",\"علامتان\",\"علامات\"),\" \")","v":""},{"$f":"IF(COUNT(S51)=1,B_Only(S51,1,1,2,\"علامة\",\"علامتان\",\"علامات\"),\" \")","v":""},{"$f":"IF(COUNT(T51)=1,B_Only(T51,1,1,2,\"علامة\",\"علامتان\",\"علامات\"),\" \")","v":""},{"$f":"IF(COUNT(U51)=1,B_Only(U51,1,1,2,\"علامة\",\"علامتان\",\"علامات\"),\" \")","v":""}]
[null,null,null,null,null,null,null,null,null,null,null,null,null,null,null,null,null,null,null,null,null,{"$f":"IF(COUNT(A52)=1,(ord(A52)&\" على الصف \"),\" \")","v":""},null,{"$f":"IF(COUNT(W52)=1,B_Only(W52,1,1,2,\"علامة\",\"علامتان\",\"علامات\"),\" \")","v":""},{"$f":"IF(COUNT(W52)=1,ROUND(W52/temp!$B$9,2),\" \")","v":""},{"$f":"IF(COUNT(Y52)=1, B_Only(INT(Y52),1,0,2,\"بالمئة\",\"بالمئة\",\"بالمئة\") &\" و  \" &B_Only((Y52-INT(Y52))*100,1,0,2,\"عشر\",\"عشران\",\"اعشار\"),\" \")","v":""},{"$f":"IF(COUNT(H52)=1,B_Only(H52,1,1,2,\"علامة\",\"علامتان\",\"علامات\"),\" \")","v":""},{"$f":"IF(COUNT(I52)=1,B_Only(I52,1,1,2,\"علامة\",\"علامتان\",\"علامات\"),\" \")","v":""},{"$f":"IF(COUNT(J52)=1,B_Only(J52,1,1,2,\"علامة\",\"علامتان\",\"علامات\"),\" \")","v":""},{"$f":"IF(COUNT(K52)=1,B_Only(K52,1,1,2,\"علامة\",\"علامتان\",\"علامات\"),\" \")","v":""},{"$f":"IF(COUNT(L52)=1,B_Only(L52,1,1,2,\"علامة\",\"علامتان\",\"علامات\"),\" \")","v":""},{"$f":"IF(COUNT(M52)=1,B_Only(M52,1,1,2,\"علامة\",\"علامتان\",\"علامات\"),\" \")","v":""},{"$f":"IF(COUNT(N52)=1,B_Only(N52,1,1,2,\"علامة\",\"علامتان\",\"علامات\"),\" \")","v":""},{"$f":"IF(COUNT(O52)=1,B_Only(O52,1,1,2,\"علامة\",\"علامتان\",\"علامات\"),\" \")","v":""},{"$f":"IF(COUNT(P52)=1,B_Only(P52,1,1,2,\"علامة\",\"علامتان\",\"علامات\"),\" \")","v":""},{"$f":"IF(COUNT(Q52)=1,B_Only(Q52,1,1,2,\"علامة\",\"علامتان\",\"علامات\"),\" \")","v":""},{"$f":"IF(COUNT(R52)=1,B_Only(R52,1,1,2,\"علامة\",\"علامتان\",\"علامات\"),\" \")","v":""},{"$f":"IF(COUNT(S52)=1,B_Only(S52,1,1,2,\"علامة\",\"علامتان\",\"علامات\"),\" \")","v":""},{"$f":"IF(COUNT(T52)=1,B_Only(T52,1,1,2,\"علامة\",\"علامتان\",\"علامات\"),\" \")","v":""},{"$f":"IF(COUNT(U52)=1,B_Only(U52,1,1,2,\"علامة\",\"علامتان\",\"علامات\"),\" \")","v":""}]
[null,null,null,null,null,null,null,null,null,null,null,null,null,null,null,null,null,null,null,null,null,{"$f":"IF(COUNT(A53)=1,(ord(A53)&\" على الصف \"),\" \")","v":""},null,{"$f":"IF(COUNT(W53)=1,B_Only(W53,1,1,2,\"علامة\",\"علامتان\",\"علامات\"),\" \")","v":""},{"$f":"IF(COUNT(W53)=1,ROUND(W53/temp!$B$9,2),\" \")","v":""},{"$f":"IF(COUNT(Y53)=1, B_Only(INT(Y53),1,0,2,\"بالمئة\",\"بالمئة\",\"بالمئة\") &\" و  \" &B_Only((Y53-INT(Y53))*100,1,0,2,\"عشر\",\"عشران\",\"اعشار\"),\" \")","v":""},{"$f":"IF(COUNT(H53)=1,B_Only(H53,1,1,2,\"علامة\",\"علامتان\",\"علامات\"),\" \")","v":""},{"$f":"IF(COUNT(I53)=1,B_Only(I53,1,1,2,\"علامة\",\"علامتان\",\"علامات\"),\" \")","v":""},{"$f":"IF(COUNT(J53)=1,B_Only(J53,1,1,2,\"علامة\",\"علامتان\",\"علامات\"),\" \")","v":""},{"$f":"IF(COUNT(K53)=1,B_Only(K53,1,1,2,\"علامة\",\"علامتان\",\"علامات\"),\" \")","v":""},{"$f":"IF(COUNT(L53)=1,B_Only(L53,1,1,2,\"علامة\",\"علامتان\",\"علامات\"),\" \")","v":""},{"$f":"IF(COUNT(M53)=1,B_Only(M53,1,1,2,\"علامة\",\"علامتان\",\"علامات\"),\" \")","v":""},{"$f":"IF(COUNT(N53)=1,B_Only(N53,1,1,2,\"علامة\",\"علامتان\",\"علامات\"),\" \")","v":""},{"$f":"IF(COUNT(O53)=1,B_Only(O53,1,1,2,\"علامة\",\"علامتان\",\"علامات\"),\" \")","v":""},{"$f":"IF(COUNT(P53)=1,B_Only(P53,1,1,2,\"علامة\",\"علامتان\",\"علامات\"),\" \")","v":""},{"$f":"IF(COUNT(Q53)=1,B_Only(Q53,1,1,2,\"علامة\",\"علامتان\",\"علامات\"),\" \")","v":""},{"$f":"IF(COUNT(R53)=1,B_Only(R53,1,1,2,\"علامة\",\"علامتان\",\"علامات\"),\" \")","v":""},{"$f":"IF(COUNT(S53)=1,B_Only(S53,1,1,2,\"علامة\",\"علامتان\",\"علامات\"),\" \")","v":""},{"$f":"IF(COUNT(T53)=1,B_Only(T53,1,1,2,\"علامة\",\"علامتان\",\"علامات\"),\" \")","v":""},{"$f":"IF(COUNT(U53)=1,B_Only(U53,1,1,2,\"علامة\",\"علامتان\",\"علامات\"),\" \")","v":""}]
[null,null,null,null,null,null,null,null,null,null,null,null,null,null,null,null,null,null,null,null,null,{"$f":"IF(COUNT(A54)=1,(ord(A54)&\" على الصف \"),\" \")","v":""},null,{"$f":"IF(COUNT(W54)=1,B_Only(W54,1,1,2,\"علامة\",\"علامتان\",\"علامات\"),\" \")","v":""},{"$f":"IF(COUNT(W54)=1,ROUND(W54/temp!$B$9,2),\" \")","v":""},{"$f":"IF(COUNT(Y54)=1, B_Only(INT(Y54),1,0,2,\"بالمئة\",\"بالمئة\",\"بالمئة\") &\" و  \" &B_Only((Y54-INT(Y54))*100,1,0,2,\"عشر\",\"عشران\",\"اعشار\"),\" \")","v":""},{"$f":"IF(COUNT(H54)=1,B_Only(H54,1,1,2,\"علامة\",\"علامتان\",\"علامات\"),\" \")","v":""},{"$f":"IF(COUNT(I54)=1,B_Only(I54,1,1,2,\"علامة\",\"علامتان\",\"علامات\"),\" \")","v":""},{"$f":"IF(COUNT(J54)=1,B_Only(J54,1,1,2,\"علامة\",\"علامتان\",\"علامات\"),\" \")","v":""},{"$f":"IF(COUNT(K54)=1,B_Only(K54,1,1,2,\"علامة\",\"علامتان\",\"علامات\"),\" \")","v":""},{"$f":"IF(COUNT(L54)=1,B_Only(L54,1,1,2,\"علامة\",\"علامتان\",\"علامات\"),\" \")","v":""},{"$f":"IF(COUNT(M54)=1,B_Only(M54,1,1,2,\"علامة\",\"علامتان\",\"علامات\"),\" \")","v":""},{"$f":"IF(COUNT(N54)=1,B_Only(N54,1,1,2,\"علامة\",\"علامتان\",\"علامات\"),\" \")","v":""},{"$f":"IF(COUNT(O54)=1,B_Only(O54,1,1,2,\"علامة\",\"علامتان\",\"علامات\"),\" \")","v":""},{"$f":"IF(COUNT(P54)=1,B_Only(P54,1,1,2,\"علامة\",\"علامتان\",\"علامات\"),\" \")","v":""},{"$f":"IF(COUNT(Q54)=1,B_Only(Q54,1,1,2,\"علامة\",\"علامتان\",\"علامات\"),\" \")","v":""},{"$f":"IF(COUNT(R54)=1,B_Only(R54,1,1,2,\"علامة\",\"علامتان\",\"علامات\"),\" \")","v":""},{"$f":"IF(COUNT(S54)=1,B_Only(S54,1,1,2,\"علامة\",\"علامتان\",\"علامات\"),\" \")","v":""},{"$f":"IF(COUNT(T54)=1,B_Only(T54,1,1,2,\"علامة\",\"علامتان\",\"علامات\"),\" \")","v":""},{"$f":"IF(COUNT(U54)=1,B_Only(U54,1,1,2,\"علامة\",\"علامتان\",\"علامات\"),\" \")","v":""}]
[null,null,null,null,null,null,null,null,null,null,null,null,null,null,null,null,null,null,null,null,null,{"$f":"IF(COUNT(A55)=1,(ord(A55)&\" على الصف \"),\" \")","v":""},null,{"$f":"IF(COUNT(W55)=1,B_Only(W55,1,1,2,\"علامة\",\"علامتان\",\"علامات\"),\" \")","v":""},{"$f":"IF(COUNT(W55)=1,ROUND(W55/temp!$B$9,2),\" \")","v":""},{"$f":"IF(COUNT(Y55)=1, B_Only(INT(Y55),1,0,2,\"بالمئة\",\"بالمئة\",\"بالمئة\") &\" و  \" &B_Only((Y55-INT(Y55))*100,1,0,2,\"عشر\",\"عشران\",\"اعشار\"),\" \")","v":""},{"$f":"IF(COUNT(H55)=1,B_Only(H55,1,1,2,\"علامة\",\"علامتان\",\"علامات\"),\" \")","v":""},{"$f":"IF(COUNT(I55)=1,B_Only(I55,1,1,2,\"علامة\",\"علامتان\",\"علامات\"),\" \")","v":""},{"$f":"IF(COUNT(J55)=1,B_Only(J55,1,1,2,\"علامة\",\"علامتان\",\"علامات\"),\" \")","v":""},{"$f":"IF(COUNT(K55)=1,B_Only(K55,1,1,2,\"علامة\",\"علامتان\",\"علامات\"),\" \")","v":""},{"$f":"IF(COUNT(L55)=1,B_Only(L55,1,1,2,\"علامة\",\"علامتان\",\"علامات\"),\" \")","v":""},{"$f":"IF(COUNT(M55)=1,B_Only(M55,1,1,2,\"علامة\",\"علامتان\",\"علامات\"),\" \")","v":""},{"$f":"IF(COUNT(N55)=1,B_Only(N55,1,1,2,\"علامة\",\"علامتان\",\"علامات\"),\" \")","v":""},{"$f":"IF(COUNT(O55)=1,B_Only(O55,1,1,2,\"علامة\",\"علامتان\",\"علامات\"),\" \")","v":""},{"$f":"IF(COUNT(P55)=1,B_Only(P55,1,1,2,\"علامة\",\"علامتان\",\"علامات\"),\" \")","v":""},{"$f":"IF(COUNT(Q55)=1,B_Only(Q55,1,1,2,\"علامة\",\"علامتان\",\"علامات\"),\" \")","v":""},{"$f":"IF(COUNT(R55)=1,B_Only(R55,1,1,2,\"علامة\",\"علامتان\",\"علامات\"),\" \")","v":""},{"$f":"IF(COUNT(S55)=1,B_Only(S55,1,1,2,\"علامة\",\"علامتان\",\"علامات\"),\" \")","v":""},{"$f":"IF(COUNT(T55)=1,B_Only(T55,1,1,2,\"علامة\",\"علامتان\",\"علامات\"),\" \")","v":""},{"$f":"IF(COUNT(U55)=1,B_Only(U55,1,1,2,\"علامة\",\"علامتان\",\"علامات\"),\" \")","v":""}]
[null,null,null,null,null,null,null,null,null,null,null,null,null,null,null,null,null,null,null,null,null,{"$f":"IF(COUNT(A56)=1,(ord(A56)&\" على الصف \"),\" \")","v":""},null,{"$f":"IF(COUNT(W56)=1,B_Only(W56,1,1,2,\"علامة\",\"علامتان\",\"علامات\"),\" \")","v":""},{"$f":"IF(COUNT(W56)=1,ROUND(W56/temp!$B$9,2),\" \")","v":""},{"$f":"IF(COUNT(Y56)=1, B_Only(INT(Y56),1,0,2,\"بالمئة\",\"بالمئة\",\"بالمئة\") &\" و  \" &B_Only((Y56-INT(Y56))*100,1,0,2,\"عشر\",\"عشران\",\"اعشار\"),\" \")","v":""},{"$f":"IF(COUNT(H56)=1,B_Only(H56,1,1,2,\"علامة\",\"علامتان\",\"علامات\"),\" \")","v":""},{"$f":"IF(COUNT(I56)=1,B_Only(I56,1,1,2,\"علامة\",\"علامتان\",\"علامات\"),\" \")","v":""},{"$f":"IF(COUNT(J56)=1,B_Only(J56,1,1,2,\"علامة\",\"علامتان\",\"علامات\"),\" \")","v":""},{"$f":"IF(COUNT(K56)=1,B_Only(K56,1,1,2,\"علامة\",\"علامتان\",\"علامات\"),\" \")","v":""},{"$f":"IF(COUNT(L56)=1,B_Only(L56,1,1,2,\"علامة\",\"علامتان\",\"علامات\"),\" \")","v":""},{"$f":"IF(COUNT(M56)=1,B_Only(M56,1,1,2,\"علامة\",\"علامتان\",\"علامات\"),\" \")","v":""},{"$f":"IF(COUNT(N56)=1,B_Only(N56,1,1,2,\"علامة\",\"علامتان\",\"علامات\"),\" \")","v":""},{"$f":"IF(COUNT(O56)=1,B_Only(O56,1,1,2,\"علامة\",\"علامتان\",\"علامات\"),\" \")","v":""},{"$f":"IF(COUNT(P56)=1,B_Only(P56,1,1,2,\"علامة\",\"علامتان\",\"علامات\"),\" \")","v":""},{"$f":"IF(COUNT(Q56)=1,B_Only(Q56,1,1,2,\"علامة\",\"علامتان\",\"علامات\"),\" \")","v":""},{"$f":"IF(COUNT(R56)=1,B_Only(R56,1,1,2,\"علامة\",\"علامتان\",\"علامات\"),\" \")","v":""},{"$f":"IF(COUNT(S56)=1,B_Only(S56,1,1,2,\"علامة\",\"علامتان\",\"علامات\"),\" \")","v":""},{"$f":"IF(COUNT(T56)=1,B_Only(T56,1,1,2,\"علامة\",\"علامتان\",\"علامات\"),\" \")","v":""},{"$f":"IF(COUNT(U56)=1,B_Only(U56,1,1,2,\"علامة\",\"علامتان\",\"علامات\"),\" \")","v":""}]
[null,null,null,null,null,null,null,null,null,null,null,null,null,null,null,null,null,null,null,null,null,{"$f":"IF(COUNT(A57)=1,(ord(A57)&\" على الصف \"),\" \")","v":""},null,{"$f":"IF(COUNT(W57)=1,B_Only(W57,1,1,2,\"علامة\",\"علامتان\",\"علامات\"),\" \")","v":""},{"$f":"IF(COUNT(W57)=1,ROUND(W57/temp!$B$9,2),\" \")","v":""},{"$f":"IF(COUNT(Y57)=1, B_Only(INT(Y57),1,0,2,\"بالمئة\",\"بالمئة\",\"بالمئة\") &\" و  \" &B_Only((Y57-INT(Y57))*100,1,0,2,\"عشر\",\"عشران\",\"اعشار\"),\" \")","v":""},{"$f":"IF(COUNT(H57)=1,B_Only(H57,1,1,2,\"علامة\",\"علامتان\",\"علامات\"),\" \")","v":""},{"$f":"IF(COUNT(I57)=1,B_Only(I57,1,1,2,\"علامة\",\"علامتان\",\"علامات\"),\" \")","v":""},{"$f":"IF(COUNT(J57)=1,B_Only(J57,1,1,2,\"علامة\",\"علامتان\",\"علامات\"),\" \")","v":""},{"$f":"IF(COUNT(K57)=1,B_Only(K57,1,1,2,\"علامة\",\"علامتان\",\"علامات\"),\" \")","v":""},{"$f":"IF(COUNT(L57)=1,B_Only(L57,1,1,2,\"علامة\",\"علامتان\",\"علامات\"),\" \")","v":""},{"$f":"IF(COUNT(M57)=1,B_Only(M57,1,1,2,\"علامة\",\"علامتان\",\"علامات\"),\" \")","v":""},{"$f":"IF(COUNT(N57)=1,B_Only(N57,1,1,2,\"علامة\",\"علامتان\",\"علامات\"),\" \")","v":""},{"$f":"IF(COUNT(O57)=1,B_Only(O57,1,1,2,\"علامة\",\"علامتان\",\"علامات\"),\" \")","v":""},{"$f":"IF(COUNT(P57)=1,B_Only(P57,1,1,2,\"علامة\",\"علامتان\",\"علامات\"),\" \")","v":""},{"$f":"IF(COUNT(Q57)=1,B_Only(Q57,1,1,2,\"علامة\",\"علامتان\",\"علامات\"),\" \")","v":""},{"$f":"IF(COUNT(R57)=1,B_Only(R57,1,1,2,\"علامة\",\"علامتان\",\"علامات\"),\" \")","v":""},{"$f":"IF(COUNT(S57)=1,B_Only(S57,1,1,2,\"علامة\",\"علامتان\",\"علامات\"),\" \")","v":""},{"$f":"IF(COUNT(T57)=1,B_Only(T57,1,1,2,\"علامة\",\"علامتان\",\"علامات\"),\" \")","v":""},{"$f":"IF(COUNT(U57)=1,B_Only(U57,1,1,2,\"علامة\",\"علامتان\",\"علامات\"),\" \")","v":""}]
[null,null,null,null,null,null,null,null,null,null,null,null,null,null,null,null,null,null,null,null,null,{"$f":"IF(COUNT(A58)=1,(ord(A58)&\" على الصف \"),\" \")","v":""},null,{"$f":"IF(COUNT(W58)=1,B_Only(W58,1,1,2,\"علامة\",\"علامتان\",\"علامات\"),\" \")","v":""},{"$f":"IF(COUNT(W58)=1,ROUND(W58/temp!$B$9,2),\" \")","v":""},{"$f":"IF(COUNT(Y58)=1, B_Only(INT(Y58),1,0,2,\"بالمئة\",\"بالمئة\",\"بالمئة\") &\" و  \" &B_Only((Y58-INT(Y58))*100,1,0,2,\"عشر\",\"عشران\",\"اعشار\"),\" \")","v":""},{"$f":"IF(COUNT(H58)=1,B_Only(H58,1,1,2,\"علامة\",\"علامتان\",\"علامات\"),\" \")","v":""},{"$f":"IF(COUNT(I58)=1,B_Only(I58,1,1,2,\"علامة\",\"علامتان\",\"علامات\"),\" \")","v":""},{"$f":"IF(COUNT(J58)=1,B_Only(J58,1,1,2,\"علامة\",\"علامتان\",\"علامات\"),\" \")","v":""},{"$f":"IF(COUNT(K58)=1,B_Only(K58,1,1,2,\"علامة\",\"علامتان\",\"علامات\"),\" \")","v":""},{"$f":"IF(COUNT(L58)=1,B_Only(L58,1,1,2,\"علامة\",\"علامتان\",\"علامات\"),\" \")","v":""},{"$f":"IF(COUNT(M58)=1,B_Only(M58,1,1,2,\"علامة\",\"علامتان\",\"علامات\"),\" \")","v":""},{"$f":"IF(COUNT(N58)=1,B_Only(N58,1,1,2,\"علامة\",\"علامتان\",\"علامات\"),\" \")","v":""},{"$f":"IF(COUNT(O58)=1,B_Only(O58,1,1,2,\"علامة\",\"علامتان\",\"علامات\"),\" \")","v":""},{"$f":"IF(COUNT(P58)=1,B_Only(P58,1,1,2,\"علامة\",\"علامتان\",\"علامات\"),\" \")","v":""},{"$f":"IF(COUNT(Q58)=1,B_Only(Q58,1,1,2,\"علامة\",\"علامتان\",\"علامات\"),\" \")","v":""},{"$f":"IF(COUNT(R58)=1,B_Only(R58,1,1,2,\"علامة\",\"علامتان\",\"علامات\"),\" \")","v":""},{"$f":"IF(COUNT(S58)=1,B_Only(S58,1,1,2,\"علامة\",\"علامتان\",\"علامات\"),\" \")","v":""},{"$f":"IF(COUNT(T58)=1,B_Only(T58,1,1,2,\"علامة\",\"علامتان\",\"علامات\"),\" \")","v":""},{"$f":"IF(COUNT(U58)=1,B_Only(U58,1,1,2,\"علامة\",\"علامتان\",\"علامات\"),\" \")","v":""}]
[null,null,null,null,null,null,null,null,null,null,null,null,null,null,null,null,null,null,null,null,null,{"$f":"IF(COUNT(A59)=1,(ord(A59)&\" على الصف \"),\" \")","v":""},null,{"$f":"IF(COUNT(W59)=1,B_Only(W59,1,1,2,\"علامة\",\"علامتان\",\"علامات\"),\" \")","v":""},{"$f":"IF(COUNT(W59)=1,ROUND(W59/temp!$B$9,2),\" \")","v":""},{"$f":"IF(COUNT(Y59)=1, B_Only(INT(Y59),1,0,2,\"بالمئة\",\"بالمئة\",\"بالمئة\") &\" و  \" &B_Only((Y59-INT(Y59))*100,1,0,2,\"عشر\",\"عشران\",\"اعشار\"),\" \")","v":""},{"$f":"IF(COUNT(H59)=1,B_Only(H59,1,1,2,\"علامة\",\"علامتان\",\"علامات\"),\" \")","v":""},{"$f":"IF(COUNT(I59)=1,B_Only(I59,1,1,2,\"علامة\",\"علامتان\",\"علامات\"),\" \")","v":""},{"$f":"IF(COUNT(J59)=1,B_Only(J59,1,1,2,\"علامة\",\"علامتان\",\"علامات\"),\" \")","v":""},{"$f":"IF(COUNT(K59)=1,B_Only(K59,1,1,2,\"علامة\",\"علامتان\",\"علامات\"),\" \")","v":""},{"$f":"IF(COUNT(L59)=1,B_Only(L59,1,1,2,\"علامة\",\"علامتان\",\"علامات\"),\" \")","v":""},{"$f":"IF(COUNT(M59)=1,B_Only(M59,1,1,2,\"علامة\",\"علامتان\",\"علامات\"),\" \")","v":""},{"$f":"IF(COUNT(N59)=1,B_Only(N59,1,1,2,\"علامة\",\"علامتان\",\"علامات\"),\" \")","v":""},{"$f":"IF(COUNT(O59)=1,B_Only(O59,1,1,2,\"علامة\",\"علامتان\",\"علامات\"),\" \")","v":""},{"$f":"IF(COUNT(P59)=1,B_Only(P59,1,1,2,\"علامة\",\"علامتان\",\"علامات\"),\" \")","v":""},{"$f":"IF(COUNT(Q59)=1,B_Only(Q59,1,1,2,\"علامة\",\"علامتان\",\"علامات\"),\" \")","v":""},{"$f":"IF(COUNT(R59)=1,B_Only(R59,1,1,2,\"علامة\",\"علامتان\",\"علامات\"),\" \")","v":""},{"$f":"IF(COUNT(S59)=1,B_Only(S59,1,1,2,\"علامة\",\"علامتان\",\"علامات\"),\" \")","v":""},{"$f":"IF(COUNT(T59)=1,B_Only(T59,1,1,2,\"علامة\",\"علامتان\",\"علامات\"),\" \")","v":""},{"$f":"IF(COUNT(U59)=1,B_Only(U59,1,1,2,\"علامة\",\"علامتان\",\"علامات\"),\" \")","v":""}]
[null,null,null,null,null,null,null,null,null,null,null,null,null,null,null,null,null,null,null,null,null,{"$f":"IF(COUNT(A60)=1,(ord(A60)&\" على الصف \"),\" \")","v":""},null,{"$f":"IF(COUNT(W60)=1,B_Only(W60,1,1,2,\"علامة\",\"علامتان\",\"علامات\"),\" \")","v":""},{"$f":"IF(COUNT(W60)=1,ROUND(W60/temp!$B$9,2),\" \")","v":""},{"$f":"IF(COUNT(Y60)=1, B_Only(INT(Y60),1,0,2,\"بالمئة\",\"بالمئة\",\"بالمئة\") &\" و  \" &B_Only((Y60-INT(Y60))*100,1,0,2,\"عشر\",\"عشران\",\"اعشار\"),\" \")","v":""},{"$f":"IF(COUNT(H60)=1,B_Only(H60,1,1,2,\"علامة\",\"علامتان\",\"علامات\"),\" \")","v":""},{"$f":"IF(COUNT(I60)=1,B_Only(I60,1,1,2,\"علامة\",\"علامتان\",\"علامات\"),\" \")","v":""},{"$f":"IF(COUNT(J60)=1,B_Only(J60,1,1,2,\"علامة\",\"علامتان\",\"علامات\"),\" \")","v":""},{"$f":"IF(COUNT(K60)=1,B_Only(K60,1,1,2,\"علامة\",\"علامتان\",\"علامات\"),\" \")","v":""},{"$f":"IF(COUNT(L60)=1,B_Only(L60,1,1,2,\"علامة\",\"علامتان\",\"علامات\"),\" \")","v":""},{"$f":"IF(COUNT(M60)=1,B_Only(M60,1,1,2,\"علامة\",\"علامتان\",\"علامات\"),\" \")","v":""},{"$f":"IF(COUNT(N60)=1,B_Only(N60,1,1,2,\"علامة\",\"علامتان\",\"علامات\"),\" \")","v":""},{"$f":"IF(COUNT(O60)=1,B_Only(O60,1,1,2,\"علامة\",\"علامتان\",\"علامات\"),\" \")","v":""},{"$f":"IF(COUNT(P60)=1,B_Only(P60,1,1,2,\"علامة\",\"علامتان\",\"علامات\"),\" \")","v":""},{"$f":"IF(COUNT(Q60)=1,B_Only(Q60,1,1,2,\"علامة\",\"علامتان\",\"علامات\"),\" \")","v":""},{"$f":"IF(COUNT(R60)=1,B_Only(R60,1,1,2,\"علامة\",\"علامتان\",\"علامات\"),\" \")","v":""},{"$f":"IF(COUNT(S60)=1,B_Only(S60,1,1,2,\"علامة\",\"علامتان\",\"علامات\"),\" \")","v":""},{"$f":"IF(COUNT(T60)=1,B_Only(T60,1,1,2,\"علامة\",\"علامتان\",\"علامات\"),\" \")","v":""},{"$f":"IF(COUNT(U60)=1,B_Only(U60,1,1,2,\"علامة\",\"علامتان\",\"علامات\"),\" \")","v":""}]
[null,null,null,null,null,null,null,null,null,null,null,null,null,null,null,null,null,null,null,null,null,{"$f":"IF(COUNT(A61)=1,(ord(A61)&\" على الصف \"),\" \")","v":""},null,{"$f":"IF(COUNT(W61)=1,B_Only(W61,1,1,2,\"علامة\",\"علامتان\",\"علامات\"),\" \")","v":""},{"$f":"IF(COUNT(W61)=1,ROUND(W61/temp!$B$9,2),\" \")","v":""},{"$f":"IF(COUNT(Y61)=1, B_Only(INT(Y61),1,0,2,\"بالمئة\",\"بالمئة\",\"بالمئة\") &\" و  \" &B_Only((Y61-INT(Y61))*100,1,0,2,\"عشر\",\"عشران\",\"اعشار\"),\" \")","v":""},{"$f":"IF(COUNT(H61)=1,B_Only(H61,1,1,2,\"علامة\",\"علامتان\",\"علامات\"),\" \")","v":""},{"$f":"IF(COUNT(I61)=1,B_Only(I61,1,1,2,\"علامة\",\"علامتان\",\"علامات\"),\" \")","v":""},{"$f":"IF(COUNT(J61)=1,B_Only(J61,1,1,2,\"علامة\",\"علامتان\",\"علامات\"),\" \")","v":""},{"$f":"IF(COUNT(K61)=1,B_Only(K61,1,1,2,\"علامة\",\"علامتان\",\"علامات\"),\" \")","v":""},{"$f":"IF(COUNT(L61)=1,B_Only(L61,1,1,2,\"علامة\",\"علامتان\",\"علامات\"),\" \")","v":""},{"$f":"IF(COUNT(M61)=1,B_Only(M61,1,1,2,\"علامة\",\"علامتان\",\"علامات\"),\" \")","v":""},{"$f":"IF(COUNT(N61)=1,B_Only(N61,1,1,2,\"علامة\",\"علامتان\",\"علامات\"),\" \")","v":""},{"$f":"IF(COUNT(O61)=1,B_Only(O61,1,1,2,\"علامة\",\"علامتان\",\"علامات\"),\" \")","v":""},{"$f":"IF(COUNT(P61)=1,B_Only(P61,1,1,2,\"علامة\",\"علامتان\",\"علامات\"),\" \")","v":""},{"$f":"IF(COUNT(Q61)=1,B_Only(Q61,1,1,2,\"علامة\",\"علامتان\",\"علامات\"),\" \")","v":""},{"$f":"IF(COUNT(R61)=1,B_Only(R61,1,1,2,\"علامة\",\"علامتان\",\"علامات\"),\" \")","v":""},{"$f":"IF(COUNT(S61)=1,B_Only(S61,1,1,2,\"علامة\",\"علامتان\",\"علامات\"),\" \")","v":""},{"$f":"IF(COUNT(T61)=1,B_Only(T61,1,1,2,\"علامة\",\"علامتان\",\"علامات\"),\" \")","v":""},{"$f":"IF(COUNT(U61)=1,B_Only(U61,1,1,2,\"علامة\",\"علامتان\",\"علامات\"),\" \")","v":""}]
[null,null,null,null,null,null,null,null,null,null,null,null,null,null,null,null,null,null,null,null,null,{"$f":"IF(COUNT(A62)=1,(ord(A62)&\" على الصف \"),\" \")","v":""},null,{"$f":"IF(COUNT(W62)=1,B_Only(W62,1,1,2,\"علامة\",\"علامتان\",\"علامات\"),\" \")","v":""},{"$f":"IF(COUNT(W62)=1,ROUND(W62/temp!$B$9,2),\" \")","v":""},{"$f":"IF(COUNT(Y62)=1, B_Only(INT(Y62),1,0,2,\"بالمئة\",\"بالمئة\",\"بالمئة\") &\" و  \" &B_Only((Y62-INT(Y62))*100,1,0,2,\"عشر\",\"عشران\",\"اعشار\"),\" \")","v":""},{"$f":"IF(COUNT(H62)=1,B_Only(H62,1,1,2,\"علامة\",\"علامتان\",\"علامات\"),\" \")","v":""},{"$f":"IF(COUNT(I62)=1,B_Only(I62,1,1,2,\"علامة\",\"علامتان\",\"علامات\"),\" \")","v":""},{"$f":"IF(COUNT(J62)=1,B_Only(J62,1,1,2,\"علامة\",\"علامتان\",\"علامات\"),\" \")","v":""},{"$f":"IF(COUNT(K62)=1,B_Only(K62,1,1,2,\"علامة\",\"علامتان\",\"علامات\"),\" \")","v":""},{"$f":"IF(COUNT(L62)=1,B_Only(L62,1,1,2,\"علامة\",\"علامتان\",\"علامات\"),\" \")","v":""},{"$f":"IF(COUNT(M62)=1,B_Only(M62,1,1,2,\"علامة\",\"علامتان\",\"علامات\"),\" \")","v":""},{"$f":"IF(COUNT(N62)=1,B_Only(N62,1,1,2,\"علامة\",\"علامتان\",\"علامات\"),\" \")","v":""},{"$f":"IF(COUNT(O62)=1,B_Only(O62,1,1,2,\"علامة\",\"علامتان\",\"علامات\"),\" \")","v":""},{"$f":"IF(COUNT(P62)=1,B_Only(P62,1,1,2,\"علامة\",\"علامتان\",\"علامات\"),\" \")","v":""},{"$f":"IF(COUNT(Q62)=1,B_Only(Q62,1,1,2,\"علامة\",\"علامتان\",\"علامات\"),\" \")","v":""},{"$f":"IF(COUNT(R62)=1,B_Only(R62,1,1,2,\"علامة\",\"علامتان\",\"علامات\"),\" \")","v":""},{"$f":"IF(COUNT(S62)=1,B_Only(S62,1,1,2,\"علامة\",\"علامتان\",\"علامات\"),\" \")","v":""},{"$f":"IF(COUNT(T62)=1,B_Only(T62,1,1,2,\"علامة\",\"علامتان\",\"علامات\"),\" \")","v":""},{"$f":"IF(COUNT(U62)=1,B_Only(U62,1,1,2,\"علامة\",\"علامتان\",\"علامات\"),\" \")","v":""}]
[null,null,null,null,null,null,null,null,null,null,null,null,null,null,null,null,null,null,null,null,null,{"$f":"IF(COUNT(A63)=1,(ord(A63)&\" على الصف \"),\" \")","v":""},null,{"$f":"IF(COUNT(W63)=1,B_Only(W63,1,1,2,\"علامة\",\"علامتان\",\"علامات\"),\" \")","v":""},{"$f":"IF(COUNT(W63)=1,ROUND(W63/temp!$B$9,2),\" \")","v":""},{"$f":"IF(COUNT(Y63)=1, B_Only(INT(Y63),1,0,2,\"بالمئة\",\"بالمئة\",\"بالمئة\") &\" و  \" &B_Only((Y63-INT(Y63))*100,1,0,2,\"عشر\",\"عشران\",\"اعشار\"),\" \")","v":""},{"$f":"IF(COUNT(H63)=1,B_Only(H63,1,1,2,\"علامة\",\"علامتان\",\"علامات\"),\" \")","v":""},{"$f":"IF(COUNT(I63)=1,B_Only(I63,1,1,2,\"علامة\",\"علامتان\",\"علامات\"),\" \")","v":""},{"$f":"IF(COUNT(J63)=1,B_Only(J63,1,1,2,\"علامة\",\"علامتان\",\"علامات\"),\" \")","v":""},{"$f":"IF(COUNT(K63)=1,B_Only(K63,1,1,2,\"علامة\",\"علامتان\",\"علامات\"),\" \")","v":""},{"$f":"IF(COUNT(L63)=1,B_Only(L63,1,1,2,\"علامة\",\"علامتان\",\"علامات\"),\" \")","v":""},{"$f":"IF(COUNT(M63)=1,B_Only(M63,1,1,2,\"علامة\",\"علامتان\",\"علامات\"),\" \")","v":""},{"$f":"IF(COUNT(N63)=1,B_Only(N63,1,1,2,\"علامة\",\"علامتان\",\"علامات\"),\" \")","v":""},{"$f":"IF(COUNT(O63)=1,B_Only(O63,1,1,2,\"علامة\",\"علامتان\",\"علامات\"),\" \")","v":""},{"$f":"IF(COUNT(P63)=1,B_Only(P63,1,1,2,\"علامة\",\"علامتان\",\"علامات\"),\" \")","v":""},{"$f":"IF(COUNT(Q63)=1,B_Only(Q63,1,1,2,\"علامة\",\"علامتان\",\"علامات\"),\" \")","v":""},{"$f":"IF(COUNT(R63)=1,B_Only(R63,1,1,2,\"علامة\",\"علامتان\",\"علامات\"),\" \")","v":""},{"$f":"IF(COUNT(S63)=1,B_Only(S63,1,1,2,\"علامة\",\"علامتان\",\"علامات\"),\" \")","v":""},{"$f":"IF(COUNT(T63)=1,B_Only(T63,1,1,2,\"علامة\",\"علامتان\",\"علامات\"),\" \")","v":""},{"$f":"IF(COUNT(U63)=1,B_Only(U63,1,1,2,\"علامة\",\"علامتان\",\"علامات\"),\" \")","v":""}]
[null,null,null,null,null,null,null,null,null,null,null,null,null,null,null,null,null,null,null,null,null,{"$f":"IF(COUNT(A64)=1,(ord(A64)&\" على الصف \"),\" \")","v":""},null,{"$f":"IF(COUNT(W64)=1,B_Only(W64,1,1,2,\"علامة\",\"علامتان\",\"علامات\"),\" \")","v":""},{"$f":"IF(COUNT(W64)=1,ROUND(W64/temp!$B$9,2),\" \")","v":""},{"$f":"IF(COUNT(Y64)=1, B_Only(INT(Y64),1,0,2,\"بالمئة\",\"بالمئة\",\"بالمئة\") &\" و  \" &B_Only((Y64-INT(Y64))*100,1,0,2,\"عشر\",\"عشران\",\"اعشار\"),\" \")","v":""},{"$f":"IF(COUNT(H64)=1,B_Only(H64,1,1,2,\"علامة\",\"علامتان\",\"علامات\"),\" \")","v":""},{"$f":"IF(COUNT(I64)=1,B_Only(I64,1,1,2,\"علامة\",\"علامتان\",\"علامات\"),\" \")","v":""},{"$f":"IF(COUNT(J64)=1,B_Only(J64,1,1,2,\"علامة\",\"علامتان\",\"علامات\"),\" \")","v":""},{"$f":"IF(COUNT(K64)=1,B_Only(K64,1,1,2,\"علامة\",\"علامتان\",\"علامات\"),\" \")","v":""},{"$f":"IF(COUNT(L64)=1,B_Only(L64,1,1,2,\"علامة\",\"علامتان\",\"علامات\"),\" \")","v":""},{"$f":"IF(COUNT(M64)=1,B_Only(M64,1,1,2,\"علامة\",\"علامتان\",\"علامات\"),\" \")","v":""},{"$f":"IF(COUNT(N64)=1,B_Only(N64,1,1,2,\"علامة\",\"علامتان\",\"علامات\"),\" \")","v":""},{"$f":"IF(COUNT(O64)=1,B_Only(O64,1,1,2,\"علامة\",\"علامتان\",\"علامات\"),\" \")","v":""},{"$f":"IF(COUNT(P64)=1,B_Only(P64,1,1,2,\"علامة\",\"علامتان\",\"علامات\"),\" \")","v":""},{"$f":"IF(COUNT(Q64)=1,B_Only(Q64,1,1,2,\"علامة\",\"علامتان\",\"علامات\"),\" \")","v":""},{"$f":"IF(COUNT(R64)=1,B_Only(R64,1,1,2,\"علامة\",\"علامتان\",\"علامات\"),\" \")","v":""},{"$f":"IF(COUNT(S64)=1,B_Only(S64,1,1,2,\"علامة\",\"علامتان\",\"علامات\"),\" \")","v":""},{"$f":"IF(COUNT(T64)=1,B_Only(T64,1,1,2,\"علامة\",\"علامتان\",\"علامات\"),\" \")","v":""},{"$f":"IF(COUNT(U64)=1,B_Only(U64,1,1,2,\"علامة\",\"علامتان\",\"علامات\"),\" \")","v":""}]
[null,null,null,null,null,null,null,null,null,null,null,null,null,null,null,null,null,null,null,null,null,{"$f":"IF(COUNT(A65)=1,(ord(A65)&\" على الصف \"),\" \")","v":""},null,{"$f":"IF(COUNT(W65)=1,B_Only(W65,1,1,2,\"علامة\",\"علامتان\",\"علامات\"),\" \")","v":""},{"$f":"IF(COUNT(W65)=1,ROUND(W65/temp!$B$9,2),\" \")","v":""},{"$f":"IF(COUNT(Y65)=1, B_Only(INT(Y65),1,0,2,\"بالمئة\",\"بالمئة\",\"بالمئة\") &\" و  \" &B_Only((Y65-INT(Y65))*100,1,0,2,\"عشر\",\"عشران\",\"اعشار\"),\" \")","v":""},{"$f":"IF(COUNT(H65)=1,B_Only(H65,1,1,2,\"علامة\",\"علامتان\",\"علامات\"),\" \")","v":""},{"$f":"IF(COUNT(I65)=1,B_Only(I65,1,1,2,\"علامة\",\"علامتان\",\"علامات\"),\" \")","v":""},{"$f":"IF(COUNT(J65)=1,B_Only(J65,1,1,2,\"علامة\",\"علامتان\",\"علامات\"),\" \")","v":""},{"$f":"IF(COUNT(K65)=1,B_Only(K65,1,1,2,\"علامة\",\"علامتان\",\"علامات\"),\" \")","v":""},{"$f":"IF(COUNT(L65)=1,B_Only(L65,1,1,2,\"علامة\",\"علامتان\",\"علامات\"),\" \")","v":""},{"$f":"IF(COUNT(M65)=1,B_Only(M65,1,1,2,\"علامة\",\"علامتان\",\"علامات\"),\" \")","v":""},{"$f":"IF(COUNT(N65)=1,B_Only(N65,1,1,2,\"علامة\",\"علامتان\",\"علامات\"),\" \")","v":""},{"$f":"IF(COUNT(O65)=1,B_Only(O65,1,1,2,\"علامة\",\"علامتان\",\"علامات\"),\" \")","v":""},{"$f":"IF(COUNT(P65)=1,B_Only(P65,1,1,2,\"علامة\",\"علامتان\",\"علامات\"),\" \")","v":""},{"$f":"IF(COUNT(Q65)=1,B_Only(Q65,1,1,2,\"علامة\",\"علامتان\",\"علامات\"),\" \")","v":""},{"$f":"IF(COUNT(R65)=1,B_Only(R65,1,1,2,\"علامة\",\"علامتان\",\"علامات\"),\" \")","v":""},{"$f":"IF(COUNT(S65)=1,B_Only(S65,1,1,2,\"علامة\",\"علامتان\",\"علامات\"),\" \")","v":""},{"$f":"IF(COUNT(T65)=1,B_Only(T65,1,1,2,\"علامة\",\"علامتان\",\"علامات\"),\" \")","v":""},{"$f":"IF(COUNT(U65)=1,B_Only(U65,1,1,2,\"علامة\",\"علامتان\",\"علامات\"),\" \")","v":""}]
[null,null,null,null,null,null,null,null,null,null,null,null,null,null,null,null,null,null,null,null,null,{"$f":"IF(COUNT(A66)=1,(ord(A66)&\" على الصف \"),\" \")","v":""},null,{"$f":"IF(COUNT(W66)=1,B_Only(W66,1,1,2,\"علامة\",\"علامتان\",\"علامات\"),\" \")","v":""},{"$f":"IF(COUNT(W66)=1,ROUND(W66/temp!$B$9,2),\" \")","v":""},{"$f":"IF(COUNT(Y66)=1, B_Only(INT(Y66),1,0,2,\"بالمئة\",\"بالمئة\",\"بالمئة\") &\" و  \" &B_Only((Y66-INT(Y66))*100,1,0,2,\"عشر\",\"عشران\",\"اعشار\"),\" \")","v":""},{"$f":"IF(COUNT(H66)=1,B_Only(H66,1,1,2,\"علامة\",\"علامتان\",\"علامات\"),\" \")","v":""},{"$f":"IF(COUNT(I66)=1,B_Only(I66,1,1,2,\"علامة\",\"علامتان\",\"علامات\"),\" \")","v":""},{"$f":"IF(COUNT(J66)=1,B_Only(J66,1,1,2,\"علامة\",\"علامتان\",\"علامات\"),\" \")","v":""},{"$f":"IF(COUNT(K66)=1,B_Only(K66,1,1,2,\"علامة\",\"علامتان\",\"علامات\"),\" \")","v":""},{"$f":"IF(COUNT(L66)=1,B_Only(L66,1,1,2,\"علامة\",\"علامتان\",\"علامات\"),\" \")","v":""},{"$f":"IF(COUNT(M66)=1,B_Only(M66,1,1,2,\"علامة\",\"علامتان\",\"علامات\"),\" \")","v":""},{"$f":"IF(COUNT(N66)=1,B_Only(N66,1,1,2,\"علامة\",\"علامتان\",\"علامات\"),\" \")","v":""},{"$f":"IF(COUNT(O66)=1,B_Only(O66,1,1,2,\"علامة\",\"علامتان\",\"علامات\"),\" \")","v":""},{"$f":"IF(COUNT(P66)=1,B_Only(P66,1,1,2,\"علامة\",\"علامتان\",\"علامات\"),\" \")","v":""},{"$f":"IF(COUNT(Q66)=1,B_Only(Q66,1,1,2,\"علامة\",\"علامتان\",\"علامات\"),\" \")","v":""},{"$f":"IF(COUNT(R66)=1,B_Only(R66,1,1,2,\"علامة\",\"علامتان\",\"علامات\"),\" \")","v":""},{"$f":"IF(COUNT(S66)=1,B_Only(S66,1,1,2,\"علامة\",\"علامتان\",\"علامات\"),\" \")","v":""},{"$f":"IF(COUNT(T66)=1,B_Only(T66,1,1,2,\"علامة\",\"علامتان\",\"علامات\"),\" \")","v":""},{"$f":"IF(COUNT(U66)=1,B_Only(U66,1,1,2,\"علامة\",\"علامتان\",\"علامات\"),\" \")","v":""}]
[null,null,null,null,null,null,null,null,null,null,null,null,null,null,null,null,null,null,null,null,null,{"$f":"IF(COUNT(A67)=1,(ord(A67)&\" على الصف \"),\" \")","v":""},null,{"$f":"IF(COUNT(W67)=1,B_Only(W67,1,1,2,\"علامة\",\"علامتان\",\"علامات\"),\" \")","v":""},{"$f":"IF(COUNT(W67)=1,ROUND(W67/temp!$B$9,2),\" \")","v":""},{"$f":"IF(COUNT(Y67)=1, B_Only(INT(Y67),1,0,2,\"بالمئة\",\"بالمئة\",\"بالمئة\") &\" و  \" &B_Only((Y67-INT(Y67))*100,1,0,2,\"عشر\",\"عشران\",\"اعشار\"),\" \")","v":""},{"$f":"IF(COUNT(H67)=1,B_Only(H67,1,1,2,\"علامة\",\"علامتان\",\"علامات\"),\" \")","v":""},{"$f":"IF(COUNT(I67)=1,B_Only(I67,1,1,2,\"علامة\",\"علامتان\",\"علامات\"),\" \")","v":""},{"$f":"IF(COUNT(J67)=1,B_Only(J67,1,1,2,\"علامة\",\"علامتان\",\"علامات\"),\" \")","v":""},{"$f":"IF(COUNT(K67)=1,B_Only(K67,1,1,2,\"علامة\",\"علامتان\",\"علامات\"),\" \")","v":""},{"$f":"IF(COUNT(L67)=1,B_Only(L67,1,1,2,\"علامة\",\"علامتان\",\"علامات\"),\" \")","v":""},{"$f":"IF(COUNT(M67)=1,B_Only(M67,1,1,2,\"علامة\",\"علامتان\",\"علامات\"),\" \")","v":""},{"$f":"IF(COUNT(N67)=1,B_Only(N67,1,1,2,\"علامة\",\"علامتان\",\"علامات\"),\" \")","v":""},{"$f":"IF(COUNT(O67)=1,B_Only(O67,1,1,2,\"علامة\",\"علامتان\",\"علامات\"),\" \")","v":""},{"$f":"IF(COUNT(P67)=1,B_Only(P67,1,1,2,\"علامة\",\"علامتان\",\"علامات\"),\" \")","v":""},{"$f":"IF(COUNT(Q67)=1,B_Only(Q67,1,1,2,\"علامة\",\"علامتان\",\"علامات\"),\" \")","v":""},{"$f":"IF(COUNT(R67)=1,B_Only(R67,1,1,2,\"علامة\",\"علامتان\",\"علامات\"),\" \")","v":""},{"$f":"IF(COUNT(S67)=1,B_Only(S67,1,1,2,\"علامة\",\"علامتان\",\"علامات\"),\" \")","v":""},{"$f":"IF(COUNT(T67)=1,B_Only(T67,1,1,2,\"علامة\",\"علامتان\",\"علامات\"),\" \")","v":""},{"$f":"IF(COUNT(U67)=1,B_Only(U67,1,1,2,\"علامة\",\"علامتان\",\"علامات\"),\" \")","v":""}]
[null,null,null,null,null,null,null,null,null,null,null,null,null,null,null,null,null,null,null,null,null,{"$f":"IF(COUNT(A68)=1,(ord(A68)&\" على الصف \"),\" \")","v":""},null,{"$f":"IF(COUNT(W68)=1,B_Only(W68,1,1,2,\"علامة\",\"علامتان\",\"علامات\"),\" \")","v":""},{"$f":"IF(COUNT(W68)=1,ROUND(W68/temp!$B$9,2),\" \")","v":""},{"$f":"IF(COUNT(Y68)=1, B_Only(INT(Y68),1,0,2,\"بالمئة\",\"بالمئة\",\"بالمئة\") &\" و  \" &B_Only((Y68-INT(Y68))*100,1,0,2,\"عشر\",\"عشران\",\"اعشار\"),\" \")","v":""},{"$f":"IF(COUNT(H68)=1,B_Only(H68,1,1,2,\"علامة\",\"علامتان\",\"علامات\"),\" \")","v":""},{"$f":"IF(COUNT(I68)=1,B_Only(I68,1,1,2,\"علامة\",\"علامتان\",\"علامات\"),\" \")","v":""},{"$f":"IF(COUNT(J68)=1,B_Only(J68,1,1,2,\"علامة\",\"علامتان\",\"علامات\"),\" \")","v":""},{"$f":"IF(COUNT(K68)=1,B_Only(K68,1,1,2,\"علامة\",\"علامتان\",\"علامات\"),\" \")","v":""},{"$f":"IF(COUNT(L68)=1,B_Only(L68,1,1,2,\"علامة\",\"علامتان\",\"علامات\"),\" \")","v":""},{"$f":"IF(COUNT(M68)=1,B_Only(M68,1,1,2,\"علامة\",\"علامتان\",\"علامات\"),\" \")","v":""},{"$f":"IF(COUNT(N68)=1,B_Only(N68,1,1,2,\"علامة\",\"علامتان\",\"علامات\"),\" \")","v":""},{"$f":"IF(COUNT(O68)=1,B_Only(O68,1,1,2,\"علامة\",\"علامتان\",\"علامات\"),\" \")","v":""},{"$f":"IF(COUNT(P68)=1,B_Only(P68,1,1,2,\"علامة\",\"علامتان\",\"علامات\"),\" \")","v":""},{"$f":"IF(COUNT(Q68)=1,B_Only(Q68,1,1,2,\"علامة\",\"علامتان\",\"علامات\"),\" \")","v":""},{"$f":"IF(COUNT(R68)=1,B_Only(R68,1,1,2,\"علامة\",\"علامتان\",\"علامات\"),\" \")","v":""},{"$f":"IF(COUNT(S68)=1,B_Only(S68,1,1,2,\"علامة\",\"علامتان\",\"علامات\"),\" \")","v":""},{"$f":"IF(COUNT(T68)=1,B_Only(T68,1,1,2,\"علامة\",\"علامتان\",\"علامات\"),\" \")","v":""},{"$f":"IF(COUNT(U68)=1,B_Only(U68,1,1,2,\"علامة\",\"علامتان\",\"علامات\"),\" \")","v":""}]
[null,null,null,null,null,null,null,null,null,null,null,null,null,null,null,null,null,null,null,null,null,{"$f":"IF(COUNT(A69)=1,(ord(A69)&\" على الصف \"),\" \")","v":""},null,{"$f":"IF(COUNT(W69)=1,B_Only(W69,1,1,2,\"علامة\",\"علامتان\",\"علامات\"),\" \")","v":""},{"$f":"IF(COUNT(W69)=1,ROUND(W69/temp!$B$9,2),\" \")","v":""},{"$f":"IF(COUNT(Y69)=1, B_Only(INT(Y69),1,0,2,\"بالمئة\",\"بالمئة\",\"بالمئة\") &\" و  \" &B_Only((Y69-INT(Y69))*100,1,0,2,\"عشر\",\"عشران\",\"اعشار\"),\" \")","v":""},{"$f":"IF(COUNT(H69)=1,B_Only(H69,1,1,2,\"علامة\",\"علامتان\",\"علامات\"),\" \")","v":""},{"$f":"IF(COUNT(I69)=1,B_Only(I69,1,1,2,\"علامة\",\"علامتان\",\"علامات\"),\" \")","v":""},{"$f":"IF(COUNT(J69)=1,B_Only(J69,1,1,2,\"علامة\",\"علامتان\",\"علامات\"),\" \")","v":""},{"$f":"IF(COUNT(K69)=1,B_Only(K69,1,1,2,\"علامة\",\"علامتان\",\"علامات\"),\" \")","v":""},{"$f":"IF(COUNT(L69)=1,B_Only(L69,1,1,2,\"علامة\",\"علامتان\",\"علامات\"),\" \")","v":""},{"$f":"IF(COUNT(M69)=1,B_Only(M69,1,1,2,\"علامة\",\"علامتان\",\"علامات\"),\" \")","v":""},{"$f":"IF(COUNT(N69)=1,B_Only(N69,1,1,2,\"علامة\",\"علامتان\",\"علامات\"),\" \")","v":""},{"$f":"IF(COUNT(O69)=1,B_Only(O69,1,1,2,\"علامة\",\"علامتان\",\"علامات\"),\" \")","v":""},{"$f":"IF(COUNT(P69)=1,B_Only(P69,1,1,2,\"علامة\",\"علامتان\",\"علامات\"),\" \")","v":""},{"$f":"IF(COUNT(Q69)=1,B_Only(Q69,1,1,2,\"علامة\",\"علامتان\",\"علامات\"),\" \")","v":""},{"$f":"IF(COUNT(R69)=1,B_Only(R69,1,1,2,\"علامة\",\"علامتان\",\"علامات\"),\" \")","v":""},{"$f":"IF(COUNT(S69)=1,B_Only(S69,1,1,2,\"علامة\",\"علامتان\",\"علامات\"),\" \")","v":""},{"$f":"IF(COUNT(T69)=1,B_Only(T69,1,1,2,\"علامة\",\"علامتان\",\"علامات\"),\" \")","v":""},{"$f":"IF(COUNT(U69)=1,B_Only(U69,1,1,2,\"علامة\",\"علامتان\",\"علامات\"),\" \")","v":""}]
[null,null,null,null,null,null,null,null,null,null,null,null,null,null,null,null,null,null,null,null,null,{"$f":"IF(COUNT(A70)=1,(ord(A70)&\" على الصف \"),\" \")","v":""},null,{"$f":"IF(COUNT(W70)=1,B_Only(W70,1,1,2,\"علامة\",\"علامتان\",\"علامات\"),\" \")","v":""},{"$f":"IF(COUNT(W70)=1,ROUND(W70/temp!$B$9,2),\" \")","v":""},{"$f":"IF(COUNT(Y70)=1, B_Only(INT(Y70),1,0,2,\"بالمئة\",\"بالمئة\",\"بالمئة\") &\" و  \" &B_Only((Y70-INT(Y70))*100,1,0,2,\"عشر\",\"عشران\",\"اعشار\"),\" \")","v":""},{"$f":"IF(COUNT(H70)=1,B_Only(H70,1,1,2,\"علامة\",\"علامتان\",\"علامات\"),\" \")","v":""},{"$f":"IF(COUNT(I70)=1,B_Only(I70,1,1,2,\"علامة\",\"علامتان\",\"علامات\"),\" \")","v":""},{"$f":"IF(COUNT(J70)=1,B_Only(J70,1,1,2,\"علامة\",\"علامتان\",\"علامات\"),\" \")","v":""},{"$f":"IF(COUNT(K70)=1,B_Only(K70,1,1,2,\"علامة\",\"علامتان\",\"علامات\"),\" \")","v":""},{"$f":"IF(COUNT(L70)=1,B_Only(L70,1,1,2,\"علامة\",\"علامتان\",\"علامات\"),\" \")","v":""},{"$f":"IF(COUNT(M70)=1,B_Only(M70,1,1,2,\"علامة\",\"علامتان\",\"علامات\"),\" \")","v":""},{"$f":"IF(COUNT(N70)=1,B_Only(N70,1,1,2,\"علامة\",\"علامتان\",\"علامات\"),\" \")","v":""},{"$f":"IF(COUNT(O70)=1,B_Only(O70,1,1,2,\"علامة\",\"علامتان\",\"علامات\"),\" \")","v":""},{"$f":"IF(COUNT(P70)=1,B_Only(P70,1,1,2,\"علامة\",\"علامتان\",\"علامات\"),\" \")","v":""},{"$f":"IF(COUNT(Q70)=1,B_Only(Q70,1,1,2,\"علامة\",\"علامتان\",\"علامات\"),\" \")","v":""},{"$f":"IF(COUNT(R70)=1,B_Only(R70,1,1,2,\"علامة\",\"علامتان\",\"علامات\"),\" \")","v":""},{"$f":"IF(COUNT(S70)=1,B_Only(S70,1,1,2,\"علامة\",\"علامتان\",\"علامات\"),\" \")","v":""},{"$f":"IF(COUNT(T70)=1,B_Only(T70,1,1,2,\"علامة\",\"علامتان\",\"علامات\"),\" \")","v":""},{"$f":"IF(COUNT(U70)=1,B_Only(U70,1,1,2,\"علامة\",\"علامتان\",\"علامات\"),\" \")","v":""}]
[null,null,null,null,null,null,null,null,null,null,null,null,null,null,null,null,null,null,null,null,null,{"$f":"IF(COUNT(A71)=1,(ord(A71)&\" على الصف \"),\" \")","v":""},null,{"$f":"IF(COUNT(W71)=1,B_Only(W71,1,1,2,\"علامة\",\"علامتان\",\"علامات\"),\" \")","v":""},{"$f":"IF(COUNT(W71)=1,ROUND(W71/temp!$B$9,2),\" \")","v":""},{"$f":"IF(COUNT(Y71)=1, B_Only(INT(Y71),1,0,2,\"بالمئة\",\"بالمئة\",\"بالمئة\") &\" و  \" &B_Only((Y71-INT(Y71))*100,1,0,2,\"عشر\",\"عشران\",\"اعشار\"),\" \")","v":""},{"$f":"IF(COUNT(H71)=1,B_Only(H71,1,1,2,\"علامة\",\"علامتان\",\"علامات\"),\" \")","v":""},{"$f":"IF(COUNT(I71)=1,B_Only(I71,1,1,2,\"علامة\",\"علامتان\",\"علامات\"),\" \")","v":""},{"$f":"IF(COUNT(J71)=1,B_Only(J71,1,1,2,\"علامة\",\"علامتان\",\"علامات\"),\" \")","v":""},{"$f":"IF(COUNT(K71)=1,B_Only(K71,1,1,2,\"علامة\",\"علامتان\",\"علامات\"),\" \")","v":""},{"$f":"IF(COUNT(L71)=1,B_Only(L71,1,1,2,\"علامة\",\"علامتان\",\"علامات\"),\" \")","v":""},{"$f":"IF(COUNT(M71)=1,B_Only(M71,1,1,2,\"علامة\",\"علامتان\",\"علامات\"),\" \")","v":""},{"$f":"IF(COUNT(N71)=1,B_Only(N71,1,1,2,\"علامة\",\"علامتان\",\"علامات\"),\" \")","v":""},{"$f":"IF(COUNT(O71)=1,B_Only(O71,1,1,2,\"علامة\",\"علامتان\",\"علامات\"),\" \")","v":""},{"$f":"IF(COUNT(P71)=1,B_Only(P71,1,1,2,\"علامة\",\"علامتان\",\"علامات\"),\" \")","v":""},{"$f":"IF(COUNT(Q71)=1,B_Only(Q71,1,1,2,\"علامة\",\"علامتان\",\"علامات\"),\" \")","v":""},{"$f":"IF(COUNT(R71)=1,B_Only(R71,1,1,2,\"علامة\",\"علامتان\",\"علامات\"),\" \")","v":""},{"$f":"IF(COUNT(S71)=1,B_Only(S71,1,1,2,\"علامة\",\"علامتان\",\"علامات\"),\" \")","v":""},{"$f":"IF(COUNT(T71)=1,B_Only(T71,1,1,2,\"علامة\",\"علامتان\",\"علامات\"),\" \")","v":""},{"$f":"IF(COUNT(U71)=1,B_Only(U71,1,1,2,\"علامة\",\"علامتان\",\"علامات\"),\" \")","v":""}]
[null,null,null,null,null,null,null,null,null,null,null,null,null,null,null,null,null,null,null,null,null,{"$f":"IF(COUNT(A72)=1,(ord(A72)&\" على الصف \"),\" \")","v":""},null,{"$f":"IF(COUNT(W72)=1,B_Only(W72,1,1,2,\"علامة\",\"علامتان\",\"علامات\"),\" \")","v":""},{"$f":"IF(COUNT(W72)=1,ROUND(W72/temp!$B$9,2),\" \")","v":""},{"$f":"IF(COUNT(Y72)=1, B_Only(INT(Y72),1,0,2,\"بالمئة\",\"بالمئة\",\"بالمئة\") &\" و  \" &B_Only((Y72-INT(Y72))*100,1,0,2,\"عشر\",\"عشران\",\"اعشار\"),\" \")","v":""},{"$f":"IF(COUNT(H72)=1,B_Only(H72,1,1,2,\"علامة\",\"علامتان\",\"علامات\"),\" \")","v":""},{"$f":"IF(COUNT(I72)=1,B_Only(I72,1,1,2,\"علامة\",\"علامتان\",\"علامات\"),\" \")","v":""},{"$f":"IF(COUNT(J72)=1,B_Only(J72,1,1,2,\"علامة\",\"علامتان\",\"علامات\"),\" \")","v":""},{"$f":"IF(COUNT(K72)=1,B_Only(K72,1,1,2,\"علامة\",\"علامتان\",\"علامات\"),\" \")","v":""},{"$f":"IF(COUNT(L72)=1,B_Only(L72,1,1,2,\"علامة\",\"علامتان\",\"علامات\"),\" \")","v":""},{"$f":"IF(COUNT(M72)=1,B_Only(M72,1,1,2,\"علامة\",\"علامتان\",\"علامات\"),\" \")","v":""},{"$f":"IF(COUNT(N72)=1,B_Only(N72,1,1,2,\"علامة\",\"علامتان\",\"علامات\"),\" \")","v":""},{"$f":"IF(COUNT(O72)=1,B_Only(O72,1,1,2,\"علامة\",\"علامتان\",\"علامات\"),\" \")","v":""},{"$f":"IF(COUNT(P72)=1,B_Only(P72,1,1,2,\"علامة\",\"علامتان\",\"علامات\"),\" \")","v":""},{"$f":"IF(COUNT(Q72)=1,B_Only(Q72,1,1,2,\"علامة\",\"علامتان\",\"علامات\"),\" \")","v":""},{"$f":"IF(COUNT(R72)=1,B_Only(R72,1,1,2,\"علامة\",\"علامتان\",\"علامات\"),\" \")","v":""},{"$f":"IF(COUNT(S72)=1,B_Only(S72,1,1,2,\"علامة\",\"علامتان\",\"علامات\"),\" \")","v":""},{"$f":"IF(COUNT(T72)=1,B_Only(T72,1,1,2,\"علامة\",\"علامتان\",\"علامات\"),\" \")","v":""},{"$f":"IF(COUNT(U72)=1,B_Only(U72,1,1,2,\"علامة\",\"علامتان\",\"علامات\"),\" \")","v":""}]
[null,null,null,null,null,null,null,null,null,null,null,null,null,null,null,null,null,null,null,null,null,{"$f":"IF(COUNT(A73)=1,(ord(A73)&\" على الصف \"),\" \")","v":""},null,{"$f":"IF(COUNT(W73)=1,B_Only(W73,1,1,2,\"علامة\",\"علامتان\",\"علامات\"),\" \")","v":""},{"$f":"IF(COUNT(W73)=1,ROUND(W73/temp!$B$9,2),\" \")","v":""},{"$f":"IF(COUNT(Y73)=1, B_Only(INT(Y73),1,0,2,\"بالمئة\",\"بالمئة\",\"بالمئة\") &\" و  \" &B_Only((Y73-INT(Y73))*100,1,0,2,\"عشر\",\"عشران\",\"اعشار\"),\" \")","v":""},{"$f":"IF(COUNT(H73)=1,B_Only(H73,1,1,2,\"علامة\",\"علامتان\",\"علامات\"),\" \")","v":""},{"$f":"IF(COUNT(I73)=1,B_Only(I73,1,1,2,\"علامة\",\"علامتان\",\"علامات\"),\" \")","v":""},{"$f":"IF(COUNT(J73)=1,B_Only(J73,1,1,2,\"علامة\",\"علامتان\",\"علامات\"),\" \")","v":""},{"$f":"IF(COUNT(K73)=1,B_Only(K73,1,1,2,\"علامة\",\"علامتان\",\"علامات\"),\" \")","v":""},{"$f":"IF(COUNT(L73)=1,B_Only(L73,1,1,2,\"علامة\",\"علامتان\",\"علامات\"),\" \")","v":""},{"$f":"IF(COUNT(M73)=1,B_Only(M73,1,1,2,\"علامة\",\"علامتان\",\"علامات\"),\" \")","v":""},{"$f":"IF(COUNT(N73)=1,B_Only(N73,1,1,2,\"علامة\",\"علامتان\",\"علامات\"),\" \")","v":""},{"$f":"IF(COUNT(O73)=1,B_Only(O73,1,1,2,\"علامة\",\"علامتان\",\"علامات\"),\" \")","v":""},{"$f":"IF(COUNT(P73)=1,B_Only(P73,1,1,2,\"علامة\",\"علامتان\",\"علامات\"),\" \")","v":""},{"$f":"IF(COUNT(Q73)=1,B_Only(Q73,1,1,2,\"علامة\",\"علامتان\",\"علامات\"),\" \")","v":""},{"$f":"IF(COUNT(R73)=1,B_Only(R73,1,1,2,\"علامة\",\"علامتان\",\"علامات\"),\" \")","v":""},{"$f":"IF(COUNT(S73)=1,B_Only(S73,1,1,2,\"علامة\",\"علامتان\",\"علامات\"),\" \")","v":""},{"$f":"IF(COUNT(T73)=1,B_Only(T73,1,1,2,\"علامة\",\"علامتان\",\"علامات\"),\" \")","v":""},{"$f":"IF(COUNT(U73)=1,B_Only(U73,1,1,2,\"علامة\",\"علامتان\",\"علامات\"),\" \")","v":""}]
[null,null,null,null,null,null,null,null,null,null,null,null,null,null,null,null,null,null,null,null,null,{"$f":"IF(COUNT(A74)=1,(ord(A74)&\" على الصف \"),\" \")","v":""},null,{"$f":"IF(COUNT(W74)=1,B_Only(W74,1,1,2,\"علامة\",\"علامتان\",\"علامات\"),\" \")","v":""},{"$f":"IF(COUNT(W74)=1,ROUND(W74/temp!$B$9,2),\" \")","v":""},{"$f":"IF(COUNT(Y74)=1, B_Only(INT(Y74),1,0,2,\"بالمئة\",\"بالمئة\",\"بالمئة\") &\" و  \" &B_Only((Y74-INT(Y74))*100,1,0,2,\"عشر\",\"عشران\",\"اعشار\"),\" \")","v":""},{"$f":"IF(COUNT(H74)=1,B_Only(H74,1,1,2,\"علامة\",\"علامتان\",\"علامات\"),\" \")","v":""},{"$f":"IF(COUNT(I74)=1,B_Only(I74,1,1,2,\"علامة\",\"علامتان\",\"علامات\"),\" \")","v":""},{"$f":"IF(COUNT(J74)=1,B_Only(J74,1,1,2,\"علامة\",\"علامتان\",\"علامات\"),\" \")","v":""},{"$f":"IF(COUNT(K74)=1,B_Only(K74,1,1,2,\"علامة\",\"علامتان\",\"علامات\"),\" \")","v":""},{"$f":"IF(COUNT(L74)=1,B_Only(L74,1,1,2,\"علامة\",\"علامتان\",\"علامات\"),\" \")","v":""},{"$f":"IF(COUNT(M74)=1,B_Only(M74,1,1,2,\"علامة\",\"علامتان\",\"علامات\"),\" \")","v":""},{"$f":"IF(COUNT(N74)=1,B_Only(N74,1,1,2,\"علامة\",\"علامتان\",\"علامات\"),\" \")","v":""},{"$f":"IF(COUNT(O74)=1,B_Only(O74,1,1,2,\"علامة\",\"علامتان\",\"علامات\"),\" \")","v":""},{"$f":"IF(COUNT(P74)=1,B_Only(P74,1,1,2,\"علامة\",\"علامتان\",\"علامات\"),\" \")","v":""},{"$f":"IF(COUNT(Q74)=1,B_Only(Q74,1,1,2,\"علامة\",\"علامتان\",\"علامات\"),\" \")","v":""},{"$f":"IF(COUNT(R74)=1,B_Only(R74,1,1,2,\"علامة\",\"علامتان\",\"علامات\"),\" \")","v":""},{"$f":"IF(COUNT(S74)=1,B_Only(S74,1,1,2,\"علامة\",\"علامتان\",\"علامات\"),\" \")","v":""},{"$f":"IF(COUNT(T74)=1,B_Only(T74,1,1,2,\"علامة\",\"علامتان\",\"علامات\"),\" \")","v":""},{"$f":"IF(COUNT(U74)=1,B_Only(U74,1,1,2,\"علامة\",\"علامتان\",\"علامات\"),\" \")","v":""}]
[null,null,null,null,null,null,null,null,null,null,null,null,null,null,null,null,null,null,null,null,null,{"$f":"IF(COUNT(A75)=1,(ord(A75)&\" على الصف \"),\" \")","v":""},null,{"$f":"IF(COUNT(W75)=1,B_Only(W75,1,1,2,\"علامة\",\"علامتان\",\"علامات\"),\" \")","v":""},{"$f":"IF(COUNT(W75)=1,ROUND(W75/temp!$B$9,2),\" \")","v":""},{"$f":"IF(COUNT(Y75)=1, B_Only(INT(Y75),1,0,2,\"بالمئة\",\"بالمئة\",\"بالمئة\") &\" و  \" &B_Only((Y75-INT(Y75))*100,1,0,2,\"عشر\",\"عشران\",\"اعشار\"),\" \")","v":""},{"$f":"IF(COUNT(H75)=1,B_Only(H75,1,1,2,\"علامة\",\"علامتان\",\"علامات\"),\" \")","v":""},{"$f":"IF(COUNT(I75)=1,B_Only(I75,1,1,2,\"علامة\",\"علامتان\",\"علامات\"),\" \")","v":""},{"$f":"IF(COUNT(J75)=1,B_Only(J75,1,1,2,\"علامة\",\"علامتان\",\"علامات\"),\" \")","v":""},{"$f":"IF(COUNT(K75)=1,B_Only(K75,1,1,2,\"علامة\",\"علامتان\",\"علامات\"),\" \")","v":""},{"$f":"IF(COUNT(L75)=1,B_Only(L75,1,1,2,\"علامة\",\"علامتان\",\"علامات\"),\" \")","v":""},{"$f":"IF(COUNT(M75)=1,B_Only(M75,1,1,2,\"علامة\",\"علامتان\",\"علامات\"),\" \")","v":""},{"$f":"IF(COUNT(N75)=1,B_Only(N75,1,1,2,\"علامة\",\"علامتان\",\"علامات\"),\" \")","v":""},{"$f":"IF(COUNT(O75)=1,B_Only(O75,1,1,2,\"علامة\",\"علامتان\",\"علامات\"),\" \")","v":""},{"$f":"IF(COUNT(P75)=1,B_Only(P75,1,1,2,\"علامة\",\"علامتان\",\"علامات\"),\" \")","v":""},{"$f":"IF(COUNT(Q75)=1,B_Only(Q75,1,1,2,\"علامة\",\"علامتان\",\"علامات\"),\" \")","v":""},{"$f":"IF(COUNT(R75)=1,B_Only(R75,1,1,2,\"علامة\",\"علامتان\",\"علامات\"),\" \")","v":""},{"$f":"IF(COUNT(S75)=1,B_Only(S75,1,1,2,\"علامة\",\"علامتان\",\"علامات\"),\" \")","v":""},{"$f":"IF(COUNT(T75)=1,B_Only(T75,1,1,2,\"علامة\",\"علامتان\",\"علامات\"),\" \")","v":""},{"$f":"IF(COUNT(U75)=1,B_Only(U75,1,1,2,\"علامة\",\"علامتان\",\"علامات\"),\" \")","v":""}]
[null,null,null,null,null,null,null,null,null,null,null,null,null,null,null,null,null,null,null,null,null,{"$f":"IF(COUNT(A76)=1,(ord(A76)&\" على الصف \"),\" \")","v":""},null,{"$f":"IF(COUNT(W76)=1,B_Only(W76,1,1,2,\"علامة\",\"علامتان\",\"علامات\"),\" \")","v":""},{"$f":"IF(COUNT(W76)=1,ROUND(W76/temp!$B$9,2),\" \")","v":""},{"$f":"IF(COUNT(Y76)=1, B_Only(INT(Y76),1,0,2,\"بالمئة\",\"بالمئة\",\"بالمئة\") &\" و  \" &B_Only((Y76-INT(Y76))*100,1,0,2,\"عشر\",\"عشران\",\"اعشار\"),\" \")","v":""},{"$f":"IF(COUNT(H76)=1,B_Only(H76,1,1,2,\"علامة\",\"علامتان\",\"علامات\"),\" \")","v":""},{"$f":"IF(COUNT(I76)=1,B_Only(I76,1,1,2,\"علامة\",\"علامتان\",\"علامات\"),\" \")","v":""},{"$f":"IF(COUNT(J76)=1,B_Only(J76,1,1,2,\"علامة\",\"علامتان\",\"علامات\"),\" \")","v":""},{"$f":"IF(COUNT(K76)=1,B_Only(K76,1,1,2,\"علامة\",\"علامتان\",\"علامات\"),\" \")","v":""},{"$f":"IF(COUNT(L76)=1,B_Only(L76,1,1,2,\"علامة\",\"علامتان\",\"علامات\"),\" \")","v":""},{"$f":"IF(COUNT(M76)=1,B_Only(M76,1,1,2,\"علامة\",\"علامتان\",\"علامات\"),\" \")","v":""},{"$f":"IF(COUNT(N76)=1,B_Only(N76,1,1,2,\"علامة\",\"علامتان\",\"علامات\"),\" \")","v":""},{"$f":"IF(COUNT(O76)=1,B_Only(O76,1,1,2,\"علامة\",\"علامتان\",\"علامات\"),\" \")","v":""},{"$f":"IF(COUNT(P76)=1,B_Only(P76,1,1,2,\"علامة\",\"علامتان\",\"علامات\"),\" \")","v":""},{"$f":"IF(COUNT(Q76)=1,B_Only(Q76,1,1,2,\"علامة\",\"علامتان\",\"علامات\"),\" \")","v":""},{"$f":"IF(COUNT(R76)=1,B_Only(R76,1,1,2,\"علامة\",\"علامتان\",\"علامات\"),\" \")","v":""},{"$f":"IF(COUNT(S76)=1,B_Only(S76,1,1,2,\"علامة\",\"علامتان\",\"علامات\"),\" \")","v":""},{"$f":"IF(COUNT(T76)=1,B_Only(T76,1,1,2,\"علامة\",\"علامتان\",\"علامات\"),\" \")","v":""},{"$f":"IF(COUNT(U76)=1,B_Only(U76,1,1,2,\"علامة\",\"علامتان\",\"علامات\"),\" \")","v":""}]
[null,null,null,null,null,null,null,null,null,null,null,null,null,null,null,null,null,null,null,null,null,{"$f":"IF(COUNT(A77)=1,(ord(A77)&\" على الصف \"),\" \")","v":""},null,{"$f":"IF(COUNT(W77)=1,B_Only(W77,1,1,2,\"علامة\",\"علامتان\",\"علامات\"),\" \")","v":""},{"$f":"IF(COUNT(W77)=1,ROUND(W77/temp!$B$9,2),\" \")","v":""},{"$f":"IF(COUNT(Y77)=1, B_Only(INT(Y77),1,0,2,\"بالمئة\",\"بالمئة\",\"بالمئة\") &\" و  \" &B_Only((Y77-INT(Y77))*100,1,0,2,\"عشر\",\"عشران\",\"اعشار\"),\" \")","v":""},{"$f":"IF(COUNT(H77)=1,B_Only(H77,1,1,2,\"علامة\",\"علامتان\",\"علامات\"),\" \")","v":""},{"$f":"IF(COUNT(I77)=1,B_Only(I77,1,1,2,\"علامة\",\"علامتان\",\"علامات\"),\" \")","v":""},{"$f":"IF(COUNT(J77)=1,B_Only(J77,1,1,2,\"علامة\",\"علامتان\",\"علامات\"),\" \")","v":""},{"$f":"IF(COUNT(K77)=1,B_Only(K77,1,1,2,\"علامة\",\"علامتان\",\"علامات\"),\" \")","v":""},{"$f":"IF(COUNT(L77)=1,B_Only(L77,1,1,2,\"علامة\",\"علامتان\",\"علامات\"),\" \")","v":""},{"$f":"IF(COUNT(M77)=1,B_Only(M77,1,1,2,\"علامة\",\"علامتان\",\"علامات\"),\" \")","v":""},{"$f":"IF(COUNT(N77)=1,B_Only(N77,1,1,2,\"علامة\",\"علامتان\",\"علامات\"),\" \")","v":""},{"$f":"IF(COUNT(O77)=1,B_Only(O77,1,1,2,\"علامة\",\"علامتان\",\"علامات\"),\" \")","v":""},{"$f":"IF(COUNT(P77)=1,B_Only(P77,1,1,2,\"علامة\",\"علامتان\",\"علامات\"),\" \")","v":""},{"$f":"IF(COUNT(Q77)=1,B_Only(Q77,1,1,2,\"علامة\",\"علامتان\",\"علامات\"),\" \")","v":""},{"$f":"IF(COUNT(R77)=1,B_Only(R77,1,1,2,\"علامة\",\"علامتان\",\"علامات\"),\" \")","v":""},{"$f":"IF(COUNT(S77)=1,B_Only(S77,1,1,2,\"علامة\",\"علامتان\",\"علامات\"),\" \")","v":""},{"$f":"IF(COUNT(T77)=1,B_Only(T77,1,1,2,\"علامة\",\"علامتان\",\"علامات\"),\" \")","v":""},{"$f":"IF(COUNT(U77)=1,B_Only(U77,1,1,2,\"علامة\",\"علامتان\",\"علامات\"),\" \")","v":""}]
[null,null,null,null,null,null,null,null,null,null,null,null,null,null,null,null,null,null,null,null,null,{"$f":"IF(COUNT(A78)=1,(ord(A78)&\" على الصف \"),\" \")","v":""},null,{"$f":"IF(COUNT(W78)=1,B_Only(W78,1,1,2,\"علامة\",\"علامتان\",\"علامات\"),\" \")","v":""},{"$f":"IF(COUNT(W78)=1,ROUND(W78/temp!$B$9,2),\" \")","v":""},{"$f":"IF(COUNT(Y78)=1, B_Only(INT(Y78),1,0,2,\"بالمئة\",\"بالمئة\",\"بالمئة\") &\" و  \" &B_Only((Y78-INT(Y78))*100,1,0,2,\"عشر\",\"عشران\",\"اعشار\"),\" \")","v":""},{"$f":"IF(COUNT(H78)=1,B_Only(H78,1,1,2,\"علامة\",\"علامتان\",\"علامات\"),\" \")","v":""},{"$f":"IF(COUNT(I78)=1,B_Only(I78,1,1,2,\"علامة\",\"علامتان\",\"علامات\"),\" \")","v":""},{"$f":"IF(COUNT(J78)=1,B_Only(J78,1,1,2,\"علامة\",\"علامتان\",\"علامات\"),\" \")","v":""},{"$f":"IF(COUNT(K78)=1,B_Only(K78,1,1,2,\"علامة\",\"علامتان\",\"علامات\"),\" \")","v":""},{"$f":"IF(COUNT(L78)=1,B_Only(L78,1,1,2,\"علامة\",\"علامتان\",\"علامات\"),\" \")","v":""},{"$f":"IF(COUNT(M78)=1,B_Only(M78,1,1,2,\"علامة\",\"علامتان\",\"علامات\"),\" \")","v":""},{"$f":"IF(COUNT(N78)=1,B_Only(N78,1,1,2,\"علامة\",\"علامتان\",\"علامات\"),\" \")","v":""},{"$f":"IF(COUNT(O78)=1,B_Only(O78,1,1,2,\"علامة\",\"علامتان\",\"علامات\"),\" \")","v":""},{"$f":"IF(COUNT(P78)=1,B_Only(P78,1,1,2,\"علامة\",\"علامتان\",\"علامات\"),\" \")","v":""},{"$f":"IF(COUNT(Q78)=1,B_Only(Q78,1,1,2,\"علامة\",\"علامتان\",\"علامات\"),\" \")","v":""},{"$f":"IF(COUNT(R78)=1,B_Only(R78,1,1,2,\"علامة\",\"علامتان\",\"علامات\"),\" \")","v":""},{"$f":"IF(COUNT(S78)=1,B_Only(S78,1,1,2,\"علامة\",\"علامتان\",\"علامات\"),\" \")","v":""},{"$f":"IF(COUNT(T78)=1,B_Only(T78,1,1,2,\"علامة\",\"علامتان\",\"علامات\"),\" \")","v":""},{"$f":"IF(COUNT(U78)=1,B_Only(U78,1,1,2,\"علامة\",\"علامتان\",\"علامات\"),\" \")","v":""}]
[null,null,null,null,null,null,null,null,null,null,null,null,null,null,null,null,null,null,null,null,null,{"$f":"IF(COUNT(A79)=1,(ord(A79)&\" على الصف \"),\" \")","v":""},null,{"$f":"IF(COUNT(W79)=1,B_Only(W79,1,1,2,\"علامة\",\"علامتان\",\"علامات\"),\" \")","v":""},{"$f":"IF(COUNT(W79)=1,ROUND(W79/temp!$B$9,2),\" \")","v":""},{"$f":"IF(COUNT(Y79)=1, B_Only(INT(Y79),1,0,2,\"بالمئة\",\"بالمئة\",\"بالمئة\") &\" و  \" &B_Only((Y79-INT(Y79))*100,1,0,2,\"عشر\",\"عشران\",\"اعشار\"),\" \")","v":""},{"$f":"IF(COUNT(H79)=1,B_Only(H79,1,1,2,\"علامة\",\"علامتان\",\"علامات\"),\" \")","v":""},{"$f":"IF(COUNT(I79)=1,B_Only(I79,1,1,2,\"علامة\",\"علامتان\",\"علامات\"),\" \")","v":""},{"$f":"IF(COUNT(J79)=1,B_Only(J79,1,1,2,\"علامة\",\"علامتان\",\"علامات\"),\" \")","v":""},{"$f":"IF(COUNT(K79)=1,B_Only(K79,1,1,2,\"علامة\",\"علامتان\",\"علامات\"),\" \")","v":""},{"$f":"IF(COUNT(L79)=1,B_Only(L79,1,1,2,\"علامة\",\"علامتان\",\"علامات\"),\" \")","v":""},{"$f":"IF(COUNT(M79)=1,B_Only(M79,1,1,2,\"علامة\",\"علامتان\",\"علامات\"),\" \")","v":""},{"$f":"IF(COUNT(N79)=1,B_Only(N79,1,1,2,\"علامة\",\"علامتان\",\"علامات\"),\" \")","v":""},{"$f":"IF(COUNT(O79)=1,B_Only(O79,1,1,2,\"علامة\",\"علامتان\",\"علامات\"),\" \")","v":""},{"$f":"IF(COUNT(P79)=1,B_Only(P79,1,1,2,\"علامة\",\"علامتان\",\"علامات\"),\" \")","v":""},{"$f":"IF(COUNT(Q79)=1,B_Only(Q79,1,1,2,\"علامة\",\"علامتان\",\"علامات\"),\" \")","v":""},{"$f":"IF(COUNT(R79)=1,B_Only(R79,1,1,2,\"علامة\",\"علامتان\",\"علامات\"),\" \")","v":""},{"$f":"IF(COUNT(S79)=1,B_Only(S79,1,1,2,\"علامة\",\"علامتان\",\"علامات\"),\" \")","v":""},{"$f":"IF(COUNT(T79)=1,B_Only(T79,1,1,2,\"علامة\",\"علامتان\",\"علامات\"),\" \")","v":""},{"$f":"IF(COUNT(U79)=1,B_Only(U79,1,1,2,\"علامة\",\"علامتان\",\"علامات\"),\" \")","v":""}]
[null,null,null,null,null,null,null,null,null,null,null,null,null,null,null,null,null,null,null,null,null,{"$f":"IF(COUNT(A80)=1,(ord(A80)&\" على الصف \"),\" \")","v":""},null,{"$f":"IF(COUNT(W80)=1,B_Only(W80,1,1,2,\"علامة\",\"علامتان\",\"علامات\"),\" \")","v":""},{"$f":"IF(COUNT(W80)=1,ROUND(W80/temp!$B$9,2),\" \")","v":""},{"$f":"IF(COUNT(Y80)=1, B_Only(INT(Y80),1,0,2,\"بالمئة\",\"بالمئة\",\"بالمئة\") &\" و  \" &B_Only((Y80-INT(Y80))*100,1,0,2,\"عشر\",\"عشران\",\"اعشار\"),\" \")","v":""},{"$f":"IF(COUNT(H80)=1,B_Only(H80,1,1,2,\"علامة\",\"علامتان\",\"علامات\"),\" \")","v":""},{"$f":"IF(COUNT(I80)=1,B_Only(I80,1,1,2,\"علامة\",\"علامتان\",\"علامات\"),\" \")","v":""},{"$f":"IF(COUNT(J80)=1,B_Only(J80,1,1,2,\"علامة\",\"علامتان\",\"علامات\"),\" \")","v":""},{"$f":"IF(COUNT(K80)=1,B_Only(K80,1,1,2,\"علامة\",\"علامتان\",\"علامات\"),\" \")","v":""},{"$f":"IF(COUNT(L80)=1,B_Only(L80,1,1,2,\"علامة\",\"علامتان\",\"علامات\"),\" \")","v":""},{"$f":"IF(COUNT(M80)=1,B_Only(M80,1,1,2,\"علامة\",\"علامتان\",\"علامات\"),\" \")","v":""},{"$f":"IF(COUNT(N80)=1,B_Only(N80,1,1,2,\"علامة\",\"علامتان\",\"علامات\"),\" \")","v":""},{"$f":"IF(COUNT(O80)=1,B_Only(O80,1,1,2,\"علامة\",\"علامتان\",\"علامات\"),\" \")","v":""},{"$f":"IF(COUNT(P80)=1,B_Only(P80,1,1,2,\"علامة\",\"علامتان\",\"علامات\"),\" \")","v":""},{"$f":"IF(COUNT(Q80)=1,B_Only(Q80,1,1,2,\"علامة\",\"علامتان\",\"علامات\"),\" \")","v":""},{"$f":"IF(COUNT(R80)=1,B_Only(R80,1,1,2,\"علامة\",\"علامتان\",\"علامات\"),\" \")","v":""},{"$f":"IF(COUNT(S80)=1,B_Only(S80,1,1,2,\"علامة\",\"علامتان\",\"علامات\"),\" \")","v":""},{"$f":"IF(COUNT(T80)=1,B_Only(T80,1,1,2,\"علامة\",\"علامتان\",\"علامات\"),\" \")","v":""},{"$f":"IF(COUNT(U80)=1,B_Only(U80,1,1,2,\"علامة\",\"علامتان\",\"علامات\"),\" \")","v":""}]
[null,null,null,null,null,null,null,null,null,null,null,null,null,null,null,null,null,null,null,null,null,{"$f":"IF(COUNT(A81)=1,(ord(A81)&\" على الصف \"),\" \")","v":""},null,{"$f":"IF(COUNT(W81)=1,B_Only(W81,1,1,2,\"علامة\",\"علامتان\",\"علامات\"),\" \")","v":""},{"$f":"IF(COUNT(W81)=1,ROUND(W81/temp!$B$9,2),\" \")","v":""},{"$f":"IF(COUNT(Y81)=1, B_Only(INT(Y81),1,0,2,\"بالمئة\",\"بالمئة\",\"بالمئة\") &\" و  \" &B_Only((Y81-INT(Y81))*100,1,0,2,\"عشر\",\"عشران\",\"اعشار\"),\" \")","v":""},{"$f":"IF(COUNT(H81)=1,B_Only(H81,1,1,2,\"علامة\",\"علامتان\",\"علامات\"),\" \")","v":""},{"$f":"IF(COUNT(I81)=1,B_Only(I81,1,1,2,\"علامة\",\"علامتان\",\"علامات\"),\" \")","v":""},{"$f":"IF(COUNT(J81)=1,B_Only(J81,1,1,2,\"علامة\",\"علامتان\",\"علامات\"),\" \")","v":""},{"$f":"IF(COUNT(K81)=1,B_Only(K81,1,1,2,\"علامة\",\"علامتان\",\"علامات\"),\" \")","v":""},{"$f":"IF(COUNT(L81)=1,B_Only(L81,1,1,2,\"علامة\",\"علامتان\",\"علامات\"),\" \")","v":""},{"$f":"IF(COUNT(M81)=1,B_Only(M81,1,1,2,\"علامة\",\"علامتان\",\"علامات\"),\" \")","v":""},{"$f":"IF(COUNT(N81)=1,B_Only(N81,1,1,2,\"علامة\",\"علامتان\",\"علامات\"),\" \")","v":""},{"$f":"IF(COUNT(O81)=1,B_Only(O81,1,1,2,\"علامة\",\"علامتان\",\"علامات\"),\" \")","v":""},{"$f":"IF(COUNT(P81)=1,B_Only(P81,1,1,2,\"علامة\",\"علامتان\",\"علامات\"),\" \")","v":""},{"$f":"IF(COUNT(Q81)=1,B_Only(Q81,1,1,2,\"علامة\",\"علامتان\",\"علامات\"),\" \")","v":""},{"$f":"IF(COUNT(R81)=1,B_Only(R81,1,1,2,\"علامة\",\"علامتان\",\"علامات\"),\" \")","v":""},{"$f":"IF(COUNT(S81)=1,B_Only(S81,1,1,2,\"علامة\",\"علامتان\",\"علامات\"),\" \")","v":""},{"$f":"IF(COUNT(T81)=1,B_Only(T81,1,1,2,\"علامة\",\"علامتان\",\"علامات\"),\" \")","v":""},{"$f":"IF(COUNT(U81)=1,B_Only(U81,1,1,2,\"علامة\",\"علامتان\",\"علامات\"),\" \")","v":""}]
[null,null,null,null,null,null,null,null,null,null,null,null,null,null,null,null,null,null,null,null,null,{"$f":"IF(COUNT(A82)=1,(ord(A82)&\" على الصف \"),\" \")","v":""},null,{"$f":"IF(COUNT(W82)=1,B_Only(W82,1,1,2,\"علامة\",\"علامتان\",\"علامات\"),\" \")","v":""},{"$f":"IF(COUNT(W82)=1,ROUND(W82/temp!$B$9,2),\" \")","v":""},{"$f":"IF(COUNT(Y82)=1, B_Only(INT(Y82),1,0,2,\"بالمئة\",\"بالمئة\",\"بالمئة\") &\" و  \" &B_Only((Y82-INT(Y82))*100,1,0,2,\"عشر\",\"عشران\",\"اعشار\"),\" \")","v":""},{"$f":"IF(COUNT(H82)=1,B_Only(H82,1,1,2,\"علامة\",\"علامتان\",\"علامات\"),\" \")","v":""},{"$f":"IF(COUNT(I82)=1,B_Only(I82,1,1,2,\"علامة\",\"علامتان\",\"علامات\"),\" \")","v":""},{"$f":"IF(COUNT(J82)=1,B_Only(J82,1,1,2,\"علامة\",\"علامتان\",\"علامات\"),\" \")","v":""},{"$f":"IF(COUNT(K82)=1,B_Only(K82,1,1,2,\"علامة\",\"علامتان\",\"علامات\"),\" \")","v":""},{"$f":"IF(COUNT(L82)=1,B_Only(L82,1,1,2,\"علامة\",\"علامتان\",\"علامات\"),\" \")","v":""},{"$f":"IF(COUNT(M82)=1,B_Only(M82,1,1,2,\"علامة\",\"علامتان\",\"علامات\"),\" \")","v":""},{"$f":"IF(COUNT(N82)=1,B_Only(N82,1,1,2,\"علامة\",\"علامتان\",\"علامات\"),\" \")","v":""},{"$f":"IF(COUNT(O82)=1,B_Only(O82,1,1,2,\"علامة\",\"علامتان\",\"علامات\"),\" \")","v":""},{"$f":"IF(COUNT(P82)=1,B_Only(P82,1,1,2,\"علامة\",\"علامتان\",\"علامات\"),\" \")","v":""},{"$f":"IF(COUNT(Q82)=1,B_Only(Q82,1,1,2,\"علامة\",\"علامتان\",\"علامات\"),\" \")","v":""},{"$f":"IF(COUNT(R82)=1,B_Only(R82,1,1,2,\"علامة\",\"علامتان\",\"علامات\"),\" \")","v":""},{"$f":"IF(COUNT(S82)=1,B_Only(S82,1,1,2,\"علامة\",\"علامتان\",\"علامات\"),\" \")","v":""},{"$f":"IF(COUNT(T82)=1,B_Only(T82,1,1,2,\"علامة\",\"علامتان\",\"علامات\"),\" \")","v":""},{"$f":"IF(COUNT(U82)=1,B_Only(U82,1,1,2,\"علامة\",\"علامتان\",\"علامات\"),\" \")","v":""}]
[null,null,null,null,null,null,null,null,null,null,null,null,null,null,null,null,null,null,null,null,null,{"$f":"IF(COUNT(A83)=1,(ord(A83)&\" على الصف \"),\" \")","v":""},null,{"$f":"IF(COUNT(W83)=1,B_Only(W83,1,1,2,\"علامة\",\"علامتان\",\"علامات\"),\" \")","v":""},{"$f":"IF(COUNT(W83)=1,ROUND(W83/temp!$B$9,2),\" \")","v":""},{"$f":"IF(COUNT(Y83)=1, B_Only(INT(Y83),1,0,2,\"بالمئة\",\"بالمئة\",\"بالمئة\") &\" و  \" &B_Only((Y83-INT(Y83))*100,1,0,2,\"عشر\",\"عشران\",\"اعشار\"),\" \")","v":""},{"$f":"IF(COUNT(H83)=1,B_Only(H83,1,1,2,\"علامة\",\"علامتان\",\"علامات\"),\" \")","v":""},{"$f":"IF(COUNT(I83)=1,B_Only(I83,1,1,2,\"علامة\",\"علامتان\",\"علامات\"),\" \")","v":""},{"$f":"IF(COUNT(J83)=1,B_Only(J83,1,1,2,\"علامة\",\"علامتان\",\"علامات\"),\" \")","v":""},{"$f":"IF(COUNT(K83)=1,B_Only(K83,1,1,2,\"علامة\",\"علامتان\",\"علامات\"),\" \")","v":""},{"$f":"IF(COUNT(L83)=1,B_Only(L83,1,1,2,\"علامة\",\"علامتان\",\"علامات\"),\" \")","v":""},{"$f":"IF(COUNT(M83)=1,B_Only(M83,1,1,2,\"علامة\",\"علامتان\",\"علامات\"),\" \")","v":""},{"$f":"IF(COUNT(N83)=1,B_Only(N83,1,1,2,\"علامة\",\"علامتان\",\"علامات\"),\" \")","v":""},{"$f":"IF(COUNT(O83)=1,B_Only(O83,1,1,2,\"علامة\",\"علامتان\",\"علامات\"),\" \")","v":""},{"$f":"IF(COUNT(P83)=1,B_Only(P83,1,1,2,\"علامة\",\"علامتان\",\"علامات\"),\" \")","v":""},{"$f":"IF(COUNT(Q83)=1,B_Only(Q83,1,1,2,\"علامة\",\"علامتان\",\"علامات\"),\" \")","v":""},{"$f":"IF(COUNT(R83)=1,B_Only(R83,1,1,2,\"علامة\",\"علامتان\",\"علامات\"),\" \")","v":""},{"$f":"IF(COUNT(S83)=1,B_Only(S83,1,1,2,\"علامة\",\"علامتان\",\"علامات\"),\" \")","v":""},{"$f":"IF(COUNT(T83)=1,B_Only(T83,1,1,2,\"علامة\",\"علامتان\",\"علامات\"),\" \")","v":""},{"$f":"IF(COUNT(U83)=1,B_Only(U83,1,1,2,\"علامة\",\"علامتان\",\"علامات\"),\" \")","v":""}]
[null,null,null,null,null,null,null,null,null,null,null,null,null,null,null,null,null,null,null,null,null,{"$f":"IF(COUNT(A84)=1,(ord(A84)&\" على الصف \"),\" \")","v":""},null,{"$f":"IF(COUNT(W84)=1,B_Only(W84,1,1,2,\"علامة\",\"علامتان\",\"علامات\"),\" \")","v":""},{"$f":"IF(COUNT(W84)=1,ROUND(W84/temp!$B$9,2),\" \")","v":""},{"$f":"IF(COUNT(Y84)=1, B_Only(INT(Y84),1,0,2,\"بالمئة\",\"بالمئة\",\"بالمئة\") &\" و  \" &B_Only((Y84-INT(Y84))*100,1,0,2,\"عشر\",\"عشران\",\"اعشار\"),\" \")","v":""},{"$f":"IF(COUNT(H84)=1,B_Only(H84,1,1,2,\"علامة\",\"علامتان\",\"علامات\"),\" \")","v":""},{"$f":"IF(COUNT(I84)=1,B_Only(I84,1,1,2,\"علامة\",\"علامتان\",\"علامات\"),\" \")","v":""},{"$f":"IF(COUNT(J84)=1,B_Only(J84,1,1,2,\"علامة\",\"علامتان\",\"علامات\"),\" \")","v":""},{"$f":"IF(COUNT(K84)=1,B_Only(K84,1,1,2,\"علامة\",\"علامتان\",\"علامات\"),\" \")","v":""},{"$f":"IF(COUNT(L84)=1,B_Only(L84,1,1,2,\"علامة\",\"علامتان\",\"علامات\"),\" \")","v":""},{"$f":"IF(COUNT(M84)=1,B_Only(M84,1,1,2,\"علامة\",\"علامتان\",\"علامات\"),\" \")","v":""},{"$f":"IF(COUNT(N84)=1,B_Only(N84,1,1,2,\"علامة\",\"علامتان\",\"علامات\"),\" \")","v":""},{"$f":"IF(COUNT(O84)=1,B_Only(O84,1,1,2,\"علامة\",\"علامتان\",\"علامات\"),\" \")","v":""},{"$f":"IF(COUNT(P84)=1,B_Only(P84,1,1,2,\"علامة\",\"علامتان\",\"علامات\"),\" \")","v":""},{"$f":"IF(COUNT(Q84)=1,B_Only(Q84,1,1,2,\"علامة\",\"علامتان\",\"علامات\"),\" \")","v":""},{"$f":"IF(COUNT(R84)=1,B_Only(R84,1,1,2,\"علامة\",\"علامتان\",\"علامات\"),\" \")","v":""},{"$f":"IF(COUNT(S84)=1,B_Only(S84,1,1,2,\"علامة\",\"علامتان\",\"علامات\"),\" \")","v":""},{"$f":"IF(COUNT(T84)=1,B_Only(T84,1,1,2,\"علامة\",\"علامتان\",\"علامات\"),\" \")","v":""},{"$f":"IF(COUNT(U84)=1,B_Only(U84,1,1,2,\"علامة\",\"علامتان\",\"علامات\"),\" \")","v":""}]
[null,null,null,null,null,null,null,null,null,null,null,null,null,null,null,null,null,null,null,null,null,{"$f":"IF(COUNT(A85)=1,(ord(A85)&\" على الصف \"),\" \")","v":""},null,{"$f":"IF(COUNT(W85)=1,B_Only(W85,1,1,2,\"علامة\",\"علامتان\",\"علامات\"),\" \")","v":""},{"$f":"IF(COUNT(W85)=1,ROUND(W85/temp!$B$9,2),\" \")","v":""},{"$f":"IF(COUNT(Y85)=1, B_Only(INT(Y85),1,0,2,\"بالمئة\",\"بالمئة\",\"بالمئة\") &\" و  \" &B_Only((Y85-INT(Y85))*100,1,0,2,\"عشر\",\"عشران\",\"اعشار\"),\" \")","v":""},{"$f":"IF(COUNT(H85)=1,B_Only(H85,1,1,2,\"علامة\",\"علامتان\",\"علامات\"),\" \")","v":""},{"$f":"IF(COUNT(I85)=1,B_Only(I85,1,1,2,\"علامة\",\"علامتان\",\"علامات\"),\" \")","v":""},{"$f":"IF(COUNT(J85)=1,B_Only(J85,1,1,2,\"علامة\",\"علامتان\",\"علامات\"),\" \")","v":""},{"$f":"IF(COUNT(K85)=1,B_Only(K85,1,1,2,\"علامة\",\"علامتان\",\"علامات\"),\" \")","v":""},{"$f":"IF(COUNT(L85)=1,B_Only(L85,1,1,2,\"علامة\",\"علامتان\",\"علامات\"),\" \")","v":""},{"$f":"IF(COUNT(M85)=1,B_Only(M85,1,1,2,\"علامة\",\"علامتان\",\"علامات\"),\" \")","v":""},{"$f":"IF(COUNT(N85)=1,B_Only(N85,1,1,2,\"علامة\",\"علامتان\",\"علامات\"),\" \")","v":""},{"$f":"IF(COUNT(O85)=1,B_Only(O85,1,1,2,\"علامة\",\"علامتان\",\"علامات\"),\" \")","v":""},{"$f":"IF(COUNT(P85)=1,B_Only(P85,1,1,2,\"علامة\",\"علامتان\",\"علامات\"),\" \")","v":""},{"$f":"IF(COUNT(Q85)=1,B_Only(Q85,1,1,2,\"علامة\",\"علامتان\",\"علامات\"),\" \")","v":""},{"$f":"IF(COUNT(R85)=1,B_Only(R85,1,1,2,\"علامة\",\"علامتان\",\"علامات\"),\" \")","v":""},{"$f":"IF(COUNT(S85)=1,B_Only(S85,1,1,2,\"علامة\",\"علامتان\",\"علامات\"),\" \")","v":""},{"$f":"IF(COUNT(T85)=1,B_Only(T85,1,1,2,\"علامة\",\"علامتان\",\"علامات\"),\" \")","v":""},{"$f":"IF(COUNT(U85)=1,B_Only(U85,1,1,2,\"علامة\",\"علامتان\",\"علامات\"),\" \")","v":""}]
[null,null,null,null,null,null,null,null,null,null,null,null,null,null,null,null,null,null,null,null,null,{"$f":"IF(COUNT(A86)=1,(ord(A86)&\" على الصف \"),\" \")","v":""},null,{"$f":"IF(COUNT(W86)=1,B_Only(W86,1,1,2,\"علامة\",\"علامتان\",\"علامات\"),\" \")","v":""},{"$f":"IF(COUNT(W86)=1,ROUND(W86/temp!$B$9,2),\" \")","v":""},{"$f":"IF(COUNT(Y86)=1, B_Only(INT(Y86),1,0,2,\"بالمئة\",\"بالمئة\",\"بالمئة\") &\" و  \" &B_Only((Y86-INT(Y86))*100,1,0,2,\"عشر\",\"عشران\",\"اعشار\"),\" \")","v":""},{"$f":"IF(COUNT(H86)=1,B_Only(H86,1,1,2,\"علامة\",\"علامتان\",\"علامات\"),\" \")","v":""},{"$f":"IF(COUNT(I86)=1,B_Only(I86,1,1,2,\"علامة\",\"علامتان\",\"علامات\"),\" \")","v":""},{"$f":"IF(COUNT(J86)=1,B_Only(J86,1,1,2,\"علامة\",\"علامتان\",\"علامات\"),\" \")","v":""},{"$f":"IF(COUNT(K86)=1,B_Only(K86,1,1,2,\"علامة\",\"علامتان\",\"علامات\"),\" \")","v":""},{"$f":"IF(COUNT(L86)=1,B_Only(L86,1,1,2,\"علامة\",\"علامتان\",\"علامات\"),\" \")","v":""},{"$f":"IF(COUNT(M86)=1,B_Only(M86,1,1,2,\"علامة\",\"علامتان\",\"علامات\"),\" \")","v":""},{"$f":"IF(COUNT(N86)=1,B_Only(N86,1,1,2,\"علامة\",\"علامتان\",\"علامات\"),\" \")","v":""},{"$f":"IF(COUNT(O86)=1,B_Only(O86,1,1,2,\"علامة\",\"علامتان\",\"علامات\"),\" \")","v":""},{"$f":"IF(COUNT(P86)=1,B_Only(P86,1,1,2,\"علامة\",\"علامتان\",\"علامات\"),\" \")","v":""},{"$f":"IF(COUNT(Q86)=1,B_Only(Q86,1,1,2,\"علامة\",\"علامتان\",\"علامات\"),\" \")","v":""},{"$f":"IF(COUNT(R86)=1,B_Only(R86,1,1,2,\"علامة\",\"علامتان\",\"علامات\"),\" \")","v":""},{"$f":"IF(COUNT(S86)=1,B_Only(S86,1,1,2,\"علامة\",\"علامتان\",\"علامات\"),\" \")","v":""},{"$f":"IF(COUNT(T86)=1,B_Only(T86,1,1,2,\"علامة\",\"علامتان\",\"علامات\"),\" \")","v":""},{"$f":"IF(COUNT(U86)=1,B_Only(U86,1,1,2,\"علامة\",\"علامتان\",\"علامات\"),\" \")","v":""}]
[null,null,null,null,null,null,null,null,null,null,null,null,null,null,null,null,null,null,null,null,null,{"$f":"IF(COUNT(A87)=1,(ord(A87)&\" على الصف \"),\" \")","v":""},null,{"$f":"IF(COUNT(W87)=1,B_Only(W87,1,1,2,\"علامة\",\"علامتان\",\"علامات\"),\" \")","v":""},{"$f":"IF(COUNT(W87)=1,ROUND(W87/temp!$B$9,2),\" \")","v":""},{"$f":"IF(COUNT(Y87)=1, B_Only(INT(Y87),1,0,2,\"بالمئة\",\"بالمئة\",\"بالمئة\") &\" و  \" &B_Only((Y87-INT(Y87))*100,1,0,2,\"عشر\",\"عشران\",\"اعشار\"),\" \")","v":""},{"$f":"IF(COUNT(H87)=1,B_Only(H87,1,1,2,\"علامة\",\"علامتان\",\"علامات\"),\" \")","v":""},{"$f":"IF(COUNT(I87)=1,B_Only(I87,1,1,2,\"علامة\",\"علامتان\",\"علامات\"),\" \")","v":""},{"$f":"IF(COUNT(J87)=1,B_Only(J87,1,1,2,\"علامة\",\"علامتان\",\"علامات\"),\" \")","v":""},{"$f":"IF(COUNT(K87)=1,B_Only(K87,1,1,2,\"علامة\",\"علامتان\",\"علامات\"),\" \")","v":""},{"$f":"IF(COUNT(L87)=1,B_Only(L87,1,1,2,\"علامة\",\"علامتان\",\"علامات\"),\" \")","v":""},{"$f":"IF(COUNT(M87)=1,B_Only(M87,1,1,2,\"علامة\",\"علامتان\",\"علامات\"),\" \")","v":""},{"$f":"IF(COUNT(N87)=1,B_Only(N87,1,1,2,\"علامة\",\"علامتان\",\"علامات\"),\" \")","v":""},{"$f":"IF(COUNT(O87)=1,B_Only(O87,1,1,2,\"علامة\",\"علامتان\",\"علامات\"),\" \")","v":""},{"$f":"IF(COUNT(P87)=1,B_Only(P87,1,1,2,\"علامة\",\"علامتان\",\"علامات\"),\" \")","v":""},{"$f":"IF(COUNT(Q87)=1,B_Only(Q87,1,1,2,\"علامة\",\"علامتان\",\"علامات\"),\" \")","v":""},{"$f":"IF(COUNT(R87)=1,B_Only(R87,1,1,2,\"علامة\",\"علامتان\",\"علامات\"),\" \")","v":""},{"$f":"IF(COUNT(S87)=1,B_Only(S87,1,1,2,\"علامة\",\"علامتان\",\"علامات\"),\" \")","v":""},{"$f":"IF(COUNT(T87)=1,B_Only(T87,1,1,2,\"علامة\",\"علامتان\",\"علامات\"),\" \")","v":""},{"$f":"IF(COUNT(U87)=1,B_Only(U87,1,1,2,\"علامة\",\"علامتان\",\"علامات\"),\" \")","v":""}]
[null,null,null,null,null,null,null,null,null,null,null,null,null,null,null,null,null,null,null,null,null,{"$f":"IF(COUNT(A88)=1,(ord(A88)&\" على الصف \"),\" \")","v":""},null,{"$f":"IF(COUNT(W88)=1,B_Only(W88,1,1,2,\"علامة\",\"علامتان\",\"علامات\"),\" \")","v":""},{"$f":"IF(COUNT(W88)=1,ROUND(W88/temp!$B$9,2),\" \")","v":""},{"$f":"IF(COUNT(Y88)=1, B_Only(INT(Y88),1,0,2,\"بالمئة\",\"بالمئة\",\"بالمئة\") &\" و  \" &B_Only((Y88-INT(Y88))*100,1,0,2,\"عشر\",\"عشران\",\"اعشار\"),\" \")","v":""},{"$f":"IF(COUNT(H88)=1,B_Only(H88,1,1,2,\"علامة\",\"علامتان\",\"علامات\"),\" \")","v":""},{"$f":"IF(COUNT(I88)=1,B_Only(I88,1,1,2,\"علامة\",\"علامتان\",\"علامات\"),\" \")","v":""},{"$f":"IF(COUNT(J88)=1,B_Only(J88,1,1,2,\"علامة\",\"علامتان\",\"علامات\"),\" \")","v":""},{"$f":"IF(COUNT(K88)=1,B_Only(K88,1,1,2,\"علامة\",\"علامتان\",\"علامات\"),\" \")","v":""},{"$f":"IF(COUNT(L88)=1,B_Only(L88,1,1,2,\"علامة\",\"علامتان\",\"علامات\"),\" \")","v":""},{"$f":"IF(COUNT(M88)=1,B_Only(M88,1,1,2,\"علامة\",\"علامتان\",\"علامات\"),\" \")","v":""},{"$f":"IF(COUNT(N88)=1,B_Only(N88,1,1,2,\"علامة\",\"علامتان\",\"علامات\"),\" \")","v":""},{"$f":"IF(COUNT(O88)=1,B_Only(O88,1,1,2,\"علامة\",\"علامتان\",\"علامات\"),\" \")","v":""},{"$f":"IF(COUNT(P88)=1,B_Only(P88,1,1,2,\"علامة\",\"علامتان\",\"علامات\"),\" \")","v":""},{"$f":"IF(COUNT(Q88)=1,B_Only(Q88,1,1,2,\"علامة\",\"علامتان\",\"علامات\"),\" \")","v":""},{"$f":"IF(COUNT(R88)=1,B_Only(R88,1,1,2,\"علامة\",\"علامتان\",\"علامات\"),\" \")","v":""},{"$f":"IF(COUNT(S88)=1,B_Only(S88,1,1,2,\"علامة\",\"علامتان\",\"علامات\"),\" \")","v":""},{"$f":"IF(COUNT(T88)=1,B_Only(T88,1,1,2,\"علامة\",\"علامتان\",\"علامات\"),\" \")","v":""},{"$f":"IF(COUNT(U88)=1,B_Only(U88,1,1,2,\"علامة\",\"علامتان\",\"علامات\"),\" \")","v":""}]
[null,null,null,null,null,null,null,null,null,null,null,null,null,null,null,null,null,null,null,null,null,{"$f":"IF(COUNT(A89)=1,(ord(A89)&\" على الصف \"),\" \")","v":""},null,{"$f":"IF(COUNT(W89)=1,B_Only(W89,1,1,2,\"علامة\",\"علامتان\",\"علامات\"),\" \")","v":""},{"$f":"IF(COUNT(W89)=1,ROUND(W89/temp!$B$9,2),\" \")","v":""},{"$f":"IF(COUNT(Y89)=1, B_Only(INT(Y89),1,0,2,\"بالمئة\",\"بالمئة\",\"بالمئة\") &\" و  \" &B_Only((Y89-INT(Y89))*100,1,0,2,\"عشر\",\"عشران\",\"اعشار\"),\" \")","v":""},{"$f":"IF(COUNT(H89)=1,B_Only(H89,1,1,2,\"علامة\",\"علامتان\",\"علامات\"),\" \")","v":""},{"$f":"IF(COUNT(I89)=1,B_Only(I89,1,1,2,\"علامة\",\"علامتان\",\"علامات\"),\" \")","v":""},{"$f":"IF(COUNT(J89)=1,B_Only(J89,1,1,2,\"علامة\",\"علامتان\",\"علامات\"),\" \")","v":""},{"$f":"IF(COUNT(K89)=1,B_Only(K89,1,1,2,\"علامة\",\"علامتان\",\"علامات\"),\" \")","v":""},{"$f":"IF(COUNT(L89)=1,B_Only(L89,1,1,2,\"علامة\",\"علامتان\",\"علامات\"),\" \")","v":""},{"$f":"IF(COUNT(M89)=1,B_Only(M89,1,1,2,\"علامة\",\"علامتان\",\"علامات\"),\" \")","v":""},{"$f":"IF(COUNT(N89)=1,B_Only(N89,1,1,2,\"علامة\",\"علامتان\",\"علامات\"),\" \")","v":""},{"$f":"IF(COUNT(O89)=1,B_Only(O89,1,1,2,\"علامة\",\"علامتان\",\"علامات\"),\" \")","v":""},{"$f":"IF(COUNT(P89)=1,B_Only(P89,1,1,2,\"علامة\",\"علامتان\",\"علامات\"),\" \")","v":""},{"$f":"IF(COUNT(Q89)=1,B_Only(Q89,1,1,2,\"علامة\",\"علامتان\",\"علامات\"),\" \")","v":""},{"$f":"IF(COUNT(R89)=1,B_Only(R89,1,1,2,\"علامة\",\"علامتان\",\"علامات\"),\" \")","v":""},{"$f":"IF(COUNT(S89)=1,B_Only(S89,1,1,2,\"علامة\",\"علامتان\",\"علامات\"),\" \")","v":""},{"$f":"IF(COUNT(T89)=1,B_Only(T89,1,1,2,\"علامة\",\"علامتان\",\"علامات\"),\" \")","v":""},{"$f":"IF(COUNT(U89)=1,B_Only(U89,1,1,2,\"علامة\",\"علامتان\",\"علامات\"),\" \")","v":""}]
[null,null,null,null,null,null,null,null,null,null,null,null,null,null,null,null,null,null,null,null,null,{"$f":"IF(COUNT(A90)=1,(ord(A90)&\" على الصف \"),\" \")","v":""},null,{"$f":"IF(COUNT(W90)=1,B_Only(W90,1,1,2,\"علامة\",\"علامتان\",\"علامات\"),\" \")","v":""},{"$f":"IF(COUNT(W90)=1,ROUND(W90/temp!$B$9,2),\" \")","v":""},{"$f":"IF(COUNT(Y90)=1, B_Only(INT(Y90),1,0,2,\"بالمئة\",\"بالمئة\",\"بالمئة\") &\" و  \" &B_Only((Y90-INT(Y90))*100,1,0,2,\"عشر\",\"عشران\",\"اعشار\"),\" \")","v":""},{"$f":"IF(COUNT(H90)=1,B_Only(H90,1,1,2,\"علامة\",\"علامتان\",\"علامات\"),\" \")","v":""},{"$f":"IF(COUNT(I90)=1,B_Only(I90,1,1,2,\"علامة\",\"علامتان\",\"علامات\"),\" \")","v":""},{"$f":"IF(COUNT(J90)=1,B_Only(J90,1,1,2,\"علامة\",\"علامتان\",\"علامات\"),\" \")","v":""},{"$f":"IF(COUNT(K90)=1,B_Only(K90,1,1,2,\"علامة\",\"علامتان\",\"علامات\"),\" \")","v":""},{"$f":"IF(COUNT(L90)=1,B_Only(L90,1,1,2,\"علامة\",\"علامتان\",\"علامات\"),\" \")","v":""},{"$f":"IF(COUNT(M90)=1,B_Only(M90,1,1,2,\"علامة\",\"علامتان\",\"علامات\"),\" \")","v":""},{"$f":"IF(COUNT(N90)=1,B_Only(N90,1,1,2,\"علامة\",\"علامتان\",\"علامات\"),\" \")","v":""},{"$f":"IF(COUNT(O90)=1,B_Only(O90,1,1,2,\"علامة\",\"علامتان\",\"علامات\"),\" \")","v":""},{"$f":"IF(COUNT(P90)=1,B_Only(P90,1,1,2,\"علامة\",\"علامتان\",\"علامات\"),\" \")","v":""},{"$f":"IF(COUNT(Q90)=1,B_Only(Q90,1,1,2,\"علامة\",\"علامتان\",\"علامات\"),\" \")","v":""},{"$f":"IF(COUNT(R90)=1,B_Only(R90,1,1,2,\"علامة\",\"علامتان\",\"علامات\"),\" \")","v":""},{"$f":"IF(COUNT(S90)=1,B_Only(S90,1,1,2,\"علامة\",\"علامتان\",\"علامات\"),\" \")","v":""},{"$f":"IF(COUNT(T90)=1,B_Only(T90,1,1,2,\"علامة\",\"علامتان\",\"علامات\"),\" \")","v":""},{"$f":"IF(COUNT(U90)=1,B_Only(U90,1,1,2,\"علامة\",\"علامتان\",\"علامات\"),\" \")","v":""}]
[null,null,null,null,null,null,null,null,null,null,null,null,null,null,null,null,null,null,null,null,null,{"$f":"IF(COUNT(A91)=1,(ord(A91)&\" على الصف \"),\" \")","v":""},null,{"$f":"IF(COUNT(W91)=1,B_Only(W91,1,1,2,\"علامة\",\"علامتان\",\"علامات\"),\" \")","v":""},{"$f":"IF(COUNT(W91)=1,ROUND(W91/temp!$B$9,2),\" \")","v":""},{"$f":"IF(COUNT(Y91)=1, B_Only(INT(Y91),1,0,2,\"بالمئة\",\"بالمئة\",\"بالمئة\") &\" و  \" &B_Only((Y91-INT(Y91))*100,1,0,2,\"عشر\",\"عشران\",\"اعشار\"),\" \")","v":""},{"$f":"IF(COUNT(H91)=1,B_Only(H91,1,1,2,\"علامة\",\"علامتان\",\"علامات\"),\" \")","v":""},{"$f":"IF(COUNT(I91)=1,B_Only(I91,1,1,2,\"علامة\",\"علامتان\",\"علامات\"),\" \")","v":""},{"$f":"IF(COUNT(J91)=1,B_Only(J91,1,1,2,\"علامة\",\"علامتان\",\"علامات\"),\" \")","v":""},{"$f":"IF(COUNT(K91)=1,B_Only(K91,1,1,2,\"علامة\",\"علامتان\",\"علامات\"),\" \")","v":""},{"$f":"IF(COUNT(L91)=1,B_Only(L91,1,1,2,\"علامة\",\"علامتان\",\"علامات\"),\" \")","v":""},{"$f":"IF(COUNT(M91)=1,B_Only(M91,1,1,2,\"علامة\",\"علامتان\",\"علامات\"),\" \")","v":""},{"$f":"IF(COUNT(N91)=1,B_Only(N91,1,1,2,\"علامة\",\"علامتان\",\"علامات\"),\" \")","v":""},{"$f":"IF(COUNT(O91)=1,B_Only(O91,1,1,2,\"علامة\",\"علامتان\",\"علامات\"),\" \")","v":""},{"$f":"IF(COUNT(P91)=1,B_Only(P91,1,1,2,\"علامة\",\"علامتان\",\"علامات\"),\" \")","v":""},{"$f":"IF(COUNT(Q91)=1,B_Only(Q91,1,1,2,\"علامة\",\"علامتان\",\"علامات\"),\" \")","v":""},{"$f":"IF(COUNT(R91)=1,B_Only(R91,1,1,2,\"علامة\",\"علامتان\",\"علامات\"),\" \")","v":""},{"$f":"IF(COUNT(S91)=1,B_Only(S91,1,1,2,\"علامة\",\"علامتان\",\"علامات\"),\" \")","v":""},{"$f":"IF(COUNT(T91)=1,B_Only(T91,1,1,2,\"علامة\",\"علامتان\",\"علامات\"),\" \")","v":""},{"$f":"IF(COUNT(U91)=1,B_Only(U91,1,1,2,\"علامة\",\"علامتان\",\"علامات\"),\" \")","v":""}]
[null,null,null,null,null,null,null,null,null,null,null,null,null,null,null,null,null,null,null,null,null,{"$f":"IF(COUNT(A92)=1,(ord(A92)&\" على الصف \"),\" \")","v":""},null,{"$f":"IF(COUNT(W92)=1,B_Only(W92,1,1,2,\"علامة\",\"علامتان\",\"علامات\"),\" \")","v":""},{"$f":"IF(COUNT(W92)=1,ROUND(W92/temp!$B$9,2),\" \")","v":""},{"$f":"IF(COUNT(Y92)=1, B_Only(INT(Y92),1,0,2,\"بالمئة\",\"بالمئة\",\"بالمئة\") &\" و  \" &B_Only((Y92-INT(Y92))*100,1,0,2,\"عشر\",\"عشران\",\"اعشار\"),\" \")","v":""},{"$f":"IF(COUNT(H92)=1,B_Only(H92,1,1,2,\"علامة\",\"علامتان\",\"علامات\"),\" \")","v":""},{"$f":"IF(COUNT(I92)=1,B_Only(I92,1,1,2,\"علامة\",\"علامتان\",\"علامات\"),\" \")","v":""},{"$f":"IF(COUNT(J92)=1,B_Only(J92,1,1,2,\"علامة\",\"علامتان\",\"علامات\"),\" \")","v":""},{"$f":"IF(COUNT(K92)=1,B_Only(K92,1,1,2,\"علامة\",\"علامتان\",\"علامات\"),\" \")","v":""},{"$f":"IF(COUNT(L92)=1,B_Only(L92,1,1,2,\"علامة\",\"علامتان\",\"علامات\"),\" \")","v":""},{"$f":"IF(COUNT(M92)=1,B_Only(M92,1,1,2,\"علامة\",\"علامتان\",\"علامات\"),\" \")","v":""},{"$f":"IF(COUNT(N92)=1,B_Only(N92,1,1,2,\"علامة\",\"علامتان\",\"علامات\"),\" \")","v":""},{"$f":"IF(COUNT(O92)=1,B_Only(O92,1,1,2,\"علامة\",\"علامتان\",\"علامات\"),\" \")","v":""},{"$f":"IF(COUNT(P92)=1,B_Only(P92,1,1,2,\"علامة\",\"علامتان\",\"علامات\"),\" \")","v":""},{"$f":"IF(COUNT(Q92)=1,B_Only(Q92,1,1,2,\"علامة\",\"علامتان\",\"علامات\"),\" \")","v":""},{"$f":"IF(COUNT(R92)=1,B_Only(R92,1,1,2,\"علامة\",\"علامتان\",\"علامات\"),\" \")","v":""},{"$f":"IF(COUNT(S92)=1,B_Only(S92,1,1,2,\"علامة\",\"علامتان\",\"علامات\"),\" \")","v":""},{"$f":"IF(COUNT(T92)=1,B_Only(T92,1,1,2,\"علامة\",\"علامتان\",\"علامات\"),\" \")","v":""},{"$f":"IF(COUNT(U92)=1,B_Only(U92,1,1,2,\"علامة\",\"علامتان\",\"علامات\"),\" \")","v":""}]
[null,null,null,null,null,null,null,null,null,null,null,null,null,null,null,null,null,null,null,null,null,{"$f":"IF(COUNT(A93)=1,(ord(A93)&\" على الصف \"),\" \")","v":""},null,{"$f":"IF(COUNT(W93)=1,B_Only(W93,1,1,2,\"علامة\",\"علامتان\",\"علامات\"),\" \")","v":""},{"$f":"IF(COUNT(W93)=1,ROUND(W93/temp!$B$9,2),\" \")","v":""},{"$f":"IF(COUNT(Y93)=1, B_Only(INT(Y93),1,0,2,\"بالمئة\",\"بالمئة\",\"بالمئة\") &\" و  \" &B_Only((Y93-INT(Y93))*100,1,0,2,\"عشر\",\"عشران\",\"اعشار\"),\" \")","v":""},{"$f":"IF(COUNT(H93)=1,B_Only(H93,1,1,2,\"علامة\",\"علامتان\",\"علامات\"),\" \")","v":""},{"$f":"IF(COUNT(I93)=1,B_Only(I93,1,1,2,\"علامة\",\"علامتان\",\"علامات\"),\" \")","v":""},{"$f":"IF(COUNT(J93)=1,B_Only(J93,1,1,2,\"علامة\",\"علامتان\",\"علامات\"),\" \")","v":""},{"$f":"IF(COUNT(K93)=1,B_Only(K93,1,1,2,\"علامة\",\"علامتان\",\"علامات\"),\" \")","v":""},{"$f":"IF(COUNT(L93)=1,B_Only(L93,1,1,2,\"علامة\",\"علامتان\",\"علامات\"),\" \")","v":""},{"$f":"IF(COUNT(M93)=1,B_Only(M93,1,1,2,\"علامة\",\"علامتان\",\"علامات\"),\" \")","v":""},{"$f":"IF(COUNT(N93)=1,B_Only(N93,1,1,2,\"علامة\",\"علامتان\",\"علامات\"),\" \")","v":""},{"$f":"IF(COUNT(O93)=1,B_Only(O93,1,1,2,\"علامة\",\"علامتان\",\"علامات\"),\" \")","v":""},{"$f":"IF(COUNT(P93)=1,B_Only(P93,1,1,2,\"علامة\",\"علامتان\",\"علامات\"),\" \")","v":""},{"$f":"IF(COUNT(Q93)=1,B_Only(Q93,1,1,2,\"علامة\",\"علامتان\",\"علامات\"),\" \")","v":""},{"$f":"IF(COUNT(R93)=1,B_Only(R93,1,1,2,\"علامة\",\"علامتان\",\"علامات\"),\" \")","v":""},{"$f":"IF(COUNT(S93)=1,B_Only(S93,1,1,2,\"علامة\",\"علامتان\",\"علامات\"),\" \")","v":""},{"$f":"IF(COUNT(T93)=1,B_Only(T93,1,1,2,\"علامة\",\"علامتان\",\"علامات\"),\" \")","v":""},{"$f":"IF(COUNT(U93)=1,B_Only(U93,1,1,2,\"علامة\",\"علامتان\",\"علامات\"),\" \")","v":""}]
[null,null,null,null,null,null,null,null,null,null,null,null,null,null,null,null,null,null,null,null,null,{"$f":"IF(COUNT(A94)=1,(ord(A94)&\" على الصف \"),\" \")","v":""},null,{"$f":"IF(COUNT(W94)=1,B_Only(W94,1,1,2,\"علامة\",\"علامتان\",\"علامات\"),\" \")","v":""},{"$f":"IF(COUNT(W94)=1,ROUND(W94/temp!$B$9,2),\" \")","v":""},{"$f":"IF(COUNT(Y94)=1, B_Only(INT(Y94),1,0,2,\"بالمئة\",\"بالمئة\",\"بالمئة\") &\" و  \" &B_Only((Y94-INT(Y94))*100,1,0,2,\"عشر\",\"عشران\",\"اعشار\"),\" \")","v":""},{"$f":"IF(COUNT(H94)=1,B_Only(H94,1,1,2,\"علامة\",\"علامتان\",\"علامات\"),\" \")","v":""},{"$f":"IF(COUNT(I94)=1,B_Only(I94,1,1,2,\"علامة\",\"علامتان\",\"علامات\"),\" \")","v":""},{"$f":"IF(COUNT(J94)=1,B_Only(J94,1,1,2,\"علامة\",\"علامتان\",\"علامات\"),\" \")","v":""},{"$f":"IF(COUNT(K94)=1,B_Only(K94,1,1,2,\"علامة\",\"علامتان\",\"علامات\"),\" \")","v":""},{"$f":"IF(COUNT(L94)=1,B_Only(L94,1,1,2,\"علامة\",\"علامتان\",\"علامات\"),\" \")","v":""},{"$f":"IF(COUNT(M94)=1,B_Only(M94,1,1,2,\"علامة\",\"علامتان\",\"علامات\"),\" \")","v":""},{"$f":"IF(COUNT(N94)=1,B_Only(N94,1,1,2,\"علامة\",\"علامتان\",\"علامات\"),\" \")","v":""},{"$f":"IF(COUNT(O94)=1,B_Only(O94,1,1,2,\"علامة\",\"علامتان\",\"علامات\"),\" \")","v":""},{"$f":"IF(COUNT(P94)=1,B_Only(P94,1,1,2,\"علامة\",\"علامتان\",\"علامات\"),\" \")","v":""},{"$f":"IF(COUNT(Q94)=1,B_Only(Q94,1,1,2,\"علامة\",\"علامتان\",\"علامات\"),\" \")","v":""},{"$f":"IF(COUNT(R94)=1,B_Only(R94,1,1,2,\"علامة\",\"علامتان\",\"علامات\"),\" \")","v":""},{"$f":"IF(COUNT(S94)=1,B_Only(S94,1,1,2,\"علامة\",\"علامتان\",\"علامات\"),\" \")","v":""},{"$f":"IF(COUNT(T94)=1,B_Only(T94,1,1,2,\"علامة\",\"علامتان\",\"علامات\"),\" \")","v":""},{"$f":"IF(COUNT(U94)=1,B_Only(U94,1,1,2,\"علامة\",\"علامتان\",\"علامات\"),\" \")","v":""}]
[null,null,null,null,null,null,null,null,null,null,null,null,null,null,null,null,null,null,null,null,null,{"$f":"IF(COUNT(A95)=1,(ord(A95)&\" على الصف \"),\" \")","v":""},null,{"$f":"IF(COUNT(W95)=1,B_Only(W95,1,1,2,\"علامة\",\"علامتان\",\"علامات\"),\" \")","v":""},{"$f":"IF(COUNT(W95)=1,ROUND(W95/temp!$B$9,2),\" \")","v":""},{"$f":"IF(COUNT(Y95)=1, B_Only(INT(Y95),1,0,2,\"بالمئة\",\"بالمئة\",\"بالمئة\") &\" و  \" &B_Only((Y95-INT(Y95))*100,1,0,2,\"عشر\",\"عشران\",\"اعشار\"),\" \")","v":""},{"$f":"IF(COUNT(H95)=1,B_Only(H95,1,1,2,\"علامة\",\"علامتان\",\"علامات\"),\" \")","v":""},{"$f":"IF(COUNT(I95)=1,B_Only(I95,1,1,2,\"علامة\",\"علامتان\",\"علامات\"),\" \")","v":""},{"$f":"IF(COUNT(J95)=1,B_Only(J95,1,1,2,\"علامة\",\"علامتان\",\"علامات\"),\" \")","v":""},{"$f":"IF(COUNT(K95)=1,B_Only(K95,1,1,2,\"علامة\",\"علامتان\",\"علامات\"),\" \")","v":""},{"$f":"IF(COUNT(L95)=1,B_Only(L95,1,1,2,\"علامة\",\"علامتان\",\"علامات\"),\" \")","v":""},{"$f":"IF(COUNT(M95)=1,B_Only(M95,1,1,2,\"علامة\",\"علامتان\",\"علامات\"),\" \")","v":""},{"$f":"IF(COUNT(N95)=1,B_Only(N95,1,1,2,\"علامة\",\"علامتان\",\"علامات\"),\" \")","v":""},{"$f":"IF(COUNT(O95)=1,B_Only(O95,1,1,2,\"علامة\",\"علامتان\",\"علامات\"),\" \")","v":""},{"$f":"IF(COUNT(P95)=1,B_Only(P95,1,1,2,\"علامة\",\"علامتان\",\"علامات\"),\" \")","v":""},{"$f":"IF(COUNT(Q95)=1,B_Only(Q95,1,1,2,\"علامة\",\"علامتان\",\"علامات\"),\" \")","v":""},{"$f":"IF(COUNT(R95)=1,B_Only(R95,1,1,2,\"علامة\",\"علامتان\",\"علامات\"),\" \")","v":""},{"$f":"IF(COUNT(S95)=1,B_Only(S95,1,1,2,\"علامة\",\"علامتان\",\"علامات\"),\" \")","v":""},{"$f":"IF(COUNT(T95)=1,B_Only(T95,1,1,2,\"علامة\",\"علامتان\",\"علامات\"),\" \")","v":""},{"$f":"IF(COUNT(U95)=1,B_Only(U95,1,1,2,\"علامة\",\"علامتان\",\"علامات\"),\" \")","v":""}]
[null,null,null,null,null,null,null,null,null,null,null,null,null,null,null,null,null,null,null,null,null,{"$f":"IF(COUNT(A96)=1,(ord(A96)&\" على الصف \"),\" \")","v":""},null,{"$f":"IF(COUNT(W96)=1,B_Only(W96,1,1,2,\"علامة\",\"علامتان\",\"علامات\"),\" \")","v":""},{"$f":"IF(COUNT(W96)=1,ROUND(W96/temp!$B$9,2),\" \")","v":""},{"$f":"IF(COUNT(Y96)=1, B_Only(INT(Y96),1,0,2,\"بالمئة\",\"بالمئة\",\"بالمئة\") &\" و  \" &B_Only((Y96-INT(Y96))*100,1,0,2,\"عشر\",\"عشران\",\"اعشار\"),\" \")","v":""},{"$f":"IF(COUNT(H96)=1,B_Only(H96,1,1,2,\"علامة\",\"علامتان\",\"علامات\"),\" \")","v":""},{"$f":"IF(COUNT(I96)=1,B_Only(I96,1,1,2,\"علامة\",\"علامتان\",\"علامات\"),\" \")","v":""},{"$f":"IF(COUNT(J96)=1,B_Only(J96,1,1,2,\"علامة\",\"علامتان\",\"علامات\"),\" \")","v":""},{"$f":"IF(COUNT(K96)=1,B_Only(K96,1,1,2,\"علامة\",\"علامتان\",\"علامات\"),\" \")","v":""},{"$f":"IF(COUNT(L96)=1,B_Only(L96,1,1,2,\"علامة\",\"علامتان\",\"علامات\"),\" \")","v":""},{"$f":"IF(COUNT(M96)=1,B_Only(M96,1,1,2,\"علامة\",\"علامتان\",\"علامات\"),\" \")","v":""},{"$f":"IF(COUNT(N96)=1,B_Only(N96,1,1,2,\"علامة\",\"علامتان\",\"علامات\"),\" \")","v":""},{"$f":"IF(COUNT(O96)=1,B_Only(O96,1,1,2,\"علامة\",\"علامتان\",\"علامات\"),\" \")","v":""},{"$f":"IF(COUNT(P96)=1,B_Only(P96,1,1,2,\"علامة\",\"علامتان\",\"علامات\"),\" \")","v":""},{"$f":"IF(COUNT(Q96)=1,B_Only(Q96,1,1,2,\"علامة\",\"علامتان\",\"علامات\"),\" \")","v":""},{"$f":"IF(COUNT(R96)=1,B_Only(R96,1,1,2,\"علامة\",\"علامتان\",\"علامات\"),\" \")","v":""},{"$f":"IF(COUNT(S96)=1,B_Only(S96,1,1,2,\"علامة\",\"علامتان\",\"علامات\"),\" \")","v":""},{"$f":"IF(COUNT(T96)=1,B_Only(T96,1,1,2,\"علامة\",\"علامتان\",\"علامات\"),\" \")","v":""},{"$f":"IF(COUNT(U96)=1,B_Only(U96,1,1,2,\"علامة\",\"علامتان\",\"علامات\"),\" \")","v":""}]
[null,null,null,null,null,null,null,null,null,null,null,null,null,null,null,null,null,null,null,null,null,{"$f":"IF(COUNT(A97)=1,(ord(A97)&\" على الصف \"),\" \")","v":""},null,{"$f":"IF(COUNT(W97)=1,B_Only(W97,1,1,2,\"علامة\",\"علامتان\",\"علامات\"),\" \")","v":""},{"$f":"IF(COUNT(W97)=1,ROUND(W97/temp!$B$9,2),\" \")","v":""},{"$f":"IF(COUNT(Y97)=1, B_Only(INT(Y97),1,0,2,\"بالمئة\",\"بالمئة\",\"بالمئة\") &\" و  \" &B_Only((Y97-INT(Y97))*100,1,0,2,\"عشر\",\"عشران\",\"اعشار\"),\" \")","v":""},{"$f":"IF(COUNT(H97)=1,B_Only(H97,1,1,2,\"علامة\",\"علامتان\",\"علامات\"),\" \")","v":""},{"$f":"IF(COUNT(I97)=1,B_Only(I97,1,1,2,\"علامة\",\"علامتان\",\"علامات\"),\" \")","v":""},{"$f":"IF(COUNT(J97)=1,B_Only(J97,1,1,2,\"علامة\",\"علامتان\",\"علامات\"),\" \")","v":""},{"$f":"IF(COUNT(K97)=1,B_Only(K97,1,1,2,\"علامة\",\"علامتان\",\"علامات\"),\" \")","v":""},{"$f":"IF(COUNT(L97)=1,B_Only(L97,1,1,2,\"علامة\",\"علامتان\",\"علامات\"),\" \")","v":""},{"$f":"IF(COUNT(M97)=1,B_Only(M97,1,1,2,\"علامة\",\"علامتان\",\"علامات\"),\" \")","v":""},{"$f":"IF(COUNT(N97)=1,B_Only(N97,1,1,2,\"علامة\",\"علامتان\",\"علامات\"),\" \")","v":""},{"$f":"IF(COUNT(O97)=1,B_Only(O97,1,1,2,\"علامة\",\"علامتان\",\"علامات\"),\" \")","v":""},{"$f":"IF(COUNT(P97)=1,B_Only(P97,1,1,2,\"علامة\",\"علامتان\",\"علامات\"),\" \")","v":""},{"$f":"IF(COUNT(Q97)=1,B_Only(Q97,1,1,2,\"علامة\",\"علامتان\",\"علامات\"),\" \")","v":""},{"$f":"IF(COUNT(R97)=1,B_Only(R97,1,1,2,\"علامة\",\"علامتان\",\"علامات\"),\" \")","v":""},{"$f":"IF(COUNT(S97)=1,B_Only(S97,1,1,2,\"علامة\",\"علامتان\",\"علامات\"),\" \")","v":""},{"$f":"IF(COUNT(T97)=1,B_Only(T97,1,1,2,\"علامة\",\"علامتان\",\"علامات\"),\" \")","v":""},{"$f":"IF(COUNT(U97)=1,B_Only(U97,1,1,2,\"علامة\",\"علامتان\",\"علامات\"),\" \")","v":""}]
[null,null,null,null,null,null,null,null,null,null,null,null,null,null,null,null,null,null,null,null,null,{"$f":"IF(COUNT(A98)=1,(ord(A98)&\" على الصف \"),\" \")","v":""},null,{"$f":"IF(COUNT(W98)=1,B_Only(W98,1,1,2,\"علامة\",\"علامتان\",\"علامات\"),\" \")","v":""},{"$f":"IF(COUNT(W98)=1,ROUND(W98/temp!$B$9,2),\" \")","v":""},{"$f":"IF(COUNT(Y98)=1, B_Only(INT(Y98),1,0,2,\"بالمئة\",\"بالمئة\",\"بالمئة\") &\" و  \" &B_Only((Y98-INT(Y98))*100,1,0,2,\"عشر\",\"عشران\",\"اعشار\"),\" \")","v":""},{"$f":"IF(COUNT(H98)=1,B_Only(H98,1,1,2,\"علامة\",\"علامتان\",\"علامات\"),\" \")","v":""},{"$f":"IF(COUNT(I98)=1,B_Only(I98,1,1,2,\"علامة\",\"علامتان\",\"علامات\"),\" \")","v":""},{"$f":"IF(COUNT(J98)=1,B_Only(J98,1,1,2,\"علامة\",\"علامتان\",\"علامات\"),\" \")","v":""},{"$f":"IF(COUNT(K98)=1,B_Only(K98,1,1,2,\"علامة\",\"علامتان\",\"علامات\"),\" \")","v":""},{"$f":"IF(COUNT(L98)=1,B_Only(L98,1,1,2,\"علامة\",\"علامتان\",\"علامات\"),\" \")","v":""},{"$f":"IF(COUNT(M98)=1,B_Only(M98,1,1,2,\"علامة\",\"علامتان\",\"علامات\"),\" \")","v":""},{"$f":"IF(COUNT(N98)=1,B_Only(N98,1,1,2,\"علامة\",\"علامتان\",\"علامات\"),\" \")","v":""},{"$f":"IF(COUNT(O98)=1,B_Only(O98,1,1,2,\"علامة\",\"علامتان\",\"علامات\"),\" \")","v":""},{"$f":"IF(COUNT(P98)=1,B_Only(P98,1,1,2,\"علامة\",\"علامتان\",\"علامات\"),\" \")","v":""},{"$f":"IF(COUNT(Q98)=1,B_Only(Q98,1,1,2,\"علامة\",\"علامتان\",\"علامات\"),\" \")","v":""},{"$f":"IF(COUNT(R98)=1,B_Only(R98,1,1,2,\"علامة\",\"علامتان\",\"علامات\"),\" \")","v":""},{"$f":"IF(COUNT(S98)=1,B_Only(S98,1,1,2,\"علامة\",\"علامتان\",\"علامات\"),\" \")","v":""},{"$f":"IF(COUNT(T98)=1,B_Only(T98,1,1,2,\"علامة\",\"علامتان\",\"علامات\"),\" \")","v":""},{"$f":"IF(COUNT(U98)=1,B_Only(U98,1,1,2,\"علامة\",\"علامتان\",\"علامات\"),\" \")","v":""}]
[null,null,null,null,null,null,null,null,null,null,null,null,null,null,null,null,null,null,null,null,null,{"$f":"IF(COUNT(A99)=1,(ord(A99)&\" على الصف \"),\" \")","v":""},null,{"$f":"IF(COUNT(W99)=1,B_Only(W99,1,1,2,\"علامة\",\"علامتان\",\"علامات\"),\" \")","v":""},{"$f":"IF(COUNT(W99)=1,ROUND(W99/temp!$B$9,2),\" \")","v":""},{"$f":"IF(COUNT(Y99)=1, B_Only(INT(Y99),1,0,2,\"بالمئة\",\"بالمئة\",\"بالمئة\") &\" و  \" &B_Only((Y99-INT(Y99))*100,1,0,2,\"عشر\",\"عشران\",\"اعشار\"),\" \")","v":""},{"$f":"IF(COUNT(H99)=1,B_Only(H99,1,1,2,\"علامة\",\"علامتان\",\"علامات\"),\" \")","v":""},{"$f":"IF(COUNT(I99)=1,B_Only(I99,1,1,2,\"علامة\",\"علامتان\",\"علامات\"),\" \")","v":""},{"$f":"IF(COUNT(J99)=1,B_Only(J99,1,1,2,\"علامة\",\"علامتان\",\"علامات\"),\" \")","v":""},{"$f":"IF(COUNT(K99)=1,B_Only(K99,1,1,2,\"علامة\",\"علامتان\",\"علامات\"),\" \")","v":""},{"$f":"IF(COUNT(L99)=1,B_Only(L99,1,1,2,\"علامة\",\"علامتان\",\"علامات\"),\" \")","v":""},{"$f":"IF(COUNT(M99)=1,B_Only(M99,1,1,2,\"علامة\",\"علامتان\",\"علامات\"),\" \")","v":""},{"$f":"IF(COUNT(N99)=1,B_Only(N99,1,1,2,\"علامة\",\"علامتان\",\"علامات\"),\" \")","v":""},{"$f":"IF(COUNT(O99)=1,B_Only(O99,1,1,2,\"علامة\",\"علامتان\",\"علامات\"),\" \")","v":""},{"$f":"IF(COUNT(P99)=1,B_Only(P99,1,1,2,\"علامة\",\"علامتان\",\"علامات\"),\" \")","v":""},{"$f":"IF(COUNT(Q99)=1,B_Only(Q99,1,1,2,\"علامة\",\"علامتان\",\"علامات\"),\" \")","v":""},{"$f":"IF(COUNT(R99)=1,B_Only(R99,1,1,2,\"علامة\",\"علامتان\",\"علامات\"),\" \")","v":""},{"$f":"IF(COUNT(S99)=1,B_Only(S99,1,1,2,\"علامة\",\"علامتان\",\"علامات\"),\" \")","v":""},{"$f":"IF(COUNT(T99)=1,B_Only(T99,1,1,2,\"علامة\",\"علامتان\",\"علامات\"),\" \")","v":""},{"$f":"IF(COUNT(U99)=1,B_Only(U99,1,1,2,\"علامة\",\"علامتان\",\"علامات\"),\" \")","v":""}]
[null,null,null,null,null,null,null,null,null,null,null,null,null,null,null,null,null,null,null,null,null,{"$f":"IF(COUNT(A100)=1,(ord(A100)&\" على الصف \"),\" \")","v":""},null,null,{"$f":"IF(COUNT(W100)=1,ROUND(W100/temp!$B$9,2),\" \")","v":""},{"$f":"IF(COUNT(Y100)=1, B_Only(INT(Y100),1,0,2,\"بالمئة\",\"بالمئة\",\"بالمئة\") &\" و  \" &B_Only((Y100-INT(Y100))*100,1,0,2,\"عشر\",\"عشران\",\"اعشار\"),\" \")","v":""},{"$f":"IF(COUNT(H100)=1,B_Only(H100,1,1,2,\"علامة\",\"علامتان\",\"علامات\"),\" \")","v":""},{"$f":"IF(COUNT(I100)=1,B_Only(I100,1,1,2,\"علامة\",\"علامتان\",\"علامات\"),\" \")","v":""},{"$f":"IF(COUNT(J100)=1,B_Only(J100,1,1,2,\"علامة\",\"علامتان\",\"علامات\"),\" \")","v":""},{"$f":"IF(COUNT(K100)=1,B_Only(K100,1,1,2,\"علامة\",\"علامتان\",\"علامات\"),\" \")","v":""},{"$f":"IF(COUNT(L100)=1,B_Only(L100,1,1,2,\"علامة\",\"علامتان\",\"علامات\"),\" \")","v":""},{"$f":"IF(COUNT(M100)=1,B_Only(M100,1,1,2,\"علامة\",\"علامتان\",\"علامات\"),\" \")","v":""},{"$f":"IF(COUNT(N100)=1,B_Only(N100,1,1,2,\"علامة\",\"علامتان\",\"علامات\"),\" \")","v":""},{"$f":"IF(COUNT(O100)=1,B_Only(O100,1,1,2,\"علامة\",\"علامتان\",\"علامات\"),\" \")","v":""},{"$f":"IF(COUNT(P100)=1,B_Only(P100,1,1,2,\"علامة\",\"علامتان\",\"علامات\"),\" \")","v":""},{"$f":"IF(COUNT(Q100)=1,B_Only(Q100,1,1,2,\"علامة\",\"علامتان\",\"علامات\"),\" \")","v":""},{"$f":"IF(COUNT(R100)=1,B_Only(R100,1,1,2,\"علامة\",\"علامتان\",\"علامات\"),\" \")","v":""},{"$f":"IF(COUNT(S100)=1,B_Only(S100,1,1,2,\"علامة\",\"علامتان\",\"علامات\"),\" \")","v":""},{"$f":"IF(COUNT(T100)=1,B_Only(T100,1,1,2,\"علامة\",\"علامتان\",\"علامات\"),\" \")","v":""},{"$f":"IF(COUNT(U100)=1,B_Only(U100,1,1,2,\"علامة\",\"علامتان\",\"علامات\"),\" \")","v":""}]
[null,null,null,null,null,null,null,null,null,null,null,null,null,null,null,null,null,null,null,null,null,{"$f":"IF(COUNT(A101)=1,(ord(A101)&\" على الصف \"),\" \")","v":""},null,null,{"$f":"IF(COUNT(W101)=1,ROUND(W101/temp!$B$9,2),\" \")","v":""},{"$f":"IF(COUNT(Y101)=1, B_Only(INT(Y101),1,0,2,\"بالمئة\",\"بالمئة\",\"بالمئة\") &\" و  \" &B_Only((Y101-INT(Y101))*100,1,0,2,\"عشر\",\"عشران\",\"اعشار\"),\" \")","v":""},{"$f":"IF(COUNT(H101)=1,B_Only(H101,1,1,2,\"علامة\",\"علامتان\",\"علامات\"),\" \")","v":""},{"$f":"IF(COUNT(I101)=1,B_Only(I101,1,1,2,\"علامة\",\"علامتان\",\"علامات\"),\" \")","v":""},{"$f":"IF(COUNT(J101)=1,B_Only(J101,1,1,2,\"علامة\",\"علامتان\",\"علامات\"),\" \")","v":""},{"$f":"IF(COUNT(K101)=1,B_Only(K101,1,1,2,\"علامة\",\"علامتان\",\"علامات\"),\" \")","v":""},{"$f":"IF(COUNT(L101)=1,B_Only(L101,1,1,2,\"علامة\",\"علامتان\",\"علامات\"),\" \")","v":""},{"$f":"IF(COUNT(M101)=1,B_Only(M101,1,1,2,\"علامة\",\"علامتان\",\"علامات\"),\" \")","v":""},{"$f":"IF(COUNT(N101)=1,B_Only(N101,1,1,2,\"علامة\",\"علامتان\",\"علامات\"),\" \")","v":""},{"$f":"IF(COUNT(O101)=1,B_Only(O101,1,1,2,\"علامة\",\"علامتان\",\"علامات\"),\" \")","v":""},{"$f":"IF(COUNT(P101)=1,B_Only(P101,1,1,2,\"علامة\",\"علامتان\",\"علامات\"),\" \")","v":""},{"$f":"IF(COUNT(Q101)=1,B_Only(Q101,1,1,2,\"علامة\",\"علامتان\",\"علامات\"),\" \")","v":""},{"$f":"IF(COUNT(R101)=1,B_Only(R101,1,1,2,\"علامة\",\"علامتان\",\"علامات\"),\" \")","v":""},{"$f":"IF(COUNT(S101)=1,B_Only(S101,1,1,2,\"علامة\",\"علامتان\",\"علامات\"),\" \")","v":""},{"$f":"IF(COUNT(T101)=1,B_Only(T101,1,1,2,\"علامة\",\"علامتان\",\"علامات\"),\" \")","v":""},{"$f":"IF(COUNT(U101)=1,B_Only(U101,1,1,2,\"علامة\",\"علامتان\",\"علامات\"),\" \")","v":""}]
[null,null,null,null,null,null,null,null,null,null,null,null,null,null,null,null,null,null,null,null,null,{"$f":"IF(COUNT(A102)=1,(ord(A102)&\" على الصف \"),\" \")","v":""},null,null,{"$f":"IF(COUNT(W102)=1,ROUND(W102/temp!$B$9,2),\" \")","v":""},{"$f":"IF(COUNT(Y102)=1, B_Only(INT(Y102),1,0,2,\"بالمئة\",\"بالمئة\",\"بالمئة\") &\" و  \" &B_Only((Y102-INT(Y102))*100,1,0,2,\"عشر\",\"عشران\",\"اعشار\"),\" \")","v":""},{"$f":"IF(COUNT(H102)=1,B_Only(H102,1,1,2,\"علامة\",\"علامتان\",\"علامات\"),\" \")","v":""},{"$f":"IF(COUNT(I102)=1,B_Only(I102,1,1,2,\"علامة\",\"علامتان\",\"علامات\"),\" \")","v":""},{"$f":"IF(COUNT(J102)=1,B_Only(J102,1,1,2,\"علامة\",\"علامتان\",\"علامات\"),\" \")","v":""},{"$f":"IF(COUNT(K102)=1,B_Only(K102,1,1,2,\"علامة\",\"علامتان\",\"علامات\"),\" \")","v":""},{"$f":"IF(COUNT(L102)=1,B_Only(L102,1,1,2,\"علامة\",\"علامتان\",\"علامات\"),\" \")","v":""},{"$f":"IF(COUNT(M102)=1,B_Only(M102,1,1,2,\"علامة\",\"علامتان\",\"علامات\"),\" \")","v":""},{"$f":"IF(COUNT(N102)=1,B_Only(N102,1,1,2,\"علامة\",\"علامتان\",\"علامات\"),\" \")","v":""},{"$f":"IF(COUNT(O102)=1,B_Only(O102,1,1,2,\"علامة\",\"علامتان\",\"علامات\"),\" \")","v":""},{"$f":"IF(COUNT(P102)=1,B_Only(P102,1,1,2,\"علامة\",\"علامتان\",\"علامات\"),\" \")","v":""},{"$f":"IF(COUNT(Q102)=1,B_Only(Q102,1,1,2,\"علامة\",\"علامتان\",\"علامات\"),\" \")","v":""},{"$f":"IF(COUNT(R102)=1,B_Only(R102,1,1,2,\"علامة\",\"علامتان\",\"علامات\"),\" \")","v":""},{"$f":"IF(COUNT(S102)=1,B_Only(S102,1,1,2,\"علامة\",\"علامتان\",\"علامات\"),\" \")","v":""},{"$f":"IF(COUNT(T102)=1,B_Only(T102,1,1,2,\"علامة\",\"علامتان\",\"علامات\"),\" \")","v":""},{"$f":"IF(COUNT(U102)=1,B_Only(U102,1,1,2,\"علامة\",\"علامتان\",\"علامات\"),\" \")","v":""}]
[null,null,null,null,null,null,null,null,null,null,null,null,null,null,null,null,null,null,null,null,null,{"$f":"IF(COUNT(A103)=1,(ord(A103)&\" على الصف \"),\" \")","v":""},null,null,{"$f":"IF(COUNT(W103)=1,ROUND(W103/temp!$B$9,2),\" \")","v":""},{"$f":"IF(COUNT(Y103)=1, B_Only(INT(Y103),1,0,2,\"بالمئة\",\"بالمئة\",\"بالمئة\") &\" و  \" &B_Only((Y103-INT(Y103))*100,1,0,2,\"عشر\",\"عشران\",\"اعشار\"),\" \")","v":""},{"$f":"IF(COUNT(H103)=1,B_Only(H103,1,1,2,\"علامة\",\"علامتان\",\"علامات\"),\" \")","v":""},{"$f":"IF(COUNT(I103)=1,B_Only(I103,1,1,2,\"علامة\",\"علامتان\",\"علامات\"),\" \")","v":""},{"$f":"IF(COUNT(J103)=1,B_Only(J103,1,1,2,\"علامة\",\"علامتان\",\"علامات\"),\" \")","v":""},{"$f":"IF(COUNT(K103)=1,B_Only(K103,1,1,2,\"علامة\",\"علامتان\",\"علامات\"),\" \")","v":""},{"$f":"IF(COUNT(L103)=1,B_Only(L103,1,1,2,\"علامة\",\"علامتان\",\"علامات\"),\" \")","v":""},{"$f":"IF(COUNT(M103)=1,B_Only(M103,1,1,2,\"علامة\",\"علامتان\",\"علامات\"),\" \")","v":""},{"$f":"IF(COUNT(N103)=1,B_Only(N103,1,1,2,\"علامة\",\"علامتان\",\"علامات\"),\" \")","v":""},{"$f":"IF(COUNT(O103)=1,B_Only(O103,1,1,2,\"علامة\",\"علامتان\",\"علامات\"),\" \")","v":""},{"$f":"IF(COUNT(P103)=1,B_Only(P103,1,1,2,\"علامة\",\"علامتان\",\"علامات\"),\" \")","v":""},{"$f":"IF(COUNT(Q103)=1,B_Only(Q103,1,1,2,\"علامة\",\"علامتان\",\"علامات\"),\" \")","v":""},{"$f":"IF(COUNT(R103)=1,B_Only(R103,1,1,2,\"علامة\",\"علامتان\",\"علامات\"),\" \")","v":""},{"$f":"IF(COUNT(S103)=1,B_Only(S103,1,1,2,\"علامة\",\"علامتان\",\"علامات\"),\" \")","v":""},{"$f":"IF(COUNT(T103)=1,B_Only(T103,1,1,2,\"علامة\",\"علامتان\",\"علامات\"),\" \")","v":""},{"$f":"IF(COUNT(U103)=1,B_Only(U103,1,1,2,\"علامة\",\"علامتان\",\"علامات\"),\" \")","v":""}]
[null,null,null,null,null,null,null,null,null,null,null,null,null,null,null,null,null,null,null,null,null,{"$f":"IF(COUNT(A104)=1,(ord(A104)&\" على الصف \"),\" \")","v":""},null,null,{"$f":"IF(COUNT(W104)=1,ROUND(W104/temp!$B$9,2),\" \")","v":""},{"$f":"IF(COUNT(Y104)=1, B_Only(INT(Y104),1,0,2,\"بالمئة\",\"بالمئة\",\"بالمئة\") &\" و  \" &B_Only((Y104-INT(Y104))*100,1,0,2,\"عشر\",\"عشران\",\"اعشار\"),\" \")","v":""},{"$f":"IF(COUNT(H104)=1,B_Only(H104,1,1,2,\"علامة\",\"علامتان\",\"علامات\"),\" \")","v":""},{"$f":"IF(COUNT(I104)=1,B_Only(I104,1,1,2,\"علامة\",\"علامتان\",\"علامات\"),\" \")","v":""},{"$f":"IF(COUNT(J104)=1,B_Only(J104,1,1,2,\"علامة\",\"علامتان\",\"علامات\"),\" \")","v":""},{"$f":"IF(COUNT(K104)=1,B_Only(K104,1,1,2,\"علامة\",\"علامتان\",\"علامات\"),\" \")","v":""},{"$f":"IF(COUNT(L104)=1,B_Only(L104,1,1,2,\"علامة\",\"علامتان\",\"علامات\"),\" \")","v":""},{"$f":"IF(COUNT(M104)=1,B_Only(M104,1,1,2,\"علامة\",\"علامتان\",\"علامات\"),\" \")","v":""},{"$f":"IF(COUNT(N104)=1,B_Only(N104,1,1,2,\"علامة\",\"علامتان\",\"علامات\"),\" \")","v":""},{"$f":"IF(COUNT(O104)=1,B_Only(O104,1,1,2,\"علامة\",\"علامتان\",\"علامات\"),\" \")","v":""},{"$f":"IF(COUNT(P104)=1,B_Only(P104,1,1,2,\"علامة\",\"علامتان\",\"علامات\"),\" \")","v":""},{"$f":"IF(COUNT(Q104)=1,B_Only(Q104,1,1,2,\"علامة\",\"علامتان\",\"علامات\"),\" \")","v":""},{"$f":"IF(COUNT(R104)=1,B_Only(R104,1,1,2,\"علامة\",\"علامتان\",\"علامات\"),\" \")","v":""},{"$f":"IF(COUNT(S104)=1,B_Only(S104,1,1,2,\"علامة\",\"علامتان\",\"علامات\"),\" \")","v":""},{"$f":"IF(COUNT(T104)=1,B_Only(T104,1,1,2,\"علامة\",\"علامتان\",\"علامات\"),\" \")","v":""},{"$f":"IF(COUNT(U104)=1,B_Only(U104,1,1,2,\"علامة\",\"علامتان\",\"علامات\"),\" \")","v":""}]
[null,null,null,null,null,null,null,null,null,null,null,null,null,null,null,null,null,null,null,null,null,{"$f":"IF(COUNT(A105)=1,(ord(A105)&\" على الصف \"),\" \")","v":""},null,null,{"$f":"IF(COUNT(W105)=1,ROUND(W105/temp!$B$9,2),\" \")","v":""},{"$f":"IF(COUNT(Y105)=1, B_Only(INT(Y105),1,0,2,\"بالمئة\",\"بالمئة\",\"بالمئة\") &\" و  \" &B_Only((Y105-INT(Y105))*100,1,0,2,\"عشر\",\"عشران\",\"اعشار\"),\" \")","v":""},{"$f":"IF(COUNT(H105)=1,B_Only(H105,1,1,2,\"علامة\",\"علامتان\",\"علامات\"),\" \")","v":""},{"$f":"IF(COUNT(I105)=1,B_Only(I105,1,1,2,\"علامة\",\"علامتان\",\"علامات\"),\" \")","v":""},{"$f":"IF(COUNT(J105)=1,B_Only(J105,1,1,2,\"علامة\",\"علامتان\",\"علامات\"),\" \")","v":""},{"$f":"IF(COUNT(K105)=1,B_Only(K105,1,1,2,\"علامة\",\"علامتان\",\"علامات\"),\" \")","v":""},{"$f":"IF(COUNT(L105)=1,B_Only(L105,1,1,2,\"علامة\",\"علامتان\",\"علامات\"),\" \")","v":""},{"$f":"IF(COUNT(M105)=1,B_Only(M105,1,1,2,\"علامة\",\"علامتان\",\"علامات\"),\" \")","v":""},{"$f":"IF(COUNT(N105)=1,B_Only(N105,1,1,2,\"علامة\",\"علامتان\",\"علامات\"),\" \")","v":""},{"$f":"IF(COUNT(O105)=1,B_Only(O105,1,1,2,\"علامة\",\"علامتان\",\"علامات\"),\" \")","v":""},{"$f":"IF(COUNT(P105)=1,B_Only(P105,1,1,2,\"علامة\",\"علامتان\",\"علامات\"),\" \")","v":""},{"$f":"IF(COUNT(Q105)=1,B_Only(Q105,1,1,2,\"علامة\",\"علامتان\",\"علامات\"),\" \")","v":""},{"$f":"IF(COUNT(R105)=1,B_Only(R105,1,1,2,\"علامة\",\"علامتان\",\"علامات\"),\" \")","v":""},{"$f":"IF(COUNT(S105)=1,B_Only(S105,1,1,2,\"علامة\",\"علامتان\",\"علامات\"),\" \")","v":""},{"$f":"IF(COUNT(T105)=1,B_Only(T105,1,1,2,\"علامة\",\"علامتان\",\"علامات\"),\" \")","v":""},{"$f":"IF(COUNT(U105)=1,B_Only(U105,1,1,2,\"علامة\",\"علامتان\",\"علامات\"),\" \")","v":""}]
[null,null,null,null,null,null,null,null,null,null,null,null,null,null,null,null,null,null,null,null,null,{"$f":"IF(COUNT(A106)=1,(ord(A106)&\" على الصف \"),\" \")","v":""},null,null,{"$f":"IF(COUNT(W106)=1,ROUND(W106/temp!$B$9,2),\" \")","v":""},{"$f":"IF(COUNT(Y106)=1, B_Only(INT(Y106),1,0,2,\"بالمئة\",\"بالمئة\",\"بالمئة\") &\" و  \" &B_Only((Y106-INT(Y106))*100,1,0,2,\"عشر\",\"عشران\",\"اعشار\"),\" \")","v":""},{"$f":"IF(COUNT(H106)=1,B_Only(H106,1,1,2,\"علامة\",\"علامتان\",\"علامات\"),\" \")","v":""},{"$f":"IF(COUNT(I106)=1,B_Only(I106,1,1,2,\"علامة\",\"علامتان\",\"علامات\"),\" \")","v":""},{"$f":"IF(COUNT(J106)=1,B_Only(J106,1,1,2,\"علامة\",\"علامتان\",\"علامات\"),\" \")","v":""},{"$f":"IF(COUNT(K106)=1,B_Only(K106,1,1,2,\"علامة\",\"علامتان\",\"علامات\"),\" \")","v":""},{"$f":"IF(COUNT(L106)=1,B_Only(L106,1,1,2,\"علامة\",\"علامتان\",\"علامات\"),\" \")","v":""},{"$f":"IF(COUNT(M106)=1,B_Only(M106,1,1,2,\"علامة\",\"علامتان\",\"علامات\"),\" \")","v":""},{"$f":"IF(COUNT(N106)=1,B_Only(N106,1,1,2,\"علامة\",\"علامتان\",\"علامات\"),\" \")","v":""},{"$f":"IF(COUNT(O106)=1,B_Only(O106,1,1,2,\"علامة\",\"علامتان\",\"علامات\"),\" \")","v":""},{"$f":"IF(COUNT(P106)=1,B_Only(P106,1,1,2,\"علامة\",\"علامتان\",\"علامات\"),\" \")","v":""},{"$f":"IF(COUNT(Q106)=1,B_Only(Q106,1,1,2,\"علامة\",\"علامتان\",\"علامات\"),\" \")","v":""},{"$f":"IF(COUNT(R106)=1,B_Only(R106,1,1,2,\"علامة\",\"علامتان\",\"علامات\"),\" \")","v":""},{"$f":"IF(COUNT(S106)=1,B_Only(S106,1,1,2,\"علامة\",\"علامتان\",\"علامات\"),\" \")","v":""},{"$f":"IF(COUNT(T106)=1,B_Only(T106,1,1,2,\"علامة\",\"علامتان\",\"علامات\"),\" \")","v":""},{"$f":"IF(COUNT(U106)=1,B_Only(U106,1,1,2,\"علامة\",\"علامتان\",\"علامات\"),\" \")","v":""}]
[null,null,null,null,null,null,null,null,null,null,null,null,null,null,null,null,null,null,null,null,null,{"$f":"IF(COUNT(A107)=1,(ord(A107)&\" على الصف \"),\" \")","v":""},null,null,{"$f":"IF(COUNT(W107)=1,ROUND(W107/temp!$B$9,2),\" \")","v":""},{"$f":"IF(COUNT(Y107)=1, B_Only(INT(Y107),1,0,2,\"بالمئة\",\"بالمئة\",\"بالمئة\") &\" و  \" &B_Only((Y107-INT(Y107))*100,1,0,2,\"عشر\",\"عشران\",\"اعشار\"),\" \")","v":""},{"$f":"IF(COUNT(H107)=1,B_Only(H107,1,1,2,\"علامة\",\"علامتان\",\"علامات\"),\" \")","v":""},{"$f":"IF(COUNT(I107)=1,B_Only(I107,1,1,2,\"علامة\",\"علامتان\",\"علامات\"),\" \")","v":""},{"$f":"IF(COUNT(J107)=1,B_Only(J107,1,1,2,\"علامة\",\"علامتان\",\"علامات\"),\" \")","v":""},{"$f":"IF(COUNT(K107)=1,B_Only(K107,1,1,2,\"علامة\",\"علامتان\",\"علامات\"),\" \")","v":""},{"$f":"IF(COUNT(L107)=1,B_Only(L107,1,1,2,\"علامة\",\"علامتان\",\"علامات\"),\" \")","v":""},{"$f":"IF(COUNT(M107)=1,B_Only(M107,1,1,2,\"علامة\",\"علامتان\",\"علامات\"),\" \")","v":""},{"$f":"IF(COUNT(N107)=1,B_Only(N107,1,1,2,\"علامة\",\"علامتان\",\"علامات\"),\" \")","v":""},{"$f":"IF(COUNT(O107)=1,B_Only(O107,1,1,2,\"علامة\",\"علامتان\",\"علامات\"),\" \")","v":""},{"$f":"IF(COUNT(P107)=1,B_Only(P107,1,1,2,\"علامة\",\"علامتان\",\"علامات\"),\" \")","v":""},{"$f":"IF(COUNT(Q107)=1,B_Only(Q107,1,1,2,\"علامة\",\"علامتان\",\"علامات\"),\" \")","v":""},{"$f":"IF(COUNT(R107)=1,B_Only(R107,1,1,2,\"علامة\",\"علامتان\",\"علامات\"),\" \")","v":""},{"$f":"IF(COUNT(S107)=1,B_Only(S107,1,1,2,\"علامة\",\"علامتان\",\"علامات\"),\" \")","v":""},{"$f":"IF(COUNT(T107)=1,B_Only(T107,1,1,2,\"علامة\",\"علامتان\",\"علامات\"),\" \")","v":""},{"$f":"IF(COUNT(U107)=1,B_Only(U107,1,1,2,\"علامة\",\"علامتان\",\"علامات\"),\" \")","v":""}]
[null,null,null,null,null,null,null,null,null,null,null,null,null,null,null,null,null,null,null,null,null,{"$f":"IF(COUNT(A108)=1,(ord(A108)&\" على الصف \"),\" \")","v":""},null,null,{"$f":"IF(COUNT(W108)=1,ROUND(W108/temp!$B$9,2),\" \")","v":""},{"$f":"IF(COUNT(Y108)=1, B_Only(INT(Y108),1,0,2,\"بالمئة\",\"بالمئة\",\"بالمئة\") &\" و  \" &B_Only((Y108-INT(Y108))*100,1,0,2,\"عشر\",\"عشران\",\"اعشار\"),\" \")","v":""},{"$f":"IF(COUNT(H108)=1,B_Only(H108,1,1,2,\"علامة\",\"علامتان\",\"علامات\"),\" \")","v":""},{"$f":"IF(COUNT(I108)=1,B_Only(I108,1,1,2,\"علامة\",\"علامتان\",\"علامات\"),\" \")","v":""},{"$f":"IF(COUNT(J108)=1,B_Only(J108,1,1,2,\"علامة\",\"علامتان\",\"علامات\"),\" \")","v":""},{"$f":"IF(COUNT(K108)=1,B_Only(K108,1,1,2,\"علامة\",\"علامتان\",\"علامات\"),\" \")","v":""},{"$f":"IF(COUNT(L108)=1,B_Only(L108,1,1,2,\"علامة\",\"علامتان\",\"علامات\"),\" \")","v":""},{"$f":"IF(COUNT(M108)=1,B_Only(M108,1,1,2,\"علامة\",\"علامتان\",\"علامات\"),\" \")","v":""},{"$f":"IF(COUNT(N108)=1,B_Only(N108,1,1,2,\"علامة\",\"علامتان\",\"علامات\"),\" \")","v":""},{"$f":"IF(COUNT(O108)=1,B_Only(O108,1,1,2,\"علامة\",\"علامتان\",\"علامات\"),\" \")","v":""},{"$f":"IF(COUNT(P108)=1,B_Only(P108,1,1,2,\"علامة\",\"علامتان\",\"علامات\"),\" \")","v":""},{"$f":"IF(COUNT(Q108)=1,B_Only(Q108,1,1,2,\"علامة\",\"علامتان\",\"علامات\"),\" \")","v":""},{"$f":"IF(COUNT(R108)=1,B_Only(R108,1,1,2,\"علامة\",\"علامتان\",\"علامات\"),\" \")","v":""},{"$f":"IF(COUNT(S108)=1,B_Only(S108,1,1,2,\"علامة\",\"علامتان\",\"علامات\"),\" \")","v":""},{"$f":"IF(COUNT(T108)=1,B_Only(T108,1,1,2,\"علامة\",\"علامتان\",\"علامات\"),\" \")","v":""},{"$f":"IF(COUNT(U108)=1,B_Only(U108,1,1,2,\"علامة\",\"علامتان\",\"علامات\"),\" \")","v":""}]
[null,null,null,null,null,null,null,null,null,null,null,null,null,null,null,null,null,null,null,null,null,null,null,null,{"$f":"IF(COUNT(W109)=1,ROUND(W109/temp!$B$9,2),\" \")","v":""},{"$f":"IF(COUNT(Y109)=1, B_Only(INT(Y109),1,0,2,\"بالمئة\",\"بالمئة\",\"بالمئة\") &\" و  \" &B_Only((Y109-INT(Y109))*100,1,0,2,\"عشر\",\"عشران\",\"اعشار\"),\" \")","v":""},{"$f":"IF(COUNT(H109)=1,B_Only(H109,1,1,2,\"علامة\",\"علامتان\",\"علامات\"),\" \")","v":""},{"$f":"IF(COUNT(I109)=1,B_Only(I109,1,1,2,\"علامة\",\"علامتان\",\"علامات\"),\" \")","v":""},{"$f":"IF(COUNT(J109)=1,B_Only(J109,1,1,2,\"علامة\",\"علامتان\",\"علامات\"),\" \")","v":""},{"$f":"IF(COUNT(K109)=1,B_Only(K109,1,1,2,\"علامة\",\"علامتان\",\"علامات\"),\" \")","v":""},{"$f":"IF(COUNT(L109)=1,B_Only(L109,1,1,2,\"علامة\",\"علامتان\",\"علامات\"),\" \")","v":""},{"$f":"IF(COUNT(M109)=1,B_Only(M109,1,1,2,\"علامة\",\"علامتان\",\"علامات\"),\" \")","v":""},{"$f":"IF(COUNT(N109)=1,B_Only(N109,1,1,2,\"علامة\",\"علامتان\",\"علامات\"),\" \")","v":""},{"$f":"IF(COUNT(O109)=1,B_Only(O109,1,1,2,\"علامة\",\"علامتان\",\"علامات\"),\" \")","v":""},{"$f":"IF(COUNT(P109)=1,B_Only(P109,1,1,2,\"علامة\",\"علامتان\",\"علامات\"),\" \")","v":""},{"$f":"IF(COUNT(Q109)=1,B_Only(Q109,1,1,2,\"علامة\",\"علامتان\",\"علامات\"),\" \")","v":""},{"$f":"IF(COUNT(R109)=1,B_Only(R109,1,1,2,\"علامة\",\"علامتان\",\"علامات\"),\" \")","v":""},{"$f":"IF(COUNT(S109)=1,B_Only(S109,1,1,2,\"علامة\",\"علامتان\",\"علامات\"),\" \")","v":""},{"$f":"IF(COUNT(T109)=1,B_Only(T109,1,1,2,\"علامة\",\"علامتان\",\"علامات\"),\" \")","v":""},{"$f":"IF(COUNT(U109)=1,B_Only(U109,1,1,2,\"علامة\",\"علامتان\",\"علامات\"),\" \")","v":""}]
[null,null,null,null,null,null,null,null,null,null,null,null,null,null,null,null,null,null,null,null,null,null,null,null,null,{"$f":"IF(COUNT(Y110)=1, B_Only(INT(Y110),1,0,2,\"بالمئة\",\"بالمئة\",\"بالمئة\") &\" و  \" &B_Only((Y110-INT(Y110))*100,1,0,2,\"عشر\",\"عشران\",\"اعشار\"),\" \")","v":""},{"$f":"IF(COUNT(H110)=1,B_Only(H110,1,1,2,\"علامة\",\"علامتان\",\"علامات\"),\" \")","v":""},{"$f":"IF(COUNT(I110)=1,B_Only(I110,1,1,2,\"علامة\",\"علامتان\",\"علامات\"),\" \")","v":""},{"$f":"IF(COUNT(J110)=1,B_Only(J110,1,1,2,\"علامة\",\"علامتان\",\"علامات\"),\" \")","v":""},{"$f":"IF(COUNT(K110)=1,B_Only(K110,1,1,2,\"علامة\",\"علامتان\",\"علامات\"),\" \")","v":""},{"$f":"IF(COUNT(L110)=1,B_Only(L110,1,1,2,\"علامة\",\"علامتان\",\"علامات\"),\" \")","v":""},{"$f":"IF(COUNT(M110)=1,B_Only(M110,1,1,2,\"علامة\",\"علامتان\",\"علامات\"),\" \")","v":""},{"$f":"IF(COUNT(N110)=1,B_Only(N110,1,1,2,\"علامة\",\"علامتان\",\"علامات\"),\" \")","v":""},{"$f":"IF(COUNT(O110)=1,B_Only(O110,1,1,2,\"علامة\",\"علامتان\",\"علامات\"),\" \")","v":""},{"$f":"IF(COUNT(P110)=1,B_Only(P110,1,1,2,\"علامة\",\"علامتان\",\"علامات\"),\" \")","v":""},{"$f":"IF(COUNT(Q110)=1,B_Only(Q110,1,1,2,\"علامة\",\"علامتان\",\"علامات\"),\" \")","v":""},{"$f":"IF(COUNT(R110)=1,B_Only(R110,1,1,2,\"علامة\",\"علامتان\",\"علامات\"),\" \")","v":""},{"$f":"IF(COUNT(S110)=1,B_Only(S110,1,1,2,\"علامة\",\"علامتان\",\"علامات\"),\" \")","v":""},{"$f":"IF(COUNT(T110)=1,B_Only(T110,1,1,2,\"علامة\",\"علامتان\",\"علامات\"),\" \")","v":""},{"$f":"IF(COUNT(U110)=1,B_Only(U110,1,1,2,\"علامة\",\"علامتان\",\"علامات\"),\" \")","v":""}]
[null,null,null,null,null,null,null,null,null,null,null,null,null,null,null,null,null,null,null,null,null,null,null,null,null,{"$f":"IF(COUNT(Y111)=1, B_Only(INT(Y111),1,0,2,\"بالمئة\",\"بالمئة\",\"بالمئة\") &\" و  \" &B_Only((Y111-INT(Y111))*100,1,0,2,\"عشر\",\"عشران\",\"اعشار\"),\" \")","v":""},{"$f":"IF(COUNT(H111)=1,B_Only(H111,1,1,2,\"علامة\",\"علامتان\",\"علامات\"),\" \")","v":""},{"$f":"IF(COUNT(I111)=1,B_Only(I111,1,1,2,\"علامة\",\"علامتان\",\"علامات\"),\" \")","v":""},{"$f":"IF(COUNT(J111)=1,B_Only(J111,1,1,2,\"علامة\",\"علامتان\",\"علامات\"),\" \")","v":""},{"$f":"IF(COUNT(K111)=1,B_Only(K111,1,1,2,\"علامة\",\"علامتان\",\"علامات\"),\" \")","v":""},{"$f":"IF(COUNT(L111)=1,B_Only(L111,1,1,2,\"علامة\",\"علامتان\",\"علامات\"),\" \")","v":""},{"$f":"IF(COUNT(M111)=1,B_Only(M111,1,1,2,\"علامة\",\"علامتان\",\"علامات\"),\" \")","v":""},{"$f":"IF(COUNT(N111)=1,B_Only(N111,1,1,2,\"علامة\",\"علامتان\",\"علامات\"),\" \")","v":""},{"$f":"IF(COUNT(O111)=1,B_Only(O111,1,1,2,\"علامة\",\"علامتان\",\"علامات\"),\" \")","v":""},{"$f":"IF(COUNT(P111)=1,B_Only(P111,1,1,2,\"علامة\",\"علامتان\",\"علامات\"),\" \")","v":""},{"$f":"IF(COUNT(Q111)=1,B_Only(Q111,1,1,2,\"علامة\",\"علامتان\",\"علامات\"),\" \")","v":""},{"$f":"IF(COUNT(R111)=1,B_Only(R111,1,1,2,\"علامة\",\"علامتان\",\"علامات\"),\" \")","v":""},{"$f":"IF(COUNT(S111)=1,B_Only(S111,1,1,2,\"علامة\",\"علامتان\",\"علامات\"),\" \")","v":""},{"$f":"IF(COUNT(T111)=1,B_Only(T111,1,1,2,\"علامة\",\"علامتان\",\"علامات\"),\" \")","v":""},{"$f":"IF(COUNT(U111)=1,B_Only(U111,1,1,2,\"علامة\",\"علامتان\",\"علامات\"),\" \")","v":""}]
[null,null,null,null,null,null,null,null,null,null,null,null,null,null,null,null,null,null,null,null,null,null,null,null,null,{"$f":"IF(COUNT(Y112)=1, B_Only(INT(Y112),1,0,2,\"بالمئة\",\"بالمئة\",\"بالمئة\") &\" و  \" &B_Only((Y112-INT(Y112))*100,1,0,2,\"عشر\",\"عشران\",\"اعشار\"),\" \")","v":""},{"$f":"IF(COUNT(H112)=1,B_Only(H112,1,1,2,\"علامة\",\"علامتان\",\"علامات\"),\" \")","v":""},{"$f":"IF(COUNT(I112)=1,B_Only(I112,1,1,2,\"علامة\",\"علامتان\",\"علامات\"),\" \")","v":""},{"$f":"IF(COUNT(J112)=1,B_Only(J112,1,1,2,\"علامة\",\"علامتان\",\"علامات\"),\" \")","v":""},{"$f":"IF(COUNT(K112)=1,B_Only(K112,1,1,2,\"علامة\",\"علامتان\",\"علامات\"),\" \")","v":""},{"$f":"IF(COUNT(L112)=1,B_Only(L112,1,1,2,\"علامة\",\"علامتان\",\"علامات\"),\" \")","v":""},{"$f":"IF(COUNT(M112)=1,B_Only(M112,1,1,2,\"علامة\",\"علامتان\",\"علامات\"),\" \")","v":""},{"$f":"IF(COUNT(N112)=1,B_Only(N112,1,1,2,\"علامة\",\"علامتان\",\"علامات\"),\" \")","v":""},{"$f":"IF(COUNT(O112)=1,B_Only(O112,1,1,2,\"علامة\",\"علامتان\",\"علامات\"),\" \")","v":""},{"$f":"IF(COUNT(P112)=1,B_Only(P112,1,1,2,\"علامة\",\"علامتان\",\"علامات\"),\" \")","v":""},{"$f":"IF(COUNT(Q112)=1,B_Only(Q112,1,1,2,\"علامة\",\"علامتان\",\"علامات\"),\" \")","v":""},{"$f":"IF(COUNT(R112)=1,B_Only(R112,1,1,2,\"علامة\",\"علامتان\",\"علامات\"),\" \")","v":""},{"$f":"IF(COUNT(S112)=1,B_Only(S112,1,1,2,\"علامة\",\"علامتان\",\"علامات\"),\" \")","v":""},{"$f":"IF(COUNT(T112)=1,B_Only(T112,1,1,2,\"علامة\",\"علامتان\",\"علامات\"),\" \")","v":""},{"$f":"IF(COUNT(U112)=1,B_Only(U112,1,1,2,\"علامة\",\"علامتان\",\"علامات\"),\" \")","v":""}]
[null,null,null,null,null,null,null,null,null,null,null,null,null,null,null,null,null,null,null,null,null,null,null,null,null,{"$f":"IF(COUNT(Y113)=1, B_Only(INT(Y113),1,0,2,\"بالمئة\",\"بالمئة\",\"بالمئة\") &\" و  \" &B_Only((Y113-INT(Y113))*100,1,0,2,\"عشر\",\"عشران\",\"اعشار\"),\" \")","v":""},{"$f":"IF(COUNT(H113)=1,B_Only(H113,1,1,2,\"علامة\",\"علامتان\",\"علامات\"),\" \")","v":""},{"$f":"IF(COUNT(I113)=1,B_Only(I113,1,1,2,\"علامة\",\"علامتان\",\"علامات\"),\" \")","v":""},{"$f":"IF(COUNT(J113)=1,B_Only(J113,1,1,2,\"علامة\",\"علامتان\",\"علامات\"),\" \")","v":""},{"$f":"IF(COUNT(K113)=1,B_Only(K113,1,1,2,\"علامة\",\"علامتان\",\"علامات\"),\" \")","v":""},{"$f":"IF(COUNT(L113)=1,B_Only(L113,1,1,2,\"علامة\",\"علامتان\",\"علامات\"),\" \")","v":""},{"$f":"IF(COUNT(M113)=1,B_Only(M113,1,1,2,\"علامة\",\"علامتان\",\"علامات\"),\" \")","v":""},{"$f":"IF(COUNT(N113)=1,B_Only(N113,1,1,2,\"علامة\",\"علامتان\",\"علامات\"),\" \")","v":""},{"$f":"IF(COUNT(O113)=1,B_Only(O113,1,1,2,\"علامة\",\"علامتان\",\"علامات\"),\" \")","v":""},{"$f":"IF(COUNT(P113)=1,B_Only(P113,1,1,2,\"علامة\",\"علامتان\",\"علامات\"),\" \")","v":""},{"$f":"IF(COUNT(Q113)=1,B_Only(Q113,1,1,2,\"علامة\",\"علامتان\",\"علامات\"),\" \")","v":""},{"$f":"IF(COUNT(R113)=1,B_Only(R113,1,1,2,\"علامة\",\"علامتان\",\"علامات\"),\" \")","v":""},{"$f":"IF(COUNT(S113)=1,B_Only(S113,1,1,2,\"علامة\",\"علامتان\",\"علامات\"),\" \")","v":""},{"$f":"IF(COUNT(T113)=1,B_Only(T113,1,1,2,\"علامة\",\"علامتان\",\"علامات\"),\" \")","v":""},{"$f":"IF(COUNT(U113)=1,B_Only(U113,1,1,2,\"علامة\",\"علامتان\",\"علامات\"),\" \")","v":""}]
[null,null,null,null,null,null,null,null,null,null,null,null,null,null,null,null,null,null,null,null,null,null,null,null,null,{"$f":"IF(COUNT(Y114)=1, B_Only(INT(Y114),1,0,2,\"بالمئة\",\"بالمئة\",\"بالمئة\") &\" و  \" &B_Only((Y114-INT(Y114))*100,1,0,2,\"عشر\",\"عشران\",\"اعشار\"),\" \")","v":""},{"$f":"IF(COUNT(H114)=1,B_Only(H114,1,1,2,\"علامة\",\"علامتان\",\"علامات\"),\" \")","v":""},{"$f":"IF(COUNT(I114)=1,B_Only(I114,1,1,2,\"علامة\",\"علامتان\",\"علامات\"),\" \")","v":""},{"$f":"IF(COUNT(J114)=1,B_Only(J114,1,1,2,\"علامة\",\"علامتان\",\"علامات\"),\" \")","v":""},{"$f":"IF(COUNT(K114)=1,B_Only(K114,1,1,2,\"علامة\",\"علامتان\",\"علامات\"),\" \")","v":""},{"$f":"IF(COUNT(L114)=1,B_Only(L114,1,1,2,\"علامة\",\"علامتان\",\"علامات\"),\" \")","v":""},{"$f":"IF(COUNT(M114)=1,B_Only(M114,1,1,2,\"علامة\",\"علامتان\",\"علامات\"),\" \")","v":""},{"$f":"IF(COUNT(N114)=1,B_Only(N114,1,1,2,\"علامة\",\"علامتان\",\"علامات\"),\" \")","v":""},{"$f":"IF(COUNT(O114)=1,B_Only(O114,1,1,2,\"علامة\",\"علامتان\",\"علامات\"),\" \")","v":""},{"$f":"IF(COUNT(P114)=1,B_Only(P114,1,1,2,\"علامة\",\"علامتان\",\"علامات\"),\" \")","v":""},{"$f":"IF(COUNT(Q114)=1,B_Only(Q114,1,1,2,\"علامة\",\"علامتان\",\"علامات\"),\" \")","v":""},{"$f":"IF(COUNT(R114)=1,B_Only(R114,1,1,2,\"علامة\",\"علامتان\",\"علامات\"),\" \")","v":""},{"$f":"IF(COUNT(S114)=1,B_Only(S114,1,1,2,\"علامة\",\"علامتان\",\"علامات\"),\" \")","v":""},{"$f":"IF(COUNT(T114)=1,B_Only(T114,1,1,2,\"علامة\",\"علامتان\",\"علامات\"),\" \")","v":""},{"$f":"IF(COUNT(U114)=1,B_Only(U114,1,1,2,\"علامة\",\"علامتان\",\"علامات\"),\" \")","v":""}]
[null,null,null,null,null,null,null,null,null,null,null,null,null,null,null,null,null,null,null,null,null,null,null,null,null,{"$f":"IF(COUNT(Y115)=1, B_Only(INT(Y115),1,0,2,\"بالمئة\",\"بالمئة\",\"بالمئة\") &\" و  \" &B_Only((Y115-INT(Y115))*100,1,0,2,\"عشر\",\"عشران\",\"اعشار\"),\" \")","v":""},{"$f":"IF(COUNT(H115)=1,B_Only(H115,1,1,2,\"علامة\",\"علامتان\",\"علامات\"),\" \")","v":""},{"$f":"IF(COUNT(I115)=1,B_Only(I115,1,1,2,\"علامة\",\"علامتان\",\"علامات\"),\" \")","v":""},{"$f":"IF(COUNT(J115)=1,B_Only(J115,1,1,2,\"علامة\",\"علامتان\",\"علامات\"),\" \")","v":""},{"$f":"IF(COUNT(K115)=1,B_Only(K115,1,1,2,\"علامة\",\"علامتان\",\"علامات\"),\" \")","v":""},{"$f":"IF(COUNT(L115)=1,B_Only(L115,1,1,2,\"علامة\",\"علامتان\",\"علامات\"),\" \")","v":""},{"$f":"IF(COUNT(M115)=1,B_Only(M115,1,1,2,\"علامة\",\"علامتان\",\"علامات\"),\" \")","v":""},{"$f":"IF(COUNT(N115)=1,B_Only(N115,1,1,2,\"علامة\",\"علامتان\",\"علامات\"),\" \")","v":""},{"$f":"IF(COUNT(O115)=1,B_Only(O115,1,1,2,\"علامة\",\"علامتان\",\"علامات\"),\" \")","v":""},{"$f":"IF(COUNT(P115)=1,B_Only(P115,1,1,2,\"علامة\",\"علامتان\",\"علامات\"),\" \")","v":""},{"$f":"IF(COUNT(Q115)=1,B_Only(Q115,1,1,2,\"علامة\",\"علامتان\",\"علامات\"),\" \")","v":""},{"$f":"IF(COUNT(R115)=1,B_Only(R115,1,1,2,\"علامة\",\"علامتان\",\"علامات\"),\" \")","v":""},{"$f":"IF(COUNT(S115)=1,B_Only(S115,1,1,2,\"علامة\",\"علامتان\",\"علامات\"),\" \")","v":""},{"$f":"IF(COUNT(T115)=1,B_Only(T115,1,1,2,\"علامة\",\"علامتان\",\"علامات\"),\" \")","v":""},{"$f":"IF(COUNT(U115)=1,B_Only(U115,1,1,2,\"علامة\",\"علامتان\",\"علامات\"),\" \")","v":""}]
[null,null,null,null,null,null,null,null,null,null,null,null,null,null,null,null,null,null,null,null,null,null,null,null,null,{"$f":"IF(COUNT(Y116)=1, B_Only(INT(Y116),1,0,2,\"بالمئة\",\"بالمئة\",\"بالمئة\") &\" و  \" &B_Only((Y116-INT(Y116))*100,1,0,2,\"عشر\",\"عشران\",\"اعشار\"),\" \")","v":""},{"$f":"IF(COUNT(H116)=1,B_Only(H116,1,1,2,\"علامة\",\"علامتان\",\"علامات\"),\" \")","v":""},{"$f":"IF(COUNT(I116)=1,B_Only(I116,1,1,2,\"علامة\",\"علامتان\",\"علامات\"),\" \")","v":""},{"$f":"IF(COUNT(J116)=1,B_Only(J116,1,1,2,\"علامة\",\"علامتان\",\"علامات\"),\" \")","v":""},{"$f":"IF(COUNT(K116)=1,B_Only(K116,1,1,2,\"علامة\",\"علامتان\",\"علامات\"),\" \")","v":""},{"$f":"IF(COUNT(L116)=1,B_Only(L116,1,1,2,\"علامة\",\"علامتان\",\"علامات\"),\" \")","v":""},{"$f":"IF(COUNT(M116)=1,B_Only(M116,1,1,2,\"علامة\",\"علامتان\",\"علامات\"),\" \")","v":""},{"$f":"IF(COUNT(N116)=1,B_Only(N116,1,1,2,\"علامة\",\"علامتان\",\"علامات\"),\" \")","v":""},{"$f":"IF(COUNT(O116)=1,B_Only(O116,1,1,2,\"علامة\",\"علامتان\",\"علامات\"),\" \")","v":""},{"$f":"IF(COUNT(P116)=1,B_Only(P116,1,1,2,\"علامة\",\"علامتان\",\"علامات\"),\" \")","v":""},{"$f":"IF(COUNT(Q116)=1,B_Only(Q116,1,1,2,\"علامة\",\"علامتان\",\"علامات\"),\" \")","v":""},{"$f":"IF(COUNT(R116)=1,B_Only(R116,1,1,2,\"علامة\",\"علامتان\",\"علامات\"),\" \")","v":""},{"$f":"IF(COUNT(S116)=1,B_Only(S116,1,1,2,\"علامة\",\"علامتان\",\"علامات\"),\" \")","v":""},{"$f":"IF(COUNT(T116)=1,B_Only(T116,1,1,2,\"علامة\",\"علامتان\",\"علامات\"),\" \")","v":""},{"$f":"IF(COUNT(U116)=1,B_Only(U116,1,1,2,\"علامة\",\"علامتان\",\"علامات\"),\" \")","v":""}]
[null,null,null,null,null,null,null,null,null,null,null,null,null,null,null,null,null,null,null,null,null,null,null,null,null,{"$f":"IF(COUNT(Y117)=1, B_Only(INT(Y117),1,0,2,\"بالمئة\",\"بالمئة\",\"بالمئة\") &\" و  \" &B_Only((Y117-INT(Y117))*100,1,0,2,\"عشر\",\"عشران\",\"اعشار\"),\" \")","v":""},{"$f":"IF(COUNT(H117)=1,B_Only(H117,1,1,2,\"علامة\",\"علامتان\",\"علامات\"),\" \")","v":""},{"$f":"IF(COUNT(I117)=1,B_Only(I117,1,1,2,\"علامة\",\"علامتان\",\"علامات\"),\" \")","v":""},{"$f":"IF(COUNT(J117)=1,B_Only(J117,1,1,2,\"علامة\",\"علامتان\",\"علامات\"),\" \")","v":""},{"$f":"IF(COUNT(K117)=1,B_Only(K117,1,1,2,\"علامة\",\"علامتان\",\"علامات\"),\" \")","v":""},{"$f":"IF(COUNT(L117)=1,B_Only(L117,1,1,2,\"علامة\",\"علامتان\",\"علامات\"),\" \")","v":""},{"$f":"IF(COUNT(M117)=1,B_Only(M117,1,1,2,\"علامة\",\"علامتان\",\"علامات\"),\" \")","v":""},{"$f":"IF(COUNT(N117)=1,B_Only(N117,1,1,2,\"علامة\",\"علامتان\",\"علامات\"),\" \")","v":""},{"$f":"IF(COUNT(O117)=1,B_Only(O117,1,1,2,\"علامة\",\"علامتان\",\"علامات\"),\" \")","v":""},{"$f":"IF(COUNT(P117)=1,B_Only(P117,1,1,2,\"علامة\",\"علامتان\",\"علامات\"),\" \")","v":""},{"$f":"IF(COUNT(Q117)=1,B_Only(Q117,1,1,2,\"علامة\",\"علامتان\",\"علامات\"),\" \")","v":""},{"$f":"IF(COUNT(R117)=1,B_Only(R117,1,1,2,\"علامة\",\"علامتان\",\"علامات\"),\" \")","v":""},{"$f":"IF(COUNT(S117)=1,B_Only(S117,1,1,2,\"علامة\",\"علامتان\",\"علامات\"),\" \")","v":""},{"$f":"IF(COUNT(T117)=1,B_Only(T117,1,1,2,\"علامة\",\"علامتان\",\"علامات\"),\" \")","v":""},{"$f":"IF(COUNT(U117)=1,B_Only(U117,1,1,2,\"علامة\",\"علامتان\",\"علامات\"),\" \")","v":""}]
[null,null,null,null,null,null,null,null,null,null,null,null,null,null,null,null,null,null,null,null,null,null,null,null,null,{"$f":"IF(COUNT(Y118)=1, B_Only(INT(Y118),1,0,2,\"بالمئة\",\"بالمئة\",\"بالمئة\") &\" و  \" &B_Only((Y118-INT(Y118))*100,1,0,2,\"عشر\",\"عشران\",\"اعشار\"),\" \")","v":""},{"$f":"IF(COUNT(H118)=1,B_Only(H118,1,1,2,\"علامة\",\"علامتان\",\"علامات\"),\" \")","v":""},{"$f":"IF(COUNT(I118)=1,B_Only(I118,1,1,2,\"علامة\",\"علامتان\",\"علامات\"),\" \")","v":""},{"$f":"IF(COUNT(J118)=1,B_Only(J118,1,1,2,\"علامة\",\"علامتان\",\"علامات\"),\" \")","v":""},{"$f":"IF(COUNT(K118)=1,B_Only(K118,1,1,2,\"علامة\",\"علامتان\",\"علامات\"),\" \")","v":""},{"$f":"IF(COUNT(L118)=1,B_Only(L118,1,1,2,\"علامة\",\"علامتان\",\"علامات\"),\" \")","v":""},{"$f":"IF(COUNT(M118)=1,B_Only(M118,1,1,2,\"علامة\",\"علامتان\",\"علامات\"),\" \")","v":""},{"$f":"IF(COUNT(N118)=1,B_Only(N118,1,1,2,\"علامة\",\"علامتان\",\"علامات\"),\" \")","v":""},{"$f":"IF(COUNT(O118)=1,B_Only(O118,1,1,2,\"علامة\",\"علامتان\",\"علامات\"),\" \")","v":""},{"$f":"IF(COUNT(P118)=1,B_Only(P118,1,1,2,\"علامة\",\"علامتان\",\"علامات\"),\" \")","v":""},{"$f":"IF(COUNT(Q118)=1,B_Only(Q118,1,1,2,\"علامة\",\"علامتان\",\"علامات\"),\" \")","v":""},{"$f":"IF(COUNT(R118)=1,B_Only(R118,1,1,2,\"علامة\",\"علامتان\",\"علامات\"),\" \")","v":""},{"$f":"IF(COUNT(S118)=1,B_Only(S118,1,1,2,\"علامة\",\"علامتان\",\"علامات\"),\" \")","v":""},{"$f":"IF(COUNT(T118)=1,B_Only(T118,1,1,2,\"علامة\",\"علامتان\",\"علامات\"),\" \")","v":""},{"$f":"IF(COUNT(U118)=1,B_Only(U118,1,1,2,\"علامة\",\"علامتان\",\"علامات\"),\" \")","v":""}]
[null,null,null,null,null,null,null,null,null,null,null,null,null,null,null,null,null,null,null,null,null,null,null,null,null,{"$f":"IF(COUNT(Y119)=1, B_Only(INT(Y119),1,0,2,\"بالمئة\",\"بالمئة\",\"بالمئة\") &\" و  \" &B_Only((Y119-INT(Y119))*100,1,0,2,\"عشر\",\"عشران\",\"اعشار\"),\" \")","v":""},{"$f":"IF(COUNT(H119)=1,B_Only(H119,1,1,2,\"علامة\",\"علامتان\",\"علامات\"),\" \")","v":""},{"$f":"IF(COUNT(I119)=1,B_Only(I119,1,1,2,\"علامة\",\"علامتان\",\"علامات\"),\" \")","v":""},{"$f":"IF(COUNT(J119)=1,B_Only(J119,1,1,2,\"علامة\",\"علامتان\",\"علامات\"),\" \")","v":""},{"$f":"IF(COUNT(K119)=1,B_Only(K119,1,1,2,\"علامة\",\"علامتان\",\"علامات\"),\" \")","v":""},{"$f":"IF(COUNT(L119)=1,B_Only(L119,1,1,2,\"علامة\",\"علامتان\",\"علامات\"),\" \")","v":""},{"$f":"IF(COUNT(M119)=1,B_Only(M119,1,1,2,\"علامة\",\"علامتان\",\"علامات\"),\" \")","v":""},{"$f":"IF(COUNT(N119)=1,B_Only(N119,1,1,2,\"علامة\",\"علامتان\",\"علامات\"),\" \")","v":""},{"$f":"IF(COUNT(O119)=1,B_Only(O119,1,1,2,\"علامة\",\"علامتان\",\"علامات\"),\" \")","v":""},{"$f":"IF(COUNT(P119)=1,B_Only(P119,1,1,2,\"علامة\",\"علامتان\",\"علامات\"),\" \")","v":""},{"$f":"IF(COUNT(Q119)=1,B_Only(Q119,1,1,2,\"علامة\",\"علامتان\",\"علامات\"),\" \")","v":""},{"$f":"IF(COUNT(R119)=1,B_Only(R119,1,1,2,\"علامة\",\"علامتان\",\"علامات\"),\" \")","v":""},{"$f":"IF(COUNT(S119)=1,B_Only(S119,1,1,2,\"علامة\",\"علامتان\",\"علامات\"),\" \")","v":""},{"$f":"IF(COUNT(T119)=1,B_Only(T119,1,1,2,\"علامة\",\"علامتان\",\"علامات\"),\" \")","v":""},{"$f":"IF(COUNT(U119)=1,B_Only(U119,1,1,2,\"علامة\",\"علامتان\",\"علامات\"),\" \")","v":""}]
[null,null,null,null,null,null,null,null,null,null,null,null,null,null,null,null,null,null,null,null,null,null,null,null,null,{"$f":"IF(COUNT(Y120)=1, B_Only(INT(Y120),1,0,2,\"بالمئة\",\"بالمئة\",\"بالمئة\") &\" و  \" &B_Only((Y120-INT(Y120))*100,1,0,2,\"عشر\",\"عشران\",\"اعشار\"),\" \")","v":""},{"$f":"IF(COUNT(H120)=1,B_Only(H120,1,1,2,\"علامة\",\"علامتان\",\"علامات\"),\" \")","v":""},{"$f":"IF(COUNT(I120)=1,B_Only(I120,1,1,2,\"علامة\",\"علامتان\",\"علامات\"),\" \")","v":""},{"$f":"IF(COUNT(J120)=1,B_Only(J120,1,1,2,\"علامة\",\"علامتان\",\"علامات\"),\" \")","v":""},{"$f":"IF(COUNT(K120)=1,B_Only(K120,1,1,2,\"علامة\",\"علامتان\",\"علامات\"),\" \")","v":""},{"$f":"IF(COUNT(L120)=1,B_Only(L120,1,1,2,\"علامة\",\"علامتان\",\"علامات\"),\" \")","v":""},{"$f":"IF(COUNT(M120)=1,B_Only(M120,1,1,2,\"علامة\",\"علامتان\",\"علامات\"),\" \")","v":""},{"$f":"IF(COUNT(N120)=1,B_Only(N120,1,1,2,\"علامة\",\"علامتان\",\"علامات\"),\" \")","v":""},{"$f":"IF(COUNT(O120)=1,B_Only(O120,1,1,2,\"علامة\",\"علامتان\",\"علامات\"),\" \")","v":""},{"$f":"IF(COUNT(P120)=1,B_Only(P120,1,1,2,\"علامة\",\"علامتان\",\"علامات\"),\" \")","v":""},{"$f":"IF(COUNT(Q120)=1,B_Only(Q120,1,1,2,\"علامة\",\"علامتان\",\"علامات\"),\" \")","v":""},{"$f":"IF(COUNT(R120)=1,B_Only(R120,1,1,2,\"علامة\",\"علامتان\",\"علامات\"),\" \")","v":""},{"$f":"IF(COUNT(S120)=1,B_Only(S120,1,1,2,\"علامة\",\"علامتان\",\"علامات\"),\" \")","v":""},{"$f":"IF(COUNT(T120)=1,B_Only(T120,1,1,2,\"علامة\",\"علامتان\",\"علامات\"),\" \")","v":""},{"$f":"IF(COUNT(U120)=1,B_Only(U120,1,1,2,\"علامة\",\"علامتان\",\"علامات\"),\" \")","v":""}]
[null,null,null,null,null,null,null,null,null,null,null,null,null,null,null,null,null,null,null,null,null,null,null,null,null,{"$f":"IF(COUNT(Y121)=1, B_Only(INT(Y121),1,0,2,\"بالمئة\",\"بالمئة\",\"بالمئة\") &\" و  \" &B_Only((Y121-INT(Y121))*100,1,0,2,\"عشر\",\"عشران\",\"اعشار\"),\" \")","v":""},{"$f":"IF(COUNT(H121)=1,B_Only(H121,1,1,2,\"علامة\",\"علامتان\",\"علامات\"),\" \")","v":""},{"$f":"IF(COUNT(I121)=1,B_Only(I121,1,1,2,\"علامة\",\"علامتان\",\"علامات\"),\" \")","v":""},{"$f":"IF(COUNT(J121)=1,B_Only(J121,1,1,2,\"علامة\",\"علامتان\",\"علامات\"),\" \")","v":""},{"$f":"IF(COUNT(K121)=1,B_Only(K121,1,1,2,\"علامة\",\"علامتان\",\"علامات\"),\" \")","v":""},{"$f":"IF(COUNT(L121)=1,B_Only(L121,1,1,2,\"علامة\",\"علامتان\",\"علامات\"),\" \")","v":""},{"$f":"IF(COUNT(M121)=1,B_Only(M121,1,1,2,\"علامة\",\"علامتان\",\"علامات\"),\" \")","v":""},{"$f":"IF(COUNT(N121)=1,B_Only(N121,1,1,2,\"علامة\",\"علامتان\",\"علامات\"),\" \")","v":""},{"$f":"IF(COUNT(O121)=1,B_Only(O121,1,1,2,\"علامة\",\"علامتان\",\"علامات\"),\" \")","v":""},{"$f":"IF(COUNT(P121)=1,B_Only(P121,1,1,2,\"علامة\",\"علامتان\",\"علامات\"),\" \")","v":""},{"$f":"IF(COUNT(Q121)=1,B_Only(Q121,1,1,2,\"علامة\",\"علامتان\",\"علامات\"),\" \")","v":""},{"$f":"IF(COUNT(R121)=1,B_Only(R121,1,1,2,\"علامة\",\"علامتان\",\"علامات\"),\" \")","v":""},{"$f":"IF(COUNT(S121)=1,B_Only(S121,1,1,2,\"علامة\",\"علامتان\",\"علامات\"),\" \")","v":""},{"$f":"IF(COUNT(T121)=1,B_Only(T121,1,1,2,\"علامة\",\"علامتان\",\"علامات\"),\" \")","v":""},{"$f":"IF(COUNT(U121)=1,B_Only(U121,1,1,2,\"علامة\",\"علامتان\",\"علامات\"),\" \")","v":""}]
[null,null,null,null,null,null,null,null,null,null,null,null,null,null,null,null,null,null,null,null,null,null,null,null,null,{"$f":"IF(COUNT(Y122)=1, B_Only(INT(Y122),1,0,2,\"بالمئة\",\"بالمئة\",\"بالمئة\") &\" و  \" &B_Only((Y122-INT(Y122))*100,1,0,2,\"عشر\",\"عشران\",\"اعشار\"),\" \")","v":""},{"$f":"IF(COUNT(H122)=1,B_Only(H122,1,1,2,\"علامة\",\"علامتان\",\"علامات\"),\" \")","v":""},{"$f":"IF(COUNT(I122)=1,B_Only(I122,1,1,2,\"علامة\",\"علامتان\",\"علامات\"),\" \")","v":""},{"$f":"IF(COUNT(J122)=1,B_Only(J122,1,1,2,\"علامة\",\"علامتان\",\"علامات\"),\" \")","v":""},{"$f":"IF(COUNT(K122)=1,B_Only(K122,1,1,2,\"علامة\",\"علامتان\",\"علامات\"),\" \")","v":""},{"$f":"IF(COUNT(L122)=1,B_Only(L122,1,1,2,\"علامة\",\"علامتان\",\"علامات\"),\" \")","v":""},{"$f":"IF(COUNT(M122)=1,B_Only(M122,1,1,2,\"علامة\",\"علامتان\",\"علامات\"),\" \")","v":""},{"$f":"IF(COUNT(N122)=1,B_Only(N122,1,1,2,\"علامة\",\"علامتان\",\"علامات\"),\" \")","v":""},{"$f":"IF(COUNT(O122)=1,B_Only(O122,1,1,2,\"علامة\",\"علامتان\",\"علامات\"),\" \")","v":""},{"$f":"IF(COUNT(P122)=1,B_Only(P122,1,1,2,\"علامة\",\"علامتان\",\"علامات\"),\" \")","v":""},{"$f":"IF(COUNT(Q122)=1,B_Only(Q122,1,1,2,\"علامة\",\"علامتان\",\"علامات\"),\" \")","v":""},{"$f":"IF(COUNT(R122)=1,B_Only(R122,1,1,2,\"علامة\",\"علامتان\",\"علامات\"),\" \")","v":""},{"$f":"IF(COUNT(S122)=1,B_Only(S122,1,1,2,\"علامة\",\"علامتان\",\"علامات\"),\" \")","v":""},{"$f":"IF(COUNT(T122)=1,B_Only(T122,1,1,2,\"علامة\",\"علامتان\",\"علامات\"),\" \")","v":""},{"$f":"IF(COUNT(U122)=1,B_Only(U122,1,1,2,\"علامة\",\"علامتان\",\"علامات\"),\" \")","v":""}]
[null,null,null,null,null,null,null,null,null,null,null,null,null,null,null,null,null,null,null,null,null,null,null,null,null,{"$f":"IF(COUNT(Y123)=1, B_Only(INT(Y123),1,0,2,\"بالمئة\",\"بالمئة\",\"بالمئة\") &\" و  \" &B_Only((Y123-INT(Y123))*100,1,0,2,\"عشر\",\"عشران\",\"اعشار\"),\" \")","v":""},{"$f":"IF(COUNT(H123)=1,B_Only(H123,1,1,2,\"علامة\",\"علامتان\",\"علامات\"),\" \")","v":""},{"$f":"IF(COUNT(I123)=1,B_Only(I123,1,1,2,\"علامة\",\"علامتان\",\"علامات\"),\" \")","v":""},{"$f":"IF(COUNT(J123)=1,B_Only(J123,1,1,2,\"علامة\",\"علامتان\",\"علامات\"),\" \")","v":""},{"$f":"IF(COUNT(K123)=1,B_Only(K123,1,1,2,\"علامة\",\"علامتان\",\"علامات\"),\" \")","v":""},{"$f":"IF(COUNT(L123)=1,B_Only(L123,1,1,2,\"علامة\",\"علامتان\",\"علامات\"),\" \")","v":""},{"$f":"IF(COUNT(M123)=1,B_Only(M123,1,1,2,\"علامة\",\"علامتان\",\"علامات\"),\" \")","v":""},{"$f":"IF(COUNT(N123)=1,B_Only(N123,1,1,2,\"علامة\",\"علامتان\",\"علامات\"),\" \")","v":""},{"$f":"IF(COUNT(O123)=1,B_Only(O123,1,1,2,\"علامة\",\"علامتان\",\"علامات\"),\" \")","v":""},{"$f":"IF(COUNT(P123)=1,B_Only(P123,1,1,2,\"علامة\",\"علامتان\",\"علامات\"),\" \")","v":""},{"$f":"IF(COUNT(Q123)=1,B_Only(Q123,1,1,2,\"علامة\",\"علامتان\",\"علامات\"),\" \")","v":""},{"$f":"IF(COUNT(R123)=1,B_Only(R123,1,1,2,\"علامة\",\"علامتان\",\"علامات\"),\" \")","v":""},{"$f":"IF(COUNT(S123)=1,B_Only(S123,1,1,2,\"علامة\",\"علامتان\",\"علامات\"),\" \")","v":""},{"$f":"IF(COUNT(T123)=1,B_Only(T123,1,1,2,\"علامة\",\"علامتان\",\"علامات\"),\" \")","v":""},{"$f":"IF(COUNT(U123)=1,B_Only(U123,1,1,2,\"علامة\",\"علامتان\",\"علامات\"),\" \")","v":""}]
[null,null,null,null,null,null,null,null,null,null,null,null,null,null,null,null,null,null,null,null,null,null,null,null,null,{"$f":"IF(COUNT(Y124)=1, B_Only(INT(Y124),1,0,2,\"بالمئة\",\"بالمئة\",\"بالمئة\") &\" و  \" &B_Only((Y124-INT(Y124))*100,1,0,2,\"عشر\",\"عشران\",\"اعشار\"),\" \")","v":""},{"$f":"IF(COUNT(H124)=1,B_Only(H124,1,1,2,\"علامة\",\"علامتان\",\"علامات\"),\" \")","v":""},{"$f":"IF(COUNT(I124)=1,B_Only(I124,1,1,2,\"علامة\",\"علامتان\",\"علامات\"),\" \")","v":""},{"$f":"IF(COUNT(J124)=1,B_Only(J124,1,1,2,\"علامة\",\"علامتان\",\"علامات\"),\" \")","v":""},{"$f":"IF(COUNT(K124)=1,B_Only(K124,1,1,2,\"علامة\",\"علامتان\",\"علامات\"),\" \")","v":""},{"$f":"IF(COUNT(L124)=1,B_Only(L124,1,1,2,\"علامة\",\"علامتان\",\"علامات\"),\" \")","v":""},{"$f":"IF(COUNT(M124)=1,B_Only(M124,1,1,2,\"علامة\",\"علامتان\",\"علامات\"),\" \")","v":""},{"$f":"IF(COUNT(N124)=1,B_Only(N124,1,1,2,\"علامة\",\"علامتان\",\"علامات\"),\" \")","v":""},{"$f":"IF(COUNT(O124)=1,B_Only(O124,1,1,2,\"علامة\",\"علامتان\",\"علامات\"),\" \")","v":""},{"$f":"IF(COUNT(P124)=1,B_Only(P124,1,1,2,\"علامة\",\"علامتان\",\"علامات\"),\" \")","v":""},{"$f":"IF(COUNT(Q124)=1,B_Only(Q124,1,1,2,\"علامة\",\"علامتان\",\"علامات\"),\" \")","v":""},{"$f":"IF(COUNT(R124)=1,B_Only(R124,1,1,2,\"علامة\",\"علامتان\",\"علامات\"),\" \")","v":""},{"$f":"IF(COUNT(S124)=1,B_Only(S124,1,1,2,\"علامة\",\"علامتان\",\"علامات\"),\" \")","v":""},{"$f":"IF(COUNT(T124)=1,B_Only(T124,1,1,2,\"علامة\",\"علامتان\",\"علامات\"),\" \")","v":""},{"$f":"IF(COUNT(U124)=1,B_Only(U124,1,1,2,\"علامة\",\"علامتان\",\"علامات\"),\" \")","v":""}]
[null,null,null,null,null,null,null,null,null,null,null,null,null,null,null,null,null,null,null,null,null,null,null,null,null,{"$f":"IF(COUNT(Y125)=1, B_Only(INT(Y125),1,0,2,\"بالمئة\",\"بالمئة\",\"بالمئة\") &\" و  \" &B_Only((Y125-INT(Y125))*100,1,0,2,\"عشر\",\"عشران\",\"اعشار\"),\" \")","v":""},{"$f":"IF(COUNT(H125)=1,B_Only(H125,1,1,2,\"علامة\",\"علامتان\",\"علامات\"),\" \")","v":""},{"$f":"IF(COUNT(I125)=1,B_Only(I125,1,1,2,\"علامة\",\"علامتان\",\"علامات\"),\" \")","v":""},{"$f":"IF(COUNT(J125)=1,B_Only(J125,1,1,2,\"علامة\",\"علامتان\",\"علامات\"),\" \")","v":""},{"$f":"IF(COUNT(K125)=1,B_Only(K125,1,1,2,\"علامة\",\"علامتان\",\"علامات\"),\" \")","v":""},{"$f":"IF(COUNT(L125)=1,B_Only(L125,1,1,2,\"علامة\",\"علامتان\",\"علامات\"),\" \")","v":""},{"$f":"IF(COUNT(M125)=1,B_Only(M125,1,1,2,\"علامة\",\"علامتان\",\"علامات\"),\" \")","v":""},{"$f":"IF(COUNT(N125)=1,B_Only(N125,1,1,2,\"علامة\",\"علامتان\",\"علامات\"),\" \")","v":""},{"$f":"IF(COUNT(O125)=1,B_Only(O125,1,1,2,\"علامة\",\"علامتان\",\"علامات\"),\" \")","v":""},{"$f":"IF(COUNT(P125)=1,B_Only(P125,1,1,2,\"علامة\",\"علامتان\",\"علامات\"),\" \")","v":""},{"$f":"IF(COUNT(Q125)=1,B_Only(Q125,1,1,2,\"علامة\",\"علامتان\",\"علامات\"),\" \")","v":""},{"$f":"IF(COUNT(R125)=1,B_Only(R125,1,1,2,\"علامة\",\"علامتان\",\"علامات\"),\" \")","v":""},{"$f":"IF(COUNT(S125)=1,B_Only(S125,1,1,2,\"علامة\",\"علامتان\",\"علامات\"),\" \")","v":""},{"$f":"IF(COUNT(T125)=1,B_Only(T125,1,1,2,\"علامة\",\"علامتان\",\"علامات\"),\" \")","v":""},{"$f":"IF(COUNT(U125)=1,B_Only(U125,1,1,2,\"علامة\",\"علامتان\",\"علامات\"),\" \")","v":""}]
[null,null,null,null,null,null,null,null,null,null,null,null,null,null,null,null,null,null,null,null,null,null,null,null,null,{"$f":"IF(COUNT(Y126)=1, B_Only(INT(Y126),1,0,2,\"بالمئة\",\"بالمئة\",\"بالمئة\") &\" و  \" &B_Only((Y126-INT(Y126))*100,1,0,2,\"عشر\",\"عشران\",\"اعشار\"),\" \")","v":""}]

{"sheet":"temp","index":1,"n_rows":16,"n_cols":6,"rows_kept":16,"cut":false,"hidden":false,"merged":[]}
["عام",null,null,"التربية الإسلامية",null,{"$f":"E1/2","v":0}]
["مديرية ",null,null,"اللغة العربية",null,{"$f":"E2/2","v":0}]
["مدرسة",null,null,"اللغة الانجليزية",null,0]
["صف",null,null,"الرياضيات",null,0]
["شعبة",null,null,"التربية الاجتماعية والوطنية",null,0]
["مربي الصف",null,null,"العلـــوم",null,0]
["مدير المدرسة",null,null,"التربية الفنية",null,0]
[null,null,null,"التربية الرياضية",null,0]
["قاسم المعدل",null,null,"ثقافة مالية",null,0]
["عدد الطلاب ",{"$f":"COUNT(hot!A2:A124)","v":0},null,"التربية المهنية",null,0]
[null,null,null,"الحاسوب",null,0]
[null,null,null,"الموسيقى والاناشيد",null,0]
["حالة الصف",null,null,"الدين المسيحي ",null,0]
[null,null,null,null,{"$f":"(E1+E2+E3+E4+E5+E6+E9+E10+E11)/100","v":0}]
[]
[null,null,null,{"$f":"B4&\" ( \"&B5&\" )\"","v":" (  )"}]

{"sheet":"x","index":2,"n_rows":35,"n_cols":7,"rows_kept":35,"cut":false,"hidden":false,"merged":[[24,1,24,2],[20,1,20,2],[24,6,24,9],[20,6,20,9],[14,6,14,9],[21,1,21,2],[21,6,21,9],[16,1,16,2],[16,6,16,9],[17,1,17,2],[17,6,17,9],[15,1,15,2],[15,6,15,9],[0,1,0,9],[4,1,4,3],[4,4,4,9],[25,1,25,2],[25,6,25,9],[22,1,22,2],[22,6,22,9],[23,1,23,2],[23,6,23,9],[18,1,18,2],[18,6,18,9],[19,1,19,2],[19,6,19,9],[6,1,6,6],[2,1,2,9],[10,1,11,2],[3,1,3,9],[7,2,7,4],[7,5,7,7],[8,5,8,7],[8,2,8,4],[6,7,6,9],[7,8,7,9],[8,8,8,9],[12,1,12,2],[12,6,12,9],[13,1,13,2],[14,1,14,2],[13,6,13,9],[10,3,11,3],[10,4,11,4],[10,5,10,9],[11,6,11,9],[37,7,37,9],[27,5,27,9],[27,3,27,4],[28,3,28,4],[28,5,28,9],[29,3,29,4],[29,5,29,9],[27,1,27,2],[28,1,28,2],[29,1,29,2],[38,7,39,9],[34,1,35,9],[37,1,37,3],[38,1,39,3],[30,1,30,2],[30,3,30,4],[30,5,30,9]]}
[null,"بسم الله الرحمن الرحيم "]
[]
[null,"المملكة الأردنية الهاشمية "]
[null,"وزارة التربية والتعليم "]
[null,"مـديرية التــربية و التــعليم:"]
[]
[null,"نتيجة الطالب في الفصل الدراسي الأول للعام الدراسي "]
[null,"الاسم :",null,null,null,"مكان الولادة و تاريخها :"]
[null,"المدرسة:",null,null,null,"الصف والشعبة:"]
[]
[null,"المبحث",null,"النهاية\n العظمى","النهاية \nالصغرى","علامة الطالب المستحقة في المبحث"]
[null,null,null,null,null,"رقما","العلامـــة بالحــــــــــــروف"]
[null,"التربية الإسلامية",null,100,{"$f":"D13/2","v":50}]
[null,"اللغة العربية",null,100,{"$f":"D14/2","v":50}]
[null,"اللغة الانجليزية",null,100,50]
[null,"الرياضيات",null,100,50]
[null,"التربية الاجتماعية والوطنية",null,100,50]
[null,"العلـــوم",null,100,50]
[null,"التربية الفنية",null,100,50]
[null,"التربية الرياضية",null,100,50]
[null,"الموسيقى والاناشيد",null,100,{"$f":"D21/2","v":50},""]
[null,"ثقافة مالية",null,100,50]
[null,"التربية المهنية",null,100,50]
[null,"الحاسوب",null,100,50,""]
[null,"اللغة الفرنسية",null,100,50]
[null,"الدين المسيحي ",null,200,100]
[]
[null,null,null,"رقما ",null,"بالحروف"]
[null,"معدل الطالب المئوي",null," ",null," "]
[null,"مجموع العلامات ",null,null,null," "]
[null,"ترتيب الطالب في الصف "]
[]
[]
[null,"ملاحظات :"]
[null,"المباحث ( التربية الفنية و التربية الرياضية و الموسيقى والأناشيد و الدين المسيحي) لا تحتسب في المجموع ولا المعدل  "]